BEGIN:VCALENDAR
VERSION:2.0
PRODID:-//The Harpeth Hotel - ECPv6.15.20//NONSGML v1.0//EN
CALSCALE:GREGORIAN
METHOD:PUBLISH
X-WR-CALNAME:The Harpeth Hotel
X-ORIGINAL-URL:https://harpethhotel.com
X-WR-CALDESC:Events for The Harpeth Hotel
REFRESH-INTERVAL;VALUE=DURATION:PT1H
X-Robots-Tag:noindex
X-PUBLISHED-TTL:PT1H
BEGIN:VTIMEZONE
TZID:America/New_York
BEGIN:DAYLIGHT
TZOFFSETFROM:-0500
TZOFFSETTO:-0400
TZNAME:EDT
DTSTART:20210314T070000
END:DAYLIGHT
BEGIN:STANDARD
TZOFFSETFROM:-0400
TZOFFSETTO:-0500
TZNAME:EST
DTSTART:20211107T060000
END:STANDARD
BEGIN:DAYLIGHT
TZOFFSETFROM:-0500
TZOFFSETTO:-0400
TZNAME:EDT
DTSTART:20220313T070000
END:DAYLIGHT
BEGIN:STANDARD
TZOFFSETFROM:-0400
TZOFFSETTO:-0500
TZNAME:EST
DTSTART:20221106T060000
END:STANDARD
BEGIN:DAYLIGHT
TZOFFSETFROM:-0500
TZOFFSETTO:-0400
TZNAME:EDT
DTSTART:20230312T070000
END:DAYLIGHT
BEGIN:STANDARD
TZOFFSETFROM:-0400
TZOFFSETTO:-0500
TZNAME:EST
DTSTART:20231105T060000
END:STANDARD
END:VTIMEZONE
BEGIN:VEVENT
DTSTART;TZID=America/New_York:20221231T190000
DTEND;TZID=America/New_York:20221231T220000
DTSTAMP:20260421T060703
CREATED:20221114T055551Z
LAST-MODIFIED:20221114T055551Z
UID:7152-1672513200-1672524000@harpethhotel.com
SUMMARY:A New Year's Eve Celebration with John Mark-McGaha
DESCRIPTION:Forget those old acquaintances and come count down the clock with Studio Tenn and Special Guest John Mark-McGaha on December 31st at the Harpeth Hotel! This one-night holiday extravaganza is sure to become a new holiday tradition. Ticket price includes plated four-course dinner with wine pairings\, and finishes with champagne to toast to the New Year! \nDoors to the Riverside Ballroom in The Harpeth Hotel open at 6:45pm. Dinner with wine pairings at 7:00pm and performance by John-Mark McGaha at 8:30pm. After the show\, join other Harpeth Hotel Guests in the Lobby from 10:00pm-12:00am for drinks and dancing to ring in the New Year at midnight! \nPlease email Rachel Steiner\, rachelsteiner@studiotenn.org\, if you have any food allergies\, sensitivities\, substitutions\, or dietary restrictions.
URL:https://harpethhotel.com/happenings/a-new-years-eve-celebration-with-john-mark-mcgaha/
LOCATION:The Harpeth Hotel\, 130 2nd Ave N\, Franklin\, TN\, 37064
CATEGORIES:Eat & Drink,Holidays
ATTACH;FMTTYPE=image/jpeg:https://harpethhotel.com/wp-content/uploads/2022/11/NYECabaret11x17Poster.jpg
END:VEVENT
END:VCALENDAR