BEGIN:VCALENDAR
VERSION:2.0
PRODID:-//The Harpeth Hotel - ECPv6.15.20//NONSGML v1.0//EN
CALSCALE:GREGORIAN
METHOD:PUBLISH
X-ORIGINAL-URL:https://harpethhotel.com
X-WR-CALDESC:Events for The Harpeth Hotel
REFRESH-INTERVAL;VALUE=DURATION:PT1H
X-Robots-Tag:noindex
X-PUBLISHED-TTL:PT1H
BEGIN:VTIMEZONE
TZID:America/New_York
BEGIN:DAYLIGHT
TZOFFSETFROM:-0500
TZOFFSETTO:-0400
TZNAME:EDT
DTSTART:20220313T070000
END:DAYLIGHT
BEGIN:STANDARD
TZOFFSETFROM:-0400
TZOFFSETTO:-0500
TZNAME:EST
DTSTART:20221106T060000
END:STANDARD
BEGIN:DAYLIGHT
TZOFFSETFROM:-0500
TZOFFSETTO:-0400
TZNAME:EDT
DTSTART:20230312T070000
END:DAYLIGHT
BEGIN:STANDARD
TZOFFSETFROM:-0400
TZOFFSETTO:-0500
TZNAME:EST
DTSTART:20231105T060000
END:STANDARD
BEGIN:DAYLIGHT
TZOFFSETFROM:-0500
TZOFFSETTO:-0400
TZNAME:EDT
DTSTART:20240310T070000
END:DAYLIGHT
BEGIN:STANDARD
TZOFFSETFROM:-0400
TZOFFSETTO:-0500
TZNAME:EST
DTSTART:20241103T060000
END:STANDARD
END:VTIMEZONE
BEGIN:VEVENT
DTSTART;TZID=America/New_York:20230422T110000
DTEND;TZID=America/New_York:20230422T200000
DTSTAMP:20260422T023636
CREATED:20230408T151339Z
LAST-MODIFIED:20230411T132841Z
UID:7784-1682161200-1682193600@harpethhotel.com
SUMMARY:World's Best Beer Garden
DESCRIPTION:
URL:https://harpethhotel.com/happenings/worlds-best-beer-garden/
LOCATION:TN
CATEGORIES:Activities,Eat & Drink
ATTACH;FMTTYPE=image/png:https://harpethhotel.com/wp-content/uploads/Beer-Garden-Full-Day-1-1-1.png
END:VEVENT
BEGIN:VEVENT
DTSTART;TZID=America/New_York:20230423T100000
DTEND;TZID=America/New_York:20230423T170000
DTSTAMP:20260422T023636
CREATED:20230408T151941Z
LAST-MODIFIED:20230408T151959Z
UID:7788-1682244000-1682269200@harpethhotel.com
SUMMARY:World's Best Beer Garden
DESCRIPTION:
URL:https://harpethhotel.com/happenings/worlds-best-beer-garden-2/
LOCATION:The Harpeth Hotel\, 130 2nd Ave N\, Franklin\, TN\, 37064
CATEGORIES:Activities,Eat & Drink
ATTACH;FMTTYPE=image/png:https://harpethhotel.com/wp-content/uploads/Beer-Garden-Full-Day-2-1.png
END:VEVENT
END:VCALENDAR