BEGIN:VCALENDAR
VERSION:2.0
PRODID:-//The Harpeth Hotel - ECPv6.15.20//NONSGML v1.0//EN
CALSCALE:GREGORIAN
METHOD:PUBLISH
X-ORIGINAL-URL:https://harpethhotel.com
X-WR-CALDESC:Events for The Harpeth Hotel
REFRESH-INTERVAL;VALUE=DURATION:PT1H
X-Robots-Tag:noindex
X-PUBLISHED-TTL:PT1H
BEGIN:VTIMEZONE
TZID:America/New_York
BEGIN:DAYLIGHT
TZOFFSETFROM:-0500
TZOFFSETTO:-0400
TZNAME:EDT
DTSTART:20230312T070000
END:DAYLIGHT
BEGIN:STANDARD
TZOFFSETFROM:-0400
TZOFFSETTO:-0500
TZNAME:EST
DTSTART:20231105T060000
END:STANDARD
BEGIN:DAYLIGHT
TZOFFSETFROM:-0500
TZOFFSETTO:-0400
TZNAME:EDT
DTSTART:20240310T070000
END:DAYLIGHT
BEGIN:STANDARD
TZOFFSETFROM:-0400
TZOFFSETTO:-0500
TZNAME:EST
DTSTART:20241103T060000
END:STANDARD
BEGIN:DAYLIGHT
TZOFFSETFROM:-0500
TZOFFSETTO:-0400
TZNAME:EDT
DTSTART:20250309T070000
END:DAYLIGHT
BEGIN:STANDARD
TZOFFSETFROM:-0400
TZOFFSETTO:-0500
TZNAME:EST
DTSTART:20251102T060000
END:STANDARD
END:VTIMEZONE
BEGIN:VEVENT
DTSTART;TZID=America/New_York:20240125T193000
DTEND;TZID=America/New_York:20240125T220000
DTSTAMP:20260421T131542
CREATED:20240102T153147Z
LAST-MODIFIED:20240102T153147Z
UID:8908-1706211000-1706220000@harpethhotel.com
SUMMARY:Songwriters At The Harpeth
DESCRIPTION:Please join us for Songwriters At The Harpeth hosted by Hall of Fame Songwriter Roger Murrah. For tickets scan the QR code.
URL:https://harpethhotel.com/happenings/songwriters-at-the-harpeth/
LOCATION:Riverside Ballroom\, 130 2nd Ave N\, Franklin\, TN\, 37064
CATEGORIES:Activities,Music
ATTACH;FMTTYPE=image/png:https://harpethhotel.com/wp-content/uploads/Screenshot-2024-01-02-093022.png
END:VEVENT
END:VCALENDAR