BEGIN:VCALENDAR
VERSION:2.0
PRODID:-//The Harpeth Hotel - ECPv6.15.20//NONSGML v1.0//EN
CALSCALE:GREGORIAN
METHOD:PUBLISH
X-ORIGINAL-URL:https://harpethhotel.com
X-WR-CALDESC:Events for The Harpeth Hotel
REFRESH-INTERVAL;VALUE=DURATION:PT1H
X-Robots-Tag:noindex
X-PUBLISHED-TTL:PT1H
BEGIN:VTIMEZONE
TZID:America/New_York
BEGIN:DAYLIGHT
TZOFFSETFROM:-0500
TZOFFSETTO:-0400
TZNAME:EDT
DTSTART:20230312T070000
END:DAYLIGHT
BEGIN:STANDARD
TZOFFSETFROM:-0400
TZOFFSETTO:-0500
TZNAME:EST
DTSTART:20231105T060000
END:STANDARD
BEGIN:DAYLIGHT
TZOFFSETFROM:-0500
TZOFFSETTO:-0400
TZNAME:EDT
DTSTART:20240310T070000
END:DAYLIGHT
BEGIN:STANDARD
TZOFFSETFROM:-0400
TZOFFSETTO:-0500
TZNAME:EST
DTSTART:20241103T060000
END:STANDARD
BEGIN:DAYLIGHT
TZOFFSETFROM:-0500
TZOFFSETTO:-0400
TZNAME:EDT
DTSTART:20250309T070000
END:DAYLIGHT
BEGIN:STANDARD
TZOFFSETFROM:-0400
TZOFFSETTO:-0500
TZNAME:EST
DTSTART:20251102T060000
END:STANDARD
END:VTIMEZONE
BEGIN:VEVENT
DTSTART;TZID=America/New_York:20240420T160000
DTEND;TZID=America/New_York:20240420T180000
DTSTAMP:20260421T091114
CREATED:20240403T160524Z
LAST-MODIFIED:20240403T160524Z
UID:9173-1713628800-1713636000@harpethhotel.com
SUMMARY:Courtyard Captures
DESCRIPTION:Join us before Prom to take pictures in our beautiful courtyard! We will be serving a delicious mocktail to add to the experience while you take your photographs. Each ticket will include a spot for each pair to use our courtyard during the allotted time. We will be queuing everyone through the lobby to allow each couple the opportunity to enjoy our courtyard and take their photos without interruptions. \nWhat to expect: \n\nEach pair (2 people) will have 10-15 minutes to take pictures in our courtyard\nDelicious mocktail to enjoy while you are waiting\nPlease note that you will be sharing the space with other couples from other schools. This is a private space that its open to the public so please be respectful.\n\nWe are looking forward to having you at The Harpeth and seeing you at your best!
URL:https://harpethhotel.com/happenings/courtyard-captures/
LOCATION:The Courtyard\, 130 2nd Ave N\, Franklin\, TN\, 370664\, United States
CATEGORIES:Activities
ATTACH;FMTTYPE=image/png:https://harpethhotel.com/wp-content/uploads/Screenshot-2024-04-03-110425.png
END:VEVENT
BEGIN:VEVENT
DTSTART;VALUE=DATE:20240427
DTEND;VALUE=DATE:20240429
DTSTAMP:20260421T091114
CREATED:20240418T142436Z
LAST-MODIFIED:20240418T151623Z
UID:9195-1714176000-1714348799@harpethhotel.com
SUMMARY:Main Street Festival
DESCRIPTION:Please join us for the 40th annual Main Street Festival. You will find Live Music\, Lemonade\, Free Kids Festival Meal with the purchase of a Adult Lunch\, Adult Beverages\, Bathrooms.
URL:https://harpethhotel.com/happenings/main-street-festival/
LOCATION:The Harpeth Hotel\, 130 2nd Ave N\, Franklin\, TN\, 37064
CATEGORIES:Activities,Eat & Drink,Music
ATTACH;FMTTYPE=image/png:https://harpethhotel.com/wp-content/uploads/Copy-of-Main-Street-Festival-Facebook-Post-1.png
END:VEVENT
BEGIN:VEVENT
DTSTART;TZID=America/New_York:20240428T150000
DTEND;TZID=America/New_York:20240428T170000
DTSTAMP:20260421T091114
CREATED:20240328T223129Z
LAST-MODIFIED:20240329T133238Z
UID:9153-1714316400-1714323600@harpethhotel.com
SUMMARY:Ceviche & Margarita Class
DESCRIPTION:Chef Led Hand- On Ceviche & Guacamole Making Experience + Hands on Margarita Demonstration with 1799 Mixologist + Tequila Tasting with Spirits Expert.
URL:https://harpethhotel.com/happenings/ceviche-margarita-class/
LOCATION:1799 Kitchen & Cocktails\, 130 2nd Ave N\, Franklin\, TN\, 37064
CATEGORIES:Activities,Eat & Drink
ATTACH;FMTTYPE=image/png:https://harpethhotel.com/wp-content/uploads/c-m.png
END:VEVENT
END:VCALENDAR