BEGIN:VCALENDAR
VERSION:2.0
PRODID:-//The Harpeth Hotel - ECPv6.15.20//NONSGML v1.0//EN
CALSCALE:GREGORIAN
METHOD:PUBLISH
X-ORIGINAL-URL:https://harpethhotel.com
X-WR-CALDESC:Events for The Harpeth Hotel
REFRESH-INTERVAL;VALUE=DURATION:PT1H
X-Robots-Tag:noindex
X-PUBLISHED-TTL:PT1H
BEGIN:VTIMEZONE
TZID:America/New_York
BEGIN:DAYLIGHT
TZOFFSETFROM:-0500
TZOFFSETTO:-0400
TZNAME:EDT
DTSTART:20240310T070000
END:DAYLIGHT
BEGIN:STANDARD
TZOFFSETFROM:-0400
TZOFFSETTO:-0500
TZNAME:EST
DTSTART:20241103T060000
END:STANDARD
BEGIN:DAYLIGHT
TZOFFSETFROM:-0500
TZOFFSETTO:-0400
TZNAME:EDT
DTSTART:20250309T070000
END:DAYLIGHT
BEGIN:STANDARD
TZOFFSETFROM:-0400
TZOFFSETTO:-0500
TZNAME:EST
DTSTART:20251102T060000
END:STANDARD
BEGIN:DAYLIGHT
TZOFFSETFROM:-0500
TZOFFSETTO:-0400
TZNAME:EDT
DTSTART:20260308T070000
END:DAYLIGHT
BEGIN:STANDARD
TZOFFSETFROM:-0400
TZOFFSETTO:-0500
TZNAME:EST
DTSTART:20261101T060000
END:STANDARD
END:VTIMEZONE
BEGIN:VEVENT
DTSTART;TZID=America/New_York:20251127T160000
DTEND;TZID=America/New_York:20251127T210000
DTSTAMP:20260422T130407
CREATED:20251017T155752Z
LAST-MODIFIED:20251017T163731Z
UID:10799-1764259200-1764277200@harpethhotel.com
SUMMARY:Thanksgiving Dinner at 1799 Kitchen & Bar Room
DESCRIPTION:Gather with us this Thanksgiving for a day of delicious celebration. Enjoy festive specials and brunch offerings from 10am to 10pm in out Bar & Lounge or join us for dinner service from 4pm to 9pm. A warm welcome and memorable meal await. \n  \n$48 – Roasted Turkey\, Cornbread Stuffing\, Brussels Sprouts & Mushrooms\, Mashed Potatoes\, Turkey Gravy\n$52 – 14oz Prime Rib\, Mashed Potato\, Mushrooms\, Au Jus\, Creamy Horseradish
URL:https://harpethhotel.com/happenings/thanksgiving-dinner-at-1799-kitchen-bar-room/
LOCATION:1799 Kitchen & Bar Room\, 130 2ND Ave N\, Franklin\, TN\, 37064
CATEGORIES:Eat & Drink,Holidays
ATTACH;FMTTYPE=image/jpeg:https://harpethhotel.com/wp-content/uploads/128A6152.jpg
END:VEVENT
END:VCALENDAR