BEGIN:VCALENDAR
VERSION:2.0
PRODID:-//The Harpeth Hotel - ECPv6.15.20//NONSGML v1.0//EN
CALSCALE:GREGORIAN
METHOD:PUBLISH
X-WR-CALNAME:The Harpeth Hotel
X-ORIGINAL-URL:https://harpethhotel.com
X-WR-CALDESC:Events for The Harpeth Hotel
REFRESH-INTERVAL;VALUE=DURATION:PT1H
X-Robots-Tag:noindex
X-PUBLISHED-TTL:PT1H
BEGIN:VTIMEZONE
TZID:America/New_York
BEGIN:DAYLIGHT
TZOFFSETFROM:-0500
TZOFFSETTO:-0400
TZNAME:EDT
DTSTART:20210314T070000
END:DAYLIGHT
BEGIN:STANDARD
TZOFFSETFROM:-0400
TZOFFSETTO:-0500
TZNAME:EST
DTSTART:20211107T060000
END:STANDARD
BEGIN:DAYLIGHT
TZOFFSETFROM:-0500
TZOFFSETTO:-0400
TZNAME:EDT
DTSTART:20220313T070000
END:DAYLIGHT
BEGIN:STANDARD
TZOFFSETFROM:-0400
TZOFFSETTO:-0500
TZNAME:EST
DTSTART:20221106T060000
END:STANDARD
BEGIN:DAYLIGHT
TZOFFSETFROM:-0500
TZOFFSETTO:-0400
TZNAME:EDT
DTSTART:20230312T070000
END:DAYLIGHT
BEGIN:STANDARD
TZOFFSETFROM:-0400
TZOFFSETTO:-0500
TZNAME:EST
DTSTART:20231105T060000
END:STANDARD
BEGIN:DAYLIGHT
TZOFFSETFROM:-0500
TZOFFSETTO:-0400
TZNAME:EDT
DTSTART:20240310T070000
END:DAYLIGHT
BEGIN:STANDARD
TZOFFSETFROM:-0400
TZOFFSETTO:-0500
TZNAME:EST
DTSTART:20241103T060000
END:STANDARD
END:VTIMEZONE
BEGIN:VEVENT
DTSTART;TZID=America/New_York:20221203T120000
DTEND;TZID=America/New_York:20221203T150000
DTSTAMP:20260422T094440
CREATED:20221113T212924Z
LAST-MODIFIED:20221113T212924Z
UID:7092-1670068800-1670079600@harpethhotel.com
SUMMARY:Music & Mimosas Feat. Danni Nichols
DESCRIPTION:Live Music Featuring Danni Nichols \n@danninichollsmusic
URL:https://harpethhotel.com/happenings/music-mimosas-feat-danni-nichols/
LOCATION:McGavock’s\, 130 2nd Ave N\, Franklin\, TN\, 37064
CATEGORIES:Music
ATTACH;FMTTYPE=image/png:https://harpethhotel.com/wp-content/uploads/2022/11/Music-Mimosa-Website-1-4.png
END:VEVENT
BEGIN:VEVENT
DTSTART;TZID=America/New_York:20221209T190000
DTEND;TZID=America/New_York:20221209T220000
DTSTAMP:20260422T094440
CREATED:20221207T074935Z
LAST-MODIFIED:20221207T074935Z
UID:7212-1670612400-1670623200@harpethhotel.com
SUMMARY:Live In The Lounge feat. Kayla Wass
DESCRIPTION:Live Music in 1799 Lounge\, featuring Kayla Wass – Guitar & Vocals
URL:https://harpethhotel.com/happenings/live-in-the-lounge-feat-kayla-wass-3/
LOCATION:1799 Bar\, 130 2nd Ave N\, Franklin\, TN\, 37064
CATEGORIES:Music
ATTACH;FMTTYPE=image/png:https://harpethhotel.com/wp-content/uploads/2022/12/Guitar-Music-1.png
END:VEVENT
BEGIN:VEVENT
DTSTART;TZID=America/New_York:20221210T120000
DTEND;TZID=America/New_York:20221210T150000
DTSTAMP:20260422T094440
CREATED:20221113T213042Z
LAST-MODIFIED:20221113T213042Z
UID:7100-1670673600-1670684400@harpethhotel.com
SUMMARY:Music & Mimosas feat. Pierson Swanson
DESCRIPTION:Live Music Featuring Pierson Swanson \n@piersonswanson
URL:https://harpethhotel.com/happenings/music-mimosas-feat-pierson-swanson/
LOCATION:McGavock’s\, 130 2nd Ave N\, Franklin\, TN\, 37064
CATEGORIES:Music
ATTACH;FMTTYPE=image/png:https://harpethhotel.com/wp-content/uploads/2022/11/Music-Mimosa-Website-1-3.png
END:VEVENT
BEGIN:VEVENT
DTSTART;TZID=America/New_York:20221210T190000
DTEND;TZID=America/New_York:20221210T220000
DTSTAMP:20260422T094440
CREATED:20221113T214802Z
LAST-MODIFIED:20221207T075159Z
UID:7123-1670698800-1670709600@harpethhotel.com
SUMMARY:Live In The Lounge feat. Tristan McIntosh
DESCRIPTION:Live Music in 1799 Lounge\, featuring Tristan McIntosh – Guitar\, Keyboard & Vocals
URL:https://harpethhotel.com/happenings/live-in-the-lounge-feat-tristan-mcintosh-2/
LOCATION:1799 Bar\, 130 2nd Ave N\, Franklin\, TN\, 37064
CATEGORIES:Music
ATTACH;FMTTYPE=image/png:https://harpethhotel.com/wp-content/uploads/2022/12/Keyboard-Music-1-1.png
END:VEVENT
BEGIN:VEVENT
DTSTART;TZID=America/New_York:20221211T160000
DTEND;TZID=America/New_York:20221211T190000
DTSTAMP:20260422T094440
CREATED:20221207T075313Z
LAST-MODIFIED:20221207T075804Z
UID:7217-1670774400-1670785200@harpethhotel.com
SUMMARY:Live In The Lounge feat. Jim Hayden
DESCRIPTION:Live Music in 1799 Lounge\, featuring Jim Hayden – Keyboard & Vocals
URL:https://harpethhotel.com/happenings/live-in-the-lounge-feat-jim-hayden-5/
LOCATION:1799 Bar\, 130 2nd Ave N\, Franklin\, TN\, 37064
CATEGORIES:Music
ATTACH;FMTTYPE=image/png:https://harpethhotel.com/wp-content/uploads/2022/12/Keyboard-Music-1-2.png
END:VEVENT
BEGIN:VEVENT
DTSTART;TZID=America/New_York:20221216T190000
DTEND;TZID=America/New_York:20221216T220000
DTSTAMP:20260422T094440
CREATED:20221113T214933Z
LAST-MODIFIED:20221207T080158Z
UID:7120-1671217200-1671228000@harpethhotel.com
SUMMARY:Live In The Lounge feat. Troy Doherty
DESCRIPTION:Live Music in 1799 Lounge\, featuring Troy Doherty – Guitar & Vocals
URL:https://harpethhotel.com/happenings/live-in-the-lounge-feat-troy-doherty/
LOCATION:1799 Bar\, 130 2nd Ave N\, Franklin\, TN\, 37064
CATEGORIES:Music
ATTACH;FMTTYPE=image/png:https://harpethhotel.com/wp-content/uploads/2022/11/Guitar-Music-1-1.png
END:VEVENT
BEGIN:VEVENT
DTSTART;TZID=America/New_York:20221217T120000
DTEND;TZID=America/New_York:20221217T150000
DTSTAMP:20260422T094440
CREATED:20221113T213225Z
LAST-MODIFIED:20221113T213259Z
UID:7102-1671278400-1671289200@harpethhotel.com
SUMMARY:Music & Mimosas feat. Kayleigh Matthews
DESCRIPTION:Live Music Featuring Kayleigh Matthews \n@kayleighmathewsmusic
URL:https://harpethhotel.com/happenings/music-mimosas-feat-kayleigh-matthews/
LOCATION:McGavock’s\, 130 2nd Ave N\, Franklin\, TN\, 37064
CATEGORIES:Music
ATTACH;FMTTYPE=image/png:https://harpethhotel.com/wp-content/uploads/2022/11/Music-Mimosa-Website-1-2.png
END:VEVENT
BEGIN:VEVENT
DTSTART;TZID=America/New_York:20221217T190000
DTEND;TZID=America/New_York:20221217T220000
DTSTAMP:20260422T094440
CREATED:20221207T080418Z
LAST-MODIFIED:20221207T080418Z
UID:7227-1671303600-1671314400@harpethhotel.com
SUMMARY:Live In The Lounge feat. Aaron Bucks
DESCRIPTION:Live Music in 1799 Lounge\, featuring Aaron Bucks – Guitar & Vocals
URL:https://harpethhotel.com/happenings/live-in-the-lounge-feat-aaron-bucks/
LOCATION:1799 Bar\, 130 2nd Ave N\, Franklin\, TN\, 37064
CATEGORIES:Music
ATTACH;FMTTYPE=image/png:https://harpethhotel.com/wp-content/uploads/2022/12/Guitar-Music-1-2.png
END:VEVENT
BEGIN:VEVENT
DTSTART;TZID=America/New_York:20221218T160000
DTEND;TZID=America/New_York:20221218T190000
DTSTAMP:20260422T094440
CREATED:20221207T080004Z
LAST-MODIFIED:20221207T080004Z
UID:7219-1671379200-1671390000@harpethhotel.com
SUMMARY:Live In The Lounge feat. Jim Hayden
DESCRIPTION:Live Music in 1799 Lounge\, featuring Jim Hayden – Keyboard & Vocals
URL:https://harpethhotel.com/happenings/live-in-the-lounge-feat-jim-hayden-6/
LOCATION:1799 Bar\, 130 2nd Ave N\, Franklin\, TN\, 37064
CATEGORIES:Music
ATTACH;FMTTYPE=image/png:https://harpethhotel.com/wp-content/uploads/2022/12/Keyboard-Music-1-4.png
END:VEVENT
BEGIN:VEVENT
DTSTART;TZID=America/New_York:20221223T190000
DTEND;TZID=America/New_York:20221223T220000
DTSTAMP:20260422T094440
CREATED:20221027T200312Z
LAST-MODIFIED:20221207T080616Z
UID:7024-1671822000-1671832800@harpethhotel.com
SUMMARY:Live In The Lounge feat. Doug Allen
DESCRIPTION:Live Music in 1799 Lounge\, featuring Doug Allen – Guitar & Vocals
URL:https://harpethhotel.com/happenings/live-in-the-lounge-feat-doug-allen/
LOCATION:1799 Bar\, 130 2nd Ave N\, Franklin\, TN\, 37064
CATEGORIES:Music
ATTACH;FMTTYPE=image/png:https://harpethhotel.com/wp-content/uploads/2022/12/Guitar-Music-1-3.png
END:VEVENT
BEGIN:VEVENT
DTSTART;TZID=America/New_York:20221224T120000
DTEND;TZID=America/New_York:20221224T150000
DTSTAMP:20260422T094440
CREATED:20221113T213345Z
LAST-MODIFIED:20221113T213356Z
UID:7104-1671883200-1671894000@harpethhotel.com
SUMMARY:Music & Mimosas feat. Aaron Bucks
DESCRIPTION:Live Music Featuring Aaron Bucks \n@bucksmusicofficial
URL:https://harpethhotel.com/happenings/music-mimosas-feat-aaron-bucks/
LOCATION:McGavock’s\, 130 2nd Ave N\, Franklin\, TN\, 37064
CATEGORIES:Music
ATTACH;FMTTYPE=image/png:https://harpethhotel.com/wp-content/uploads/2022/11/Music-Mimosa-Website-1-1.png
END:VEVENT
BEGIN:VEVENT
DTSTART;TZID=America/New_York:20221224T190000
DTEND;TZID=America/New_York:20221224T220000
DTSTAMP:20260422T094440
CREATED:20221207T080735Z
LAST-MODIFIED:20221207T080815Z
UID:7229-1671908400-1671919200@harpethhotel.com
SUMMARY:Live In The Lounge feat. Rick Armentrout
DESCRIPTION:Live Music in 1799 Lounge\, featuring Rick Armentrout – Guitar & Vocals
URL:https://harpethhotel.com/happenings/live-in-the-lounge-feat-doug-allen-2/
LOCATION:1799 Bar\, 130 2nd Ave N\, Franklin\, TN\, 37064
CATEGORIES:Music
ATTACH;FMTTYPE=image/png:https://harpethhotel.com/wp-content/uploads/2022/12/Guitar-Music-1-4.png
END:VEVENT
BEGIN:VEVENT
DTSTART;TZID=America/New_York:20221230T190000
DTEND;TZID=America/New_York:20221230T220000
DTSTAMP:20260422T094440
CREATED:20221230T061444Z
LAST-MODIFIED:20221230T061444Z
UID:7268-1672426800-1672437600@harpethhotel.com
SUMMARY:Live In The Lounge feat. Kayla Wass
DESCRIPTION:Live Music in 1799 Lounge\, featuring Kayla Wass – Guitar & Vocals
URL:https://harpethhotel.com/happenings/live-in-the-lounge-feat-kayla-wass-4/
LOCATION:1799 Bar\, 130 2nd Ave N\, Franklin\, TN\, 37064
CATEGORIES:Music
ATTACH;FMTTYPE=image/png:https://harpethhotel.com/wp-content/uploads/2022/12/Guitar-Music-1-5.png
END:VEVENT
BEGIN:VEVENT
DTSTART;TZID=America/New_York:20221231T120000
DTEND;TZID=America/New_York:20221231T150000
DTSTAMP:20260422T094440
CREATED:20221113T213514Z
LAST-MODIFIED:20221113T213514Z
UID:7106-1672488000-1672498800@harpethhotel.com
SUMMARY:Music & Mimosas feat. Ben Law
DESCRIPTION:Live Music Featuring Ben Law \n@benlawmusic
URL:https://harpethhotel.com/happenings/music-mimosas-feat-ben-law/
LOCATION:McGavock’s\, 130 2nd Ave N\, Franklin\, TN\, 37064
CATEGORIES:Music
ATTACH;FMTTYPE=image/png:https://harpethhotel.com/wp-content/uploads/2022/11/Music-Mimosa-Website-1.png
END:VEVENT
BEGIN:VEVENT
DTSTART;TZID=America/New_York:20221231T190000
DTEND;TZID=America/New_York:20221231T220000
DTSTAMP:20260422T094440
CREATED:20221230T162939Z
LAST-MODIFIED:20221230T162939Z
UID:7271-1672513200-1672524000@harpethhotel.com
SUMMARY:Live In The Lounge feat. Aaron Bucks
DESCRIPTION:Live Music in 1799 Lounge\, featuring Aaron Bucks – Guitar & Vocals
URL:https://harpethhotel.com/happenings/live-in-the-lounge-feat-aaron-bucks-2/
LOCATION:1799 Bar\, 130 2nd Ave N\, Franklin\, TN\, 37064
CATEGORIES:Music
ATTACH;FMTTYPE=image/png:https://harpethhotel.com/wp-content/uploads/2022/12/Guitar-Music-1-6.png
END:VEVENT
BEGIN:VEVENT
DTSTART;TZID=America/New_York:20221231T220000
DTEND;TZID=America/New_York:20230101T010000
DTSTAMP:20260422T094440
CREATED:20221114T060122Z
LAST-MODIFIED:20221114T060122Z
UID:7157-1672524000-1672534800@harpethhotel.com
SUMMARY:The Harpeth's New Year's Eve Celebration
DESCRIPTION:Ring in the new year at Franklin’s best First Night Celebration! Join us from 10:00pm-1:00am for drinks and dancing to ring in the New Year at midnight!
URL:https://harpethhotel.com/happenings/the-harpeths-new-years-eve-celebration/
LOCATION:1799 Kitchen & Cocktails\, 130 2nd Ave N\, Franklin\, TN\, 37064
CATEGORIES:Holidays,Music
END:VEVENT
END:VCALENDAR