BEGIN:VCALENDAR
VERSION:2.0
PRODID:-//The Harpeth Hotel - ECPv6.15.20//NONSGML v1.0//EN
CALSCALE:GREGORIAN
METHOD:PUBLISH
X-WR-CALNAME:The Harpeth Hotel
X-ORIGINAL-URL:https://harpethhotel.com
X-WR-CALDESC:Events for The Harpeth Hotel
REFRESH-INTERVAL;VALUE=DURATION:PT1H
X-Robots-Tag:noindex
X-PUBLISHED-TTL:PT1H
BEGIN:VTIMEZONE
TZID:America/New_York
BEGIN:DAYLIGHT
TZOFFSETFROM:-0500
TZOFFSETTO:-0400
TZNAME:EDT
DTSTART:20220313T070000
END:DAYLIGHT
BEGIN:STANDARD
TZOFFSETFROM:-0400
TZOFFSETTO:-0500
TZNAME:EST
DTSTART:20221106T060000
END:STANDARD
BEGIN:DAYLIGHT
TZOFFSETFROM:-0500
TZOFFSETTO:-0400
TZNAME:EDT
DTSTART:20230312T070000
END:DAYLIGHT
BEGIN:STANDARD
TZOFFSETFROM:-0400
TZOFFSETTO:-0500
TZNAME:EST
DTSTART:20231105T060000
END:STANDARD
BEGIN:DAYLIGHT
TZOFFSETFROM:-0500
TZOFFSETTO:-0400
TZNAME:EDT
DTSTART:20240310T070000
END:DAYLIGHT
BEGIN:STANDARD
TZOFFSETFROM:-0400
TZOFFSETTO:-0500
TZNAME:EST
DTSTART:20241103T060000
END:STANDARD
END:VTIMEZONE
BEGIN:VEVENT
DTSTART;TZID=America/New_York:20230401T190000
DTEND;TZID=America/New_York:20230401T220000
DTSTAMP:20260422T041651
CREATED:20230328T202109Z
LAST-MODIFIED:20230328T202109Z
UID:7700-1680375600-1680386400@harpethhotel.com
SUMMARY:Live In The Lounge feat. Kayla Wass
DESCRIPTION:Live Music in 1799 Lounge\, featuring Kayla Wass – Guitar & Vocals
URL:https://harpethhotel.com/happenings/live-in-the-lounge-feat-kayla-wass-6/
LOCATION:1799 Bar\, 130 2nd Ave N\, Franklin\, TN\, 37064
CATEGORIES:Music
ATTACH;FMTTYPE=image/png:https://harpethhotel.com/wp-content/uploads/2023/03/Guitar-Music-1-27.png
END:VEVENT
BEGIN:VEVENT
DTSTART;TZID=America/New_York:20230402T160000
DTEND;TZID=America/New_York:20230402T190000
DTSTAMP:20260422T041651
CREATED:20230328T202217Z
LAST-MODIFIED:20230328T202311Z
UID:7702-1680451200-1680462000@harpethhotel.com
SUMMARY:Live In The Lounge feat. Jim Hayden
DESCRIPTION:Live Music in 1799 Lounge\, featuring Jim Hayden – Keyboard & Vocals
URL:https://harpethhotel.com/happenings/live-in-the-lounge-feat-jim-hayden-17/
LOCATION:1799 Bar\, 130 2nd Ave N\, Franklin\, TN\, 37064
CATEGORIES:Music
ATTACH;FMTTYPE=image/png:https://harpethhotel.com/wp-content/uploads/2023/02/Keyboard-Music-1-14.png
END:VEVENT
BEGIN:VEVENT
DTSTART;TZID=America/New_York:20230407T190000
DTEND;TZID=America/New_York:20230407T220000
DTSTAMP:20260422T041651
CREATED:20230330T025935Z
LAST-MODIFIED:20230330T025935Z
UID:7713-1680894000-1680904800@harpethhotel.com
SUMMARY:Live In The Lounge feat. Kyle Matthew
DESCRIPTION:Live Music in 1799 Lounge\, featuring Kyle Matthew – Guitar & Vocals
URL:https://harpethhotel.com/happenings/live-in-the-lounge-feat-kyle-matthew/
LOCATION:1799 Bar\, 130 2nd Ave N\, Franklin\, TN\, 37064
CATEGORIES:Music
ATTACH;FMTTYPE=image/png:https://harpethhotel.com/wp-content/uploads/Guitar-Music-1-29.png
END:VEVENT
BEGIN:VEVENT
DTSTART;TZID=America/New_York:20230408T120000
DTEND;TZID=America/New_York:20230408T150000
DTSTAMP:20260422T041651
CREATED:20230408T131400Z
LAST-MODIFIED:20230408T131400Z
UID:7761-1680955200-1680966000@harpethhotel.com
SUMMARY:Music & Mimosas feat. Amanda Pruitt
DESCRIPTION:Live Music Featuring Amanda Pruitt
URL:https://harpethhotel.com/happenings/music-mimosas-feat-amanda-pruitt/
LOCATION:McGavock’s\, 130 2nd Ave N\, Franklin\, TN\, 37064
CATEGORIES:Music
ATTACH;FMTTYPE=image/png:https://harpethhotel.com/wp-content/uploads/Music-Mimosa-Website-1-14.png
END:VEVENT
BEGIN:VEVENT
DTSTART;TZID=America/New_York:20230408T190000
DTEND;TZID=America/New_York:20230408T220000
DTSTAMP:20260422T041651
CREATED:20230330T030118Z
LAST-MODIFIED:20230330T030134Z
UID:7717-1680980400-1680991200@harpethhotel.com
SUMMARY:Live In The Lounge feat. Allie Lamb
DESCRIPTION:Live Music in 1799 Lounge\, featuring Allie Lamb – Guitar & Vocals
URL:https://harpethhotel.com/happenings/live-in-the-lounge-feat-allie-lamb/
LOCATION:1799 Bar\, 130 2nd Ave N\, Franklin\, TN\, 37064
CATEGORIES:Music
ATTACH;FMTTYPE=image/png:https://harpethhotel.com/wp-content/uploads/Guitar-Music-1-30.png
END:VEVENT
BEGIN:VEVENT
DTSTART;TZID=America/New_York:20230409T160000
DTEND;TZID=America/New_York:20230409T190000
DTSTAMP:20260422T041651
CREATED:20230330T030259Z
LAST-MODIFIED:20230330T030259Z
UID:7720-1681056000-1681066800@harpethhotel.com
SUMMARY:Live In The Lounge feat. Jim Hayden
DESCRIPTION:Live Music in 1799 Lounge\, featuring Jim Hayden – Keyboard & Vocals
URL:https://harpethhotel.com/happenings/live-in-the-lounge-feat-jim-hayden-18/
LOCATION:1799 Bar\, 130 2nd Ave N\, Franklin\, TN\, 37064
CATEGORIES:Music
ATTACH;FMTTYPE=image/png:https://harpethhotel.com/wp-content/uploads/2023/02/Keyboard-Music-1-14.png
END:VEVENT
BEGIN:VEVENT
DTSTART;TZID=America/New_York:20230414T190000
DTEND;TZID=America/New_York:20230414T220000
DTSTAMP:20260422T041651
CREATED:20230330T030552Z
LAST-MODIFIED:20230330T030552Z
UID:7728-1681498800-1681509600@harpethhotel.com
SUMMARY:Live In The Lounge feat. Troy Doherty
DESCRIPTION:Live Music in 1799 Lounge\, featuring Troy Doherty – Guitar & Vocals
URL:https://harpethhotel.com/happenings/live-in-the-lounge-feat-troy-doherty-7/
LOCATION:1799 Bar\, 130 2nd Ave N\, Franklin\, TN\, 37064
CATEGORIES:Music
ATTACH;FMTTYPE=image/png:https://harpethhotel.com/wp-content/uploads/2023/02/Guitar-Music-1-25.png
END:VEVENT
BEGIN:VEVENT
DTSTART;TZID=America/New_York:20230415T120000
DTEND;TZID=America/New_York:20230415T150000
DTSTAMP:20260422T041651
CREATED:20230408T131603Z
LAST-MODIFIED:20230408T131631Z
UID:7764-1681560000-1681570800@harpethhotel.com
SUMMARY:Music & Mimosas feat. Pierson Swanson
DESCRIPTION:Live Music Featuring Pierson Swanson \n@piersonswanson
URL:https://harpethhotel.com/happenings/music-mimosas-feat-pierson-swanson-4/
LOCATION:McGavock’s\, 130 2nd Ave N\, Franklin\, TN\, 37064
CATEGORIES:Music
ATTACH;FMTTYPE=image/png:https://harpethhotel.com/wp-content/uploads/2022/11/Music-Mimosa-Website-1-3.png
END:VEVENT
BEGIN:VEVENT
DTSTART;TZID=America/New_York:20230415T190000
DTEND;TZID=America/New_York:20230415T220000
DTSTAMP:20260422T041651
CREATED:20230330T030847Z
LAST-MODIFIED:20230330T030847Z
UID:7730-1681585200-1681596000@harpethhotel.com
SUMMARY:Live In The Lounge feat. Rick Armentrout
DESCRIPTION:Live Music in 1799 Lounge\, featuring Rick Armentrout – Guitar & Vocals
URL:https://harpethhotel.com/happenings/live-in-the-lounge-feat-rick-armentrout/
LOCATION:1799 Bar\, 130 2nd Ave N\, Franklin\, TN\, 37064
CATEGORIES:Music
ATTACH;FMTTYPE=image/png:https://harpethhotel.com/wp-content/uploads/Guitar-Music-1-31.png
END:VEVENT
BEGIN:VEVENT
DTSTART;TZID=America/New_York:20230416T160000
DTEND;TZID=America/New_York:20230416T190000
DTSTAMP:20260422T041651
CREATED:20230330T030335Z
LAST-MODIFIED:20230330T030335Z
UID:7721-1681660800-1681671600@harpethhotel.com
SUMMARY:Live In The Lounge feat. Jim Hayden
DESCRIPTION:Live Music in 1799 Lounge\, featuring Jim Hayden – Keyboard & Vocals
URL:https://harpethhotel.com/happenings/live-in-the-lounge-feat-jim-hayden-19/
LOCATION:1799 Bar\, 130 2nd Ave N\, Franklin\, TN\, 37064
CATEGORIES:Music
ATTACH;FMTTYPE=image/png:https://harpethhotel.com/wp-content/uploads/2023/02/Keyboard-Music-1-14.png
END:VEVENT
BEGIN:VEVENT
DTSTART;TZID=America/New_York:20230421T190000
DTEND;TZID=America/New_York:20230421T220000
DTSTAMP:20260422T041651
CREATED:20230330T031008Z
LAST-MODIFIED:20230330T031008Z
UID:7733-1682103600-1682114400@harpethhotel.com
SUMMARY:Live In The Lounge feat. Doug Allen
DESCRIPTION:Live Music in 1799 Lounge\, featuring Doug Allen – Guitar & Vocals
URL:https://harpethhotel.com/happenings/live-in-the-lounge-feat-doug-allen-6/
LOCATION:1799 Bar\, 130 2nd Ave N\, Franklin\, TN\, 37064
CATEGORIES:Music
ATTACH;FMTTYPE=image/png:https://harpethhotel.com/wp-content/uploads/2023/03/Guitar-Music-1-26.png
END:VEVENT
BEGIN:VEVENT
DTSTART;TZID=America/New_York:20230422T103000
DTEND;TZID=America/New_York:20230422T133000
DTSTAMP:20260422T041651
CREATED:20230408T133617Z
LAST-MODIFIED:20230408T133617Z
UID:7766-1682159400-1682170200@harpethhotel.com
SUMMARY:Music & Mimosas Feat. Trent Ingram
DESCRIPTION:Main Street Festival\, Double Feature Special – Trent Ingram
URL:https://harpethhotel.com/happenings/music-mimosas-feat-trent-ingram/
LOCATION:McGavock’s\, 130 2nd Ave N\, Franklin\, TN\, 37064
CATEGORIES:Eat & Drink,Music
ATTACH;FMTTYPE=image/png:https://harpethhotel.com/wp-content/uploads/Music-Mimosa-Website-1-15.png
END:VEVENT
BEGIN:VEVENT
DTSTART;TZID=America/New_York:20230422T140000
DTEND;TZID=America/New_York:20230422T170000
DTSTAMP:20260422T041651
CREATED:20230408T133750Z
LAST-MODIFIED:20230408T133835Z
UID:7772-1682172000-1682182800@harpethhotel.com
SUMMARY:Music & Mimosas Feat: Aimee Jane
DESCRIPTION:Main Street Festival\, Double Feature Special – Aimee Jane
URL:https://harpethhotel.com/happenings/music-mimosas-feat-aimee-jane/
LOCATION:McGavock’s\, 130 2nd Ave N\, Franklin\, TN\, 37064
CATEGORIES:Eat & Drink,Music
ATTACH;FMTTYPE=image/png:https://harpethhotel.com/wp-content/uploads/Music-Mimosa-Website-1-16.png
END:VEVENT
BEGIN:VEVENT
DTSTART;TZID=America/New_York:20230422T190000
DTEND;TZID=America/New_York:20230422T220000
DTSTAMP:20260422T041651
CREATED:20230330T031139Z
LAST-MODIFIED:20230330T031238Z
UID:7735-1682190000-1682200800@harpethhotel.com
SUMMARY:Live In The Lounge feat. Aaron Bucks
DESCRIPTION:Live Music in 1799 Lounge\, featuring Aaron Bucks – Guitar & Vocals
URL:https://harpethhotel.com/happenings/live-in-the-lounge-feat-aaron-bucks-9/
LOCATION:1799 Bar\, 130 2nd Ave N\, Franklin\, TN\, 37064
CATEGORIES:Music
ATTACH;FMTTYPE=image/png:https://harpethhotel.com/wp-content/uploads/2023/02/Guitar-Music-1-24.png
END:VEVENT
BEGIN:VEVENT
DTSTART;TZID=America/New_York:20230423T110000
DTEND;TZID=America/New_York:20230423T140000
DTSTAMP:20260422T041651
CREATED:20230408T134327Z
LAST-MODIFIED:20230411T132614Z
UID:7775-1682247600-1682258400@harpethhotel.com
SUMMARY:Music & Mimosas Feat: Anna Barnes
DESCRIPTION:Main Street Festival Sunday Special Event – Anna Barnes
URL:https://harpethhotel.com/happenings/music-mimosas-feat-anna-lynn/
LOCATION:McGavock’s\, 130 2nd Ave N\, Franklin\, TN\, 37064
CATEGORIES:Eat & Drink,Music
ATTACH;FMTTYPE=image/png:https://harpethhotel.com/wp-content/uploads/Music-Mimosa-Website-1-19.png
END:VEVENT
BEGIN:VEVENT
DTSTART;TZID=America/New_York:20230423T160000
DTEND;TZID=America/New_York:20230423T190000
DTSTAMP:20260422T041651
CREATED:20230330T030413Z
LAST-MODIFIED:20230330T030413Z
UID:7722-1682265600-1682276400@harpethhotel.com
SUMMARY:Live In The Lounge feat. Jim Hayden
DESCRIPTION:Live Music in 1799 Lounge\, featuring Jim Hayden – Keyboard & Vocals
URL:https://harpethhotel.com/happenings/live-in-the-lounge-feat-jim-hayden-20/
LOCATION:1799 Bar\, 130 2nd Ave N\, Franklin\, TN\, 37064
CATEGORIES:Music
ATTACH;FMTTYPE=image/png:https://harpethhotel.com/wp-content/uploads/2023/02/Keyboard-Music-1-14.png
END:VEVENT
BEGIN:VEVENT
DTSTART;TZID=America/New_York:20230428T190000
DTEND;TZID=America/New_York:20230428T210000
DTSTAMP:20260422T041651
CREATED:20230408T152422Z
LAST-MODIFIED:20230408T152422Z
UID:7791-1682708400-1682715600@harpethhotel.com
SUMMARY:Roger Murrah's Songwriters at The Harpeth
DESCRIPTION:We are excited for another stellar evening filled with storytelling\, live music and fun. Our lineup includes Alecia Nugent\, Connor Myers\, Jimmy Melton and Roger Murrah.
URL:https://harpethhotel.com/happenings/roger-murrahs-songwriters-at-the-harpeth/
LOCATION:Riverside Ballroom\, 130 2nd Ave N\, Franklin\, TN\, 37064
CATEGORIES:Music
END:VEVENT
BEGIN:VEVENT
DTSTART;TZID=America/New_York:20230428T190000
DTEND;TZID=America/New_York:20230428T220000
DTSTAMP:20260422T041651
CREATED:20230330T031358Z
LAST-MODIFIED:20230330T031358Z
UID:7737-1682708400-1682719200@harpethhotel.com
SUMMARY:Live In The Lounge feat. Troy Doherty
DESCRIPTION:Live Music in 1799 Lounge\, featuring Troy Doherty – Guitar & Vocals
URL:https://harpethhotel.com/happenings/live-in-the-lounge-feat-troy-doherty-8/
LOCATION:1799 Bar\, 130 2nd Ave N\, Franklin\, TN\, 37064
CATEGORIES:Music
ATTACH;FMTTYPE=image/png:https://harpethhotel.com/wp-content/uploads/2023/02/Guitar-Music-1-25.png
END:VEVENT
BEGIN:VEVENT
DTSTART;TZID=America/New_York:20230429T120000
DTEND;TZID=America/New_York:20230429T150000
DTSTAMP:20260422T041651
CREATED:20230408T134607Z
LAST-MODIFIED:20230408T134607Z
UID:7779-1682769600-1682780400@harpethhotel.com
SUMMARY:Music & Mimosas feat. Emily Stevens
DESCRIPTION:Live Music Featuring Emily Stevens
URL:https://harpethhotel.com/happenings/music-mimosas-feat-emily-stevens-2/
LOCATION:McGavock’s\, 130 2nd Ave N\, Franklin\, TN\, 37064
CATEGORIES:Music
ATTACH;FMTTYPE=image/png:https://harpethhotel.com/wp-content/uploads/Music-Mimosa-Website-1-18.png
END:VEVENT
BEGIN:VEVENT
DTSTART;TZID=America/New_York:20230429T190000
DTEND;TZID=America/New_York:20230429T220000
DTSTAMP:20260422T041651
CREATED:20230330T031509Z
LAST-MODIFIED:20230330T031509Z
UID:7739-1682794800-1682805600@harpethhotel.com
SUMMARY:Live In The Lounge feat. Chelsea Rhodes
DESCRIPTION:Live Music in 1799 Lounge\, featuring Chelsea Rhodes – Guitar & Vocals
URL:https://harpethhotel.com/happenings/live-in-the-lounge-feat-chelsea-rhodes-3/
LOCATION:1799 Bar\, 130 2nd Ave N\, Franklin\, TN\, 37064
CATEGORIES:Music
ATTACH;FMTTYPE=image/png:https://harpethhotel.com/wp-content/uploads/Guitar-Music-1-28.png
END:VEVENT
BEGIN:VEVENT
DTSTART;TZID=America/New_York:20230430T160000
DTEND;TZID=America/New_York:20230430T190000
DTSTAMP:20260422T041651
CREATED:20230330T030449Z
LAST-MODIFIED:20230330T030449Z
UID:7723-1682870400-1682881200@harpethhotel.com
SUMMARY:Live In The Lounge feat. Jim Hayden
DESCRIPTION:Live Music in 1799 Lounge\, featuring Jim Hayden – Keyboard & Vocals
URL:https://harpethhotel.com/happenings/live-in-the-lounge-feat-jim-hayden-21/
LOCATION:1799 Bar\, 130 2nd Ave N\, Franklin\, TN\, 37064
CATEGORIES:Music
ATTACH;FMTTYPE=image/png:https://harpethhotel.com/wp-content/uploads/2023/02/Keyboard-Music-1-14.png
END:VEVENT
END:VCALENDAR