BEGIN:VCALENDAR
VERSION:2.0
PRODID:-//The Harpeth Hotel - ECPv6.15.20//NONSGML v1.0//EN
CALSCALE:GREGORIAN
METHOD:PUBLISH
X-WR-CALNAME:The Harpeth Hotel
X-ORIGINAL-URL:https://harpethhotel.com
X-WR-CALDESC:Events for The Harpeth Hotel
REFRESH-INTERVAL;VALUE=DURATION:PT1H
X-Robots-Tag:noindex
X-PUBLISHED-TTL:PT1H
BEGIN:VTIMEZONE
TZID:America/New_York
BEGIN:DAYLIGHT
TZOFFSETFROM:-0500
TZOFFSETTO:-0400
TZNAME:EDT
DTSTART:20220313T070000
END:DAYLIGHT
BEGIN:STANDARD
TZOFFSETFROM:-0400
TZOFFSETTO:-0500
TZNAME:EST
DTSTART:20221106T060000
END:STANDARD
BEGIN:DAYLIGHT
TZOFFSETFROM:-0500
TZOFFSETTO:-0400
TZNAME:EDT
DTSTART:20230312T070000
END:DAYLIGHT
BEGIN:STANDARD
TZOFFSETFROM:-0400
TZOFFSETTO:-0500
TZNAME:EST
DTSTART:20231105T060000
END:STANDARD
BEGIN:DAYLIGHT
TZOFFSETFROM:-0500
TZOFFSETTO:-0400
TZNAME:EDT
DTSTART:20240310T070000
END:DAYLIGHT
BEGIN:STANDARD
TZOFFSETFROM:-0400
TZOFFSETTO:-0500
TZNAME:EST
DTSTART:20241103T060000
END:STANDARD
END:VTIMEZONE
BEGIN:VEVENT
DTSTART;TZID=America/New_York:20231103T180000
DTEND;TZID=America/New_York:20231103T210000
DTSTAMP:20260421T180021
CREATED:20231031T195932Z
LAST-MODIFIED:20231031T195932Z
UID:8628-1699034400-1699045200@harpethhotel.com
SUMMARY:Franklin Art Crawl feat. Tami Rockey
DESCRIPTION:Please join feature artist Tami Rockey in the Lobby. Tami\, the talent behind “RocknRoxyArt\,” captures the essence of Williamson County\, Tennessee with her vibrant teaching and artistic skills\, honed at North Central College (Naperville\, TN). This November\, she will enchant the Franklin’s Art Crawl audience with ten pieces from her abstract\, textural series. Her art merges the organic with the industrial\, using unconventional materials to challenge perceptions and engage the senses\, with music as her muse. Tami’s ambition is to take her textural exploration to larger canvases\, infusing her pieces with innovative sculptural elements. Her creed\, “The Art & Soul of Roxy\,” celebrates texture as a medium to communicate life’s depth\, inviting viewers into a dialogue that transcends the visual\, creating personal narratives with each piece.
URL:https://harpethhotel.com/happenings/franklin-art-crawl-feat-tami-rockey/
LOCATION:The Lobby\, 130 2ND AVE N\, Franklin\, TN\, 37064\, United States
CATEGORIES:Art,Eat & Drink,Music
ATTACH;FMTTYPE=image/png:https://harpethhotel.com/wp-content/uploads/November-3rd-2023-600-pm-900pm.png
END:VEVENT
BEGIN:VEVENT
DTSTART;TZID=America/New_York:20231103T190000
DTEND;TZID=America/New_York:20231103T220000
DTSTAMP:20260421T180021
CREATED:20231027T180558Z
LAST-MODIFIED:20231027T180558Z
UID:8524-1699038000-1699048800@harpethhotel.com
SUMMARY:Live in The Lounge feat. Doug Allen
DESCRIPTION:Live Music in 1799 Lounge featuring Doug Allen- Guitar & Vocals.
URL:https://harpethhotel.com/happenings/live-in-the-lounge-feat-doug-allen-13/
LOCATION:1799 Bar\, 130 2nd Ave N\, Franklin\, TN\, 37064
CATEGORIES:Eat & Drink,Music
ATTACH;FMTTYPE=image/png:https://harpethhotel.com/wp-content/uploads/Doug-Allen.png
END:VEVENT
BEGIN:VEVENT
DTSTART;TZID=America/New_York:20231104T190000
DTEND;TZID=America/New_York:20231104T220000
DTSTAMP:20260421T180021
CREATED:20231027T180728Z
LAST-MODIFIED:20231027T180728Z
UID:8526-1699124400-1699135200@harpethhotel.com
SUMMARY:Live In The Lounge feat. Aaron Bucks
DESCRIPTION:Live Music in 1799 Lounge\, featuring Aaron Bucks – Guitar & Vocals
URL:https://harpethhotel.com/happenings/live-in-the-lounge-feat-aaron-bucks-12/
LOCATION:1799 Bar\, 130 2nd Ave N\, Franklin\, TN\, 37064
CATEGORIES:Eat & Drink,Music
ATTACH;FMTTYPE=image/png:https://harpethhotel.com/wp-content/uploads/2023/02/Guitar-Music-1-24.png
END:VEVENT
BEGIN:VEVENT
DTSTART;TZID=America/New_York:20231105T160000
DTEND;TZID=America/New_York:20231105T190000
DTSTAMP:20260421T180021
CREATED:20231027T180928Z
LAST-MODIFIED:20231027T180928Z
UID:8528-1699200000-1699210800@harpethhotel.com
SUMMARY:Live in The Lounge feat. Jim Hayden
DESCRIPTION:Live Music in 1799 Lounge\, featuring Jim Hayden- Keyboard & Vocals.
URL:https://harpethhotel.com/happenings/live-in-the-lounge-feat-jim-hayden-40/
LOCATION:1799 Bar\, 130 2nd Ave N\, Franklin\, TN\, 37064
CATEGORIES:Eat & Drink,Music
END:VEVENT
BEGIN:VEVENT
DTSTART;TZID=America/New_York:20231110T190000
DTEND;TZID=America/New_York:20231110T220000
DTSTAMP:20260421T180021
CREATED:20231027T182527Z
LAST-MODIFIED:20231027T182527Z
UID:8530-1699642800-1699653600@harpethhotel.com
SUMMARY:Live in the Lounge feat. Brain Ashley Jones with Melanie Jean
DESCRIPTION:Live Music in 1799 Lounge\, featuring Brian Ashley Jones & Melanie Jean- Guitars & Vocals.
URL:https://harpethhotel.com/happenings/live-in-the-lounge-feat-brain-ashley-jones-with-melanie-jean/
LOCATION:1799 Bar\, 130 2nd Ave N\, Franklin\, TN\, 37064
CATEGORIES:Eat & Drink,Music
ATTACH;FMTTYPE=image/png:https://harpethhotel.com/wp-content/uploads/Guitar-Music-15.png
END:VEVENT
BEGIN:VEVENT
DTSTART;TZID=America/New_York:20231111T190000
DTEND;TZID=America/New_York:20231111T220000
DTSTAMP:20260421T180021
CREATED:20231027T182718Z
LAST-MODIFIED:20231027T182718Z
UID:8533-1699729200-1699740000@harpethhotel.com
SUMMARY:Live in The Lounge feat. Amelia Eisenhauer
DESCRIPTION:Live Music in 1799 Lounge featuring Amelia Eisenhauer- Guitar & Vocals.
URL:https://harpethhotel.com/happenings/live-in-the-lounge-feat-amelia-eisenhauer-5/
LOCATION:1799 Bar\, 130 2nd Ave N\, Franklin\, TN\, 37064
CATEGORIES:Eat & Drink,Music
ATTACH;FMTTYPE=image/png:https://harpethhotel.com/wp-content/uploads/Amelia-Eisenhauer.png
END:VEVENT
BEGIN:VEVENT
DTSTART;TZID=America/New_York:20231112T160000
DTEND;TZID=America/New_York:20231112T190000
DTSTAMP:20260421T180021
CREATED:20231027T182813Z
LAST-MODIFIED:20231027T182813Z
UID:8535-1699804800-1699815600@harpethhotel.com
SUMMARY:Live in The Lounge feat. Jim Hayden
DESCRIPTION:Live Music in 1799 Lounge\, featuring Jim Hayden- Keyboard & Vocals.
URL:https://harpethhotel.com/happenings/live-in-the-lounge-feat-jim-hayden-41/
LOCATION:1799 Bar\, 130 2nd Ave N\, Franklin\, TN\, 37064
CATEGORIES:Eat & Drink,Music
END:VEVENT
BEGIN:VEVENT
DTSTART;TZID=America/New_York:20231117T190000
DTEND;TZID=America/New_York:20231117T220000
DTSTAMP:20260421T180021
CREATED:20231027T183140Z
LAST-MODIFIED:20231027T183140Z
UID:8537-1700247600-1700258400@harpethhotel.com
SUMMARY:Live in the Lounge feat. Drew Whitehead
DESCRIPTION:Live Music in 1799 Lounge\, featuring Drew Whitehead – Guitar & Vocals.
URL:https://harpethhotel.com/happenings/live-in-the-lounge-feat-drew-whitehead-2/
LOCATION:1799 Bar\, 130 2nd Ave N\, Franklin\, TN\, 37064
CATEGORIES:Eat & Drink,Music
ATTACH;FMTTYPE=image/png:https://harpethhotel.com/wp-content/uploads/Guitar-Music-16.png
END:VEVENT
BEGIN:VEVENT
DTSTART;TZID=America/New_York:20231118T190000
DTEND;TZID=America/New_York:20231118T220000
DTSTAMP:20260421T180021
CREATED:20231027T183321Z
LAST-MODIFIED:20231027T183321Z
UID:8540-1700334000-1700344800@harpethhotel.com
SUMMARY:Live in The Lounge feat. Kayla Wass
DESCRIPTION:Live Music in 1799 Lounge\, featuring Kayla Wass- Guitar & Vocals.
URL:https://harpethhotel.com/happenings/live-in-the-lounge-feat-kayla-wass-14/
LOCATION:1799 Bar\, 130 2nd Ave N\, Franklin\, TN\, 37064
CATEGORIES:Eat & Drink,Music
ATTACH;FMTTYPE=image/png:https://harpethhotel.com/wp-content/uploads/Kayla-Wass.png
END:VEVENT
BEGIN:VEVENT
DTSTART;TZID=America/New_York:20231119T160000
DTEND;TZID=America/New_York:20231119T190000
DTSTAMP:20260421T180021
CREATED:20231027T183459Z
LAST-MODIFIED:20231027T183459Z
UID:8542-1700409600-1700420400@harpethhotel.com
SUMMARY:Live in The Lounge feat. Jim Hayden
DESCRIPTION:Live Music in 1799 Lounge\, featuring Jim Hayden- Keyboard & Vocals.
URL:https://harpethhotel.com/happenings/live-in-the-lounge-feat-jim-hayden-42/
LOCATION:1799 Bar\, 130 2nd Ave N\, Franklin\, TN\, 37064
CATEGORIES:Eat & Drink,Music
END:VEVENT
BEGIN:VEVENT
DTSTART;TZID=America/New_York:20231124T190000
DTEND;TZID=America/New_York:20231124T220000
DTSTAMP:20260421T180021
CREATED:20231027T183621Z
LAST-MODIFIED:20231027T183621Z
UID:8544-1700852400-1700863200@harpethhotel.com
SUMMARY:Live in The Lounge feat. Allie Lamb
DESCRIPTION:Live Music in 1799 Lounge\, featuring Allie Lamb- Guitar & Vocals.
URL:https://harpethhotel.com/happenings/live-in-the-lounge-feat-allie-lamb-3/
LOCATION:1799 Bar\, 130 2nd Ave N\, Franklin\, TN\, 37064
CATEGORIES:Eat & Drink,Music
ATTACH;FMTTYPE=image/png:https://harpethhotel.com/wp-content/uploads/Guitar-Music-1-30.png
END:VEVENT
BEGIN:VEVENT
DTSTART;TZID=America/New_York:20231125T190000
DTEND;TZID=America/New_York:20231125T220000
DTSTAMP:20260421T180021
CREATED:20231027T183716Z
LAST-MODIFIED:20231027T183716Z
UID:8546-1700938800-1700949600@harpethhotel.com
SUMMARY:Live in the Lounge feat. Troy Doherty
DESCRIPTION:Live music in 1799 Lounge\, featuring Troy Doherty – Guitar & Vocals.
URL:https://harpethhotel.com/happenings/live-in-the-lounge-feat-troy-doherty-14/
LOCATION:1799 Bar\, 130 2nd Ave N\, Franklin\, TN\, 37064
CATEGORIES:Eat & Drink,Music
ATTACH;FMTTYPE=image/png:https://harpethhotel.com/wp-content/uploads/Troy-Doherty.png
END:VEVENT
BEGIN:VEVENT
DTSTART;TZID=America/New_York:20231126T160000
DTEND;TZID=America/New_York:20231126T190000
DTSTAMP:20260421T180021
CREATED:20231027T183802Z
LAST-MODIFIED:20231027T183802Z
UID:8548-1701014400-1701025200@harpethhotel.com
SUMMARY:Live in The Lounge feat. Jim Hayden
DESCRIPTION:Live Music in 1799 Lounge\, featuring Jim Hayden- Keyboard & Vocals.
URL:https://harpethhotel.com/happenings/live-in-the-lounge-feat-jim-hayden-43/
LOCATION:1799 Bar\, 130 2nd Ave N\, Franklin\, TN\, 37064
CATEGORIES:Eat & Drink,Music
END:VEVENT
END:VCALENDAR