BEGIN:VCALENDAR
VERSION:2.0
PRODID:-//The Harpeth Hotel - ECPv6.15.20//NONSGML v1.0//EN
CALSCALE:GREGORIAN
METHOD:PUBLISH
X-ORIGINAL-URL:https://harpethhotel.com
X-WR-CALDESC:Events for The Harpeth Hotel
REFRESH-INTERVAL;VALUE=DURATION:PT1H
X-Robots-Tag:noindex
X-PUBLISHED-TTL:PT1H
BEGIN:VTIMEZONE
TZID:America/New_York
BEGIN:DAYLIGHT
TZOFFSETFROM:-0500
TZOFFSETTO:-0400
TZNAME:EDT
DTSTART:20230312T070000
END:DAYLIGHT
BEGIN:STANDARD
TZOFFSETFROM:-0400
TZOFFSETTO:-0500
TZNAME:EST
DTSTART:20231105T060000
END:STANDARD
BEGIN:DAYLIGHT
TZOFFSETFROM:-0500
TZOFFSETTO:-0400
TZNAME:EDT
DTSTART:20240310T070000
END:DAYLIGHT
BEGIN:STANDARD
TZOFFSETFROM:-0400
TZOFFSETTO:-0500
TZNAME:EST
DTSTART:20241103T060000
END:STANDARD
BEGIN:DAYLIGHT
TZOFFSETFROM:-0500
TZOFFSETTO:-0400
TZNAME:EDT
DTSTART:20250309T070000
END:DAYLIGHT
BEGIN:STANDARD
TZOFFSETFROM:-0400
TZOFFSETTO:-0500
TZNAME:EST
DTSTART:20251102T060000
END:STANDARD
END:VTIMEZONE
BEGIN:VEVENT
DTSTART;TZID=America/New_York:20240405T180000
DTEND;TZID=America/New_York:20240405T210000
DTSTAMP:20260421T112649
CREATED:20240401T163633Z
LAST-MODIFIED:20240401T163633Z
UID:9158-1712340000-1712350800@harpethhotel.com
SUMMARY:Franklin Art Crawl feat. Jocelyn Hofferber
DESCRIPTION:Please join featured artist\, Jocelyn Hofferber\, in the Lobby.
URL:https://harpethhotel.com/happenings/franklin-art-crawl-feat-jocelyn-hofferber/
LOCATION:The Lobby\, 130 2ND AVE N\, Franklin\, TN\, 37064\, United States
CATEGORIES:Art,Eat & Drink,Music
ATTACH;FMTTYPE=image/png:https://harpethhotel.com/wp-content/uploads/April-2024-calander.png
END:VEVENT
BEGIN:VEVENT
DTSTART;TZID=America/New_York:20240405T190000
DTEND;TZID=America/New_York:20240405T220000
DTSTAMP:20260421T112649
CREATED:20240319T163737Z
LAST-MODIFIED:20240319T172005Z
UID:9100-1712343600-1712354400@harpethhotel.com
SUMMARY:Live in The Lounge feat. Connor Myers
DESCRIPTION:Live Music in 1799 Lounge featuring Connor Myers- Guitar & Vocals
URL:https://harpethhotel.com/happenings/live-in-the-lounge-feat-connor-myers/
LOCATION:1799 Bar\, 130 2nd Ave N\, Franklin\, TN\, 37064
CATEGORIES:Eat & Drink,Music
ATTACH;FMTTYPE=image/png:https://harpethhotel.com/wp-content/uploads/Guitar-Music-copy-13.png
END:VEVENT
BEGIN:VEVENT
DTSTART;TZID=America/New_York:20240406T190000
DTEND;TZID=America/New_York:20240406T220000
DTSTAMP:20260421T112649
CREATED:20240319T164948Z
LAST-MODIFIED:20240319T172033Z
UID:9104-1712430000-1712440800@harpethhotel.com
SUMMARY:Live in The Lounge feat. Dallas Duff
DESCRIPTION:Live Music in 1799 Lounge featuring Dallas Duff- Guitar & Vocals
URL:https://harpethhotel.com/happenings/live-in-the-lounge-feat-dallas-duff/
LOCATION:1799 Bar\, 130 2nd Ave N\, Franklin\, TN\, 37064
CATEGORIES:Eat & Drink,Music
ATTACH;FMTTYPE=image/png:https://harpethhotel.com/wp-content/uploads/Guitar-Music-copy-14.png
END:VEVENT
BEGIN:VEVENT
DTSTART;TZID=America/New_York:20240407T160000
DTEND;TZID=America/New_York:20240407T190000
DTSTAMP:20260421T112649
CREATED:20240319T165051Z
LAST-MODIFIED:20240319T165051Z
UID:9106-1712505600-1712516400@harpethhotel.com
SUMMARY:Live in The Lounge feat. Jim Hayden
DESCRIPTION:Live Music in 1799 Lounge\, featuring Jim Hayden- Keyboard & Vocals.
URL:https://harpethhotel.com/happenings/live-in-the-lounge-feat-jim-hayden-60/
LOCATION:1799 Bar\, 130 2nd Ave N\, Franklin\, TN\, 37064
CATEGORIES:Eat & Drink,Music
END:VEVENT
BEGIN:VEVENT
DTSTART;TZID=America/New_York:20240412T190000
DTEND;TZID=America/New_York:20240412T220000
DTSTAMP:20260421T112649
CREATED:20240319T165214Z
LAST-MODIFIED:20240319T165214Z
UID:9108-1712948400-1712959200@harpethhotel.com
SUMMARY:Live in The Lounge feat. Les Kerr
DESCRIPTION:Live Music in 1799 Lounge\, featuring Les Kerr- Guitar & Vocals.
URL:https://harpethhotel.com/happenings/live-in-the-lounge-feat-les-kerr-10/
LOCATION:1799 Bar\, 130 2nd Ave N\, Franklin\, TN\, 37064
CATEGORIES:Eat & Drink,Music
ATTACH;FMTTYPE=image/png:https://harpethhotel.com/wp-content/uploads/Guitar-Music-1-7.png
END:VEVENT
BEGIN:VEVENT
DTSTART;TZID=America/New_York:20240413T100000
DTEND;TZID=America/New_York:20240413T140000
DTSTAMP:20260421T112649
CREATED:20240403T141615Z
LAST-MODIFIED:20240403T141615Z
UID:9161-1713002400-1713016800@harpethhotel.com
SUMMARY:Elvis Brunch
DESCRIPTION:A Little Less Conversation… And a Lot More Eating! Please join us in 1799 Kitchen & Cocktails for an Elvis inspired Brunch.
URL:https://harpethhotel.com/happenings/elvis-brunch/
LOCATION:1799 Bar\, 130 2nd Ave N\, Franklin\, TN\, 37064
CATEGORIES:Eat & Drink,Music
ATTACH;FMTTYPE=image/png:https://harpethhotel.com/wp-content/uploads/Elvis-Brunch-Flyer-4.13.24-1.png
END:VEVENT
BEGIN:VEVENT
DTSTART;TZID=America/New_York:20240413T190000
DTEND;TZID=America/New_York:20240413T220000
DTSTAMP:20260421T112649
CREATED:20240319T165257Z
LAST-MODIFIED:20240319T165257Z
UID:9110-1713034800-1713045600@harpethhotel.com
SUMMARY:Live in the Lounge feat. Drew Whitehead
DESCRIPTION:Live Music in 1799 Lounge\, featuring Drew Whitehead – Guitar & Vocals.
URL:https://harpethhotel.com/happenings/live-in-the-lounge-feat-drew-whitehead-6/
LOCATION:1799 Bar\, 130 2nd Ave N\, Franklin\, TN\, 37064
CATEGORIES:Eat & Drink,Music
ATTACH;FMTTYPE=image/png:https://harpethhotel.com/wp-content/uploads/Guitar-Music-16.png
END:VEVENT
BEGIN:VEVENT
DTSTART;TZID=America/New_York:20240414T160000
DTEND;TZID=America/New_York:20240414T190000
DTSTAMP:20260421T112649
CREATED:20240319T165328Z
LAST-MODIFIED:20240319T165328Z
UID:9113-1713110400-1713121200@harpethhotel.com
SUMMARY:Live in The Lounge feat. Jim Hayden
DESCRIPTION:Live Music in 1799 Lounge\, featuring Jim Hayden- Keyboard & Vocals.
URL:https://harpethhotel.com/happenings/live-in-the-lounge-feat-jim-hayden-61/
LOCATION:1799 Bar\, 130 2nd Ave N\, Franklin\, TN\, 37064
CATEGORIES:Eat & Drink,Music
END:VEVENT
BEGIN:VEVENT
DTSTART;TZID=America/New_York:20240419T190000
DTEND;TZID=America/New_York:20240419T220000
DTSTAMP:20260421T112649
CREATED:20240319T165454Z
LAST-MODIFIED:20240319T165454Z
UID:9115-1713553200-1713564000@harpethhotel.com
SUMMARY:Live in the Lounge feat. Amanda McCarthy
DESCRIPTION:Live music in 1799 Lounge\, featuring Amanda McCarthy- Guitar & Vocals.
URL:https://harpethhotel.com/happenings/live-in-the-lounge-feat-amanda-mccarthy-5/
LOCATION:1799 Bar\, 130 2nd Ave N\, Franklin\, TN\, 37064
CATEGORIES:Eat & Drink,Music
ATTACH;FMTTYPE=image/png:https://harpethhotel.com/wp-content/uploads/Guitar-Music-24.png
END:VEVENT
BEGIN:VEVENT
DTSTART;TZID=America/New_York:20240420T190000
DTEND;TZID=America/New_York:20240420T220000
DTSTAMP:20260421T112649
CREATED:20240319T165724Z
LAST-MODIFIED:20240319T165724Z
UID:9117-1713639600-1713650400@harpethhotel.com
SUMMARY:Live in the Lounge feat. Drew Whitehead
DESCRIPTION:Live Music in 1799 Lounge\, featuring Drew Whitehead – Guitar & Vocals.
URL:https://harpethhotel.com/happenings/live-in-the-lounge-feat-drew-whitehead-7/
LOCATION:1799 Bar\, 130 2nd Ave N\, Franklin\, TN\, 37064
CATEGORIES:Eat & Drink,Music
ATTACH;FMTTYPE=image/png:https://harpethhotel.com/wp-content/uploads/Guitar-Music-16.png
END:VEVENT
BEGIN:VEVENT
DTSTART;TZID=America/New_York:20240421T160000
DTEND;TZID=America/New_York:20240421T190000
DTSTAMP:20260421T112649
CREATED:20240319T170552Z
LAST-MODIFIED:20240319T170552Z
UID:9119-1713715200-1713726000@harpethhotel.com
SUMMARY:Live in The Lounge feat. Jim Hayden
DESCRIPTION:Live Music in 1799 Lounge\, featuring Jim Hayden- Keyboard & Vocals.
URL:https://harpethhotel.com/happenings/live-in-the-lounge-feat-jim-hayden-62/
LOCATION:1799 Bar\, 130 2nd Ave N\, Franklin\, TN\, 37064
CATEGORIES:Eat & Drink,Music
END:VEVENT
BEGIN:VEVENT
DTSTART;TZID=America/New_York:20240426T190000
DTEND;TZID=America/New_York:20240426T220000
DTSTAMP:20260421T112649
CREATED:20240319T171407Z
LAST-MODIFIED:20240426T174231Z
UID:9121-1714158000-1714168800@harpethhotel.com
SUMMARY:Live in The Lounge feat. South Margin
DESCRIPTION:Live Music in 1799 Lounge featuring South Margin- Guitar & Vocals
URL:https://harpethhotel.com/happenings/live-in-the-lounge-feat-cay-aliese/
LOCATION:1799 Bar\, 130 2nd Ave N\, Franklin\, TN\, 37064
CATEGORIES:Eat & Drink,Music
ATTACH;FMTTYPE=image/png:https://harpethhotel.com/wp-content/uploads/Guitar-Music-copy-21.png
END:VEVENT
BEGIN:VEVENT
DTSTART;VALUE=DATE:20240427
DTEND;VALUE=DATE:20240429
DTSTAMP:20260421T112649
CREATED:20240418T142436Z
LAST-MODIFIED:20240418T151623Z
UID:9195-1714176000-1714348799@harpethhotel.com
SUMMARY:Main Street Festival
DESCRIPTION:Please join us for the 40th annual Main Street Festival. You will find Live Music\, Lemonade\, Free Kids Festival Meal with the purchase of a Adult Lunch\, Adult Beverages\, Bathrooms.
URL:https://harpethhotel.com/happenings/main-street-festival/
LOCATION:The Harpeth Hotel\, 130 2nd Ave N\, Franklin\, TN\, 37064
CATEGORIES:Activities,Eat & Drink,Music
ATTACH;FMTTYPE=image/png:https://harpethhotel.com/wp-content/uploads/Copy-of-Main-Street-Festival-Facebook-Post-1.png
END:VEVENT
BEGIN:VEVENT
DTSTART;TZID=America/New_York:20240427T190000
DTEND;TZID=America/New_York:20240427T220000
DTSTAMP:20260421T112649
CREATED:20240319T171617Z
LAST-MODIFIED:20240319T171632Z
UID:9126-1714244400-1714255200@harpethhotel.com
SUMMARY:Live in The Lounge feat. Troy Douherty
DESCRIPTION:Live Music in 1799 Lounge featuring Troy Douherty- Guitar & Vocals
URL:https://harpethhotel.com/happenings/live-in-the-lounge-feat-troy-douherty-4/
LOCATION:1799 Bar\, 130 2nd Ave N\, Franklin\, TN\, 37064
CATEGORIES:Eat & Drink,Music
ATTACH;FMTTYPE=image/png:https://harpethhotel.com/wp-content/uploads/Troy-Doherty.png
END:VEVENT
BEGIN:VEVENT
DTSTART;TZID=America/New_York:20240428T160000
DTEND;TZID=America/New_York:20240428T190000
DTSTAMP:20260421T112649
CREATED:20240319T171809Z
LAST-MODIFIED:20240319T171809Z
UID:9128-1714320000-1714330800@harpethhotel.com
SUMMARY:Live in The Lounge feat. Jim Hayden
DESCRIPTION:Live Music in 1799 Lounge\, featuring Jim Hayden- Keyboard & Vocals.
URL:https://harpethhotel.com/happenings/live-in-the-lounge-feat-jim-hayden-63/
LOCATION:1799 Bar\, 130 2nd Ave N\, Franklin\, TN\, 37064
CATEGORIES:Eat & Drink,Music
END:VEVENT
END:VCALENDAR