BEGIN:VCALENDAR
VERSION:2.0
PRODID:-//The Harpeth Hotel - ECPv6.15.20//NONSGML v1.0//EN
CALSCALE:GREGORIAN
METHOD:PUBLISH
X-ORIGINAL-URL:https://harpethhotel.com
X-WR-CALDESC:Events for The Harpeth Hotel
REFRESH-INTERVAL;VALUE=DURATION:PT1H
X-Robots-Tag:noindex
X-PUBLISHED-TTL:PT1H
BEGIN:VTIMEZONE
TZID:America/New_York
BEGIN:DAYLIGHT
TZOFFSETFROM:-0500
TZOFFSETTO:-0400
TZNAME:EDT
DTSTART:20230312T070000
END:DAYLIGHT
BEGIN:STANDARD
TZOFFSETFROM:-0400
TZOFFSETTO:-0500
TZNAME:EST
DTSTART:20231105T060000
END:STANDARD
BEGIN:DAYLIGHT
TZOFFSETFROM:-0500
TZOFFSETTO:-0400
TZNAME:EDT
DTSTART:20240310T070000
END:DAYLIGHT
BEGIN:STANDARD
TZOFFSETFROM:-0400
TZOFFSETTO:-0500
TZNAME:EST
DTSTART:20241103T060000
END:STANDARD
BEGIN:DAYLIGHT
TZOFFSETFROM:-0500
TZOFFSETTO:-0400
TZNAME:EDT
DTSTART:20250309T070000
END:DAYLIGHT
BEGIN:STANDARD
TZOFFSETFROM:-0400
TZOFFSETTO:-0500
TZNAME:EST
DTSTART:20251102T060000
END:STANDARD
END:VTIMEZONE
BEGIN:VEVENT
DTSTART;TZID=America/New_York:20240503T180000
DTEND;TZID=America/New_York:20240503T210000
DTSTAMP:20260421T095838
CREATED:20240423T212314Z
LAST-MODIFIED:20240423T212314Z
UID:9208-1714759200-1714770000@harpethhotel.com
SUMMARY:Franklin Art Crawl feat. Kristen Dabbs
DESCRIPTION:Please join featured artist\, Kristen Dabbs\, in the Lobby.
URL:https://harpethhotel.com/happenings/franklin-art-crawl-feat-kristen-dabbs/
LOCATION:The Lobby\, 130 2ND AVE N\, Franklin\, TN\, 37064\, United States
CATEGORIES:Art,Eat & Drink,Music
ATTACH;FMTTYPE=image/png:https://harpethhotel.com/wp-content/uploads/Happenings-Page-Art-Crawl.png
END:VEVENT
BEGIN:VEVENT
DTSTART;TZID=America/New_York:20240503T190000
DTEND;TZID=America/New_York:20240503T220000
DTSTAMP:20260421T095838
CREATED:20240425T141715Z
LAST-MODIFIED:20240425T141715Z
UID:9225-1714762800-1714773600@harpethhotel.com
SUMMARY:Live in The Lounge feat. Robyn Taylor
DESCRIPTION:Live Music in 1799 Lounge\, featuring Robyn Taylor- Guitar & Vocals.
URL:https://harpethhotel.com/happenings/live-in-the-lounge-feat-robyn-taylor/
LOCATION:1799 Bar\, 130 2nd Ave N\, Franklin\, TN\, 37064
CATEGORIES:Eat & Drink,Music
ATTACH;FMTTYPE=image/png:https://harpethhotel.com/wp-content/uploads/Guitar-Music-copy-18.png
END:VEVENT
BEGIN:VEVENT
DTSTART;TZID=America/New_York:20240504T190000
DTEND;TZID=America/New_York:20240504T220000
DTSTAMP:20260421T095838
CREATED:20240425T135006Z
LAST-MODIFIED:20240425T135006Z
UID:9219-1714849200-1714860000@harpethhotel.com
SUMMARY:Live in The Lounge feat. Les Kerr
DESCRIPTION:Live Music in 1799 Lounge\, featuring Les Kerr- Guitar & Vocals.
URL:https://harpethhotel.com/happenings/live-in-the-lounge-feat-les-kerr-11/
LOCATION:1799 Bar\, 130 2nd Ave N\, Franklin\, TN\, 37064
CATEGORIES:Eat & Drink,Music
ATTACH;FMTTYPE=image/png:https://harpethhotel.com/wp-content/uploads/Guitar-Music-1-7.png
END:VEVENT
BEGIN:VEVENT
DTSTART;TZID=America/New_York:20240505T160000
DTEND;TZID=America/New_York:20240505T190000
DTSTAMP:20260421T095838
CREATED:20240425T134547Z
LAST-MODIFIED:20240425T134547Z
UID:9211-1714924800-1714935600@harpethhotel.com
SUMMARY:Live in The Lounge feat. Jim Hayden
DESCRIPTION:Live Music in 1799 Lounge\, featuring Jim Hayden- Keyboard & Vocals.
URL:https://harpethhotel.com/happenings/live-in-the-lounge-feat-jim-hayden-64/
LOCATION:1799 Bar\, 130 2nd Ave N\, Franklin\, TN\, 37064
CATEGORIES:Eat & Drink,Music
END:VEVENT
BEGIN:VEVENT
DTSTART;TZID=America/New_York:20240510T190000
DTEND;TZID=America/New_York:20240510T220000
DTSTAMP:20260421T095838
CREATED:20240425T141829Z
LAST-MODIFIED:20240425T141829Z
UID:9230-1715367600-1715378400@harpethhotel.com
SUMMARY:Live in The Lounge feat. Steven Gary
DESCRIPTION:Live Music in 1799 Lounge\, featuring Steven Gary- Guitar & Vocals.
URL:https://harpethhotel.com/happenings/live-in-the-lounge-feat-steven-gary/
LOCATION:TN
CATEGORIES:Eat & Drink,Music
ATTACH;FMTTYPE=image/png:https://harpethhotel.com/wp-content/uploads/Guitar-Music-copy-19.png
END:VEVENT
BEGIN:VEVENT
DTSTART;TZID=America/New_York:20240511T190000
DTEND;TZID=America/New_York:20240511T220000
DTSTAMP:20260421T095838
CREATED:20240425T135152Z
LAST-MODIFIED:20240425T135152Z
UID:9221-1715454000-1715464800@harpethhotel.com
SUMMARY:Live In The Lounge feat. Aaron Bucks
DESCRIPTION:Live Music in 1799 Lounge\, featuring Aaron Bucks – Guitar & Vocals
URL:https://harpethhotel.com/happenings/live-in-the-lounge-feat-aaron-bucks-19/
LOCATION:1799 Bar\, 130 2nd Ave N\, Franklin\, TN\, 37064
CATEGORIES:Eat & Drink,Music
ATTACH;FMTTYPE=image/png:https://harpethhotel.com/wp-content/uploads/Guitar-Music-copy.png
END:VEVENT
BEGIN:VEVENT
DTSTART;TZID=America/New_York:20240512T160000
DTEND;TZID=America/New_York:20240512T190000
DTSTAMP:20260421T095838
CREATED:20240425T134617Z
LAST-MODIFIED:20240425T134617Z
UID:9213-1715529600-1715540400@harpethhotel.com
SUMMARY:Live in The Lounge feat. Jim Hayden
DESCRIPTION:Live Music in 1799 Lounge\, featuring Jim Hayden- Keyboard & Vocals.
URL:https://harpethhotel.com/happenings/live-in-the-lounge-feat-jim-hayden-65/
LOCATION:1799 Bar\, 130 2nd Ave N\, Franklin\, TN\, 37064
CATEGORIES:Eat & Drink,Music
END:VEVENT
BEGIN:VEVENT
DTSTART;TZID=America/New_York:20240517T190000
DTEND;TZID=America/New_York:20240517T220000
DTSTAMP:20260421T095838
CREATED:20240430T171711Z
LAST-MODIFIED:20240430T171711Z
UID:9246-1715972400-1715983200@harpethhotel.com
SUMMARY:Live in The Lounge feat. Kayla Wass
DESCRIPTION:Live Music in 1799 Lounge featuring Kayla Wass- Guitar & Vocals
URL:https://harpethhotel.com/happenings/live-in-the-lounge-feat-kayla-wass-17/
LOCATION:1799 Bar\, 130 2nd Ave N\, Franklin\, TN\, 37064
CATEGORIES:Eat & Drink,Music
ATTACH;FMTTYPE=image/png:https://harpethhotel.com/wp-content/uploads/Kayla-Wass.png
END:VEVENT
BEGIN:VEVENT
DTSTART;TZID=America/New_York:20240518T190000
DTEND;TZID=America/New_York:20240518T220000
DTSTAMP:20260421T095838
CREATED:20240430T171821Z
LAST-MODIFIED:20240430T171821Z
UID:9248-1716058800-1716069600@harpethhotel.com
SUMMARY:Live in the Lounge feat. Rick Armentrout
DESCRIPTION:Live music in 1799 Lounge\, featuring Rick Armentrout- Guitar & Vocals.
URL:https://harpethhotel.com/happenings/live-in-the-lounge-feat-rick-armentrout-8/
LOCATION:1799 Bar\, 130 2nd Ave N\, Franklin\, TN\, 37064
CATEGORIES:Eat & Drink,Music
ATTACH;FMTTYPE=image/png:https://harpethhotel.com/wp-content/uploads/Guitar-Music-11.png
END:VEVENT
BEGIN:VEVENT
DTSTART;TZID=America/New_York:20240519T160000
DTEND;TZID=America/New_York:20240519T190000
DTSTAMP:20260421T095838
CREATED:20240425T134704Z
LAST-MODIFIED:20240425T134704Z
UID:9215-1716134400-1716145200@harpethhotel.com
SUMMARY:Live in The Lounge feat. Jim Hayden
DESCRIPTION:Live Music in 1799 Lounge\, featuring Jim Hayden- Keyboard & Vocals.
URL:https://harpethhotel.com/happenings/live-in-the-lounge-feat-jim-hayden-66/
LOCATION:1799 Bar\, 130 2nd Ave N\, Franklin\, TN\, 37064
CATEGORIES:Eat & Drink,Music
END:VEVENT
BEGIN:VEVENT
DTSTART;TZID=America/New_York:20240524T190000
DTEND;TZID=America/New_York:20240524T220000
DTSTAMP:20260421T095838
CREATED:20240426T173804Z
LAST-MODIFIED:20240426T173804Z
UID:9236-1716577200-1716588000@harpethhotel.com
SUMMARY:Live in The Lounge feat. Cay Aliese
DESCRIPTION:Live Music in 1799 Lounge featuring Cay Aliese- Keyboard & Vocals
URL:https://harpethhotel.com/happenings/live-in-the-lounge-feat-cay-aliese-2/
LOCATION:1799 Bar\, 130 2nd Ave N\, Franklin\, TN\, 37064
CATEGORIES:Eat & Drink,Music
ATTACH;FMTTYPE=image/png:https://harpethhotel.com/wp-content/uploads/Keyboard-Music-1.png
END:VEVENT
BEGIN:VEVENT
DTSTART;TZID=America/New_York:20240525T190000
DTEND;TZID=America/New_York:20240525T220000
DTSTAMP:20260421T095838
CREATED:20240425T135405Z
LAST-MODIFIED:20240425T135405Z
UID:9223-1716663600-1716674400@harpethhotel.com
SUMMARY:Live in The Lounge feat. Troy Douherty
DESCRIPTION:Live Music in 1799 Lounge featuring Troy Douherty- Guitar & Vocals
URL:https://harpethhotel.com/happenings/live-in-the-lounge-feat-troy-douherty-5/
LOCATION:1799 Bar\, 130 2nd Ave N\, Franklin\, TN\, 37064
CATEGORIES:Eat & Drink,Music
ATTACH;FMTTYPE=image/png:https://harpethhotel.com/wp-content/uploads/Troy-Doherty.png
END:VEVENT
BEGIN:VEVENT
DTSTART;TZID=America/New_York:20240526T160000
DTEND;TZID=America/New_York:20240526T190000
DTSTAMP:20260421T095838
CREATED:20240425T134752Z
LAST-MODIFIED:20240425T134752Z
UID:9217-1716739200-1716750000@harpethhotel.com
SUMMARY:Live in The Lounge feat. Jim Hayden
DESCRIPTION:Live Music in 1799 Lounge\, featuring Jim Hayden- Keyboard & Vocals.
URL:https://harpethhotel.com/happenings/live-in-the-lounge-feat-jim-hayden-67/
LOCATION:1799 Bar\, 130 2nd Ave N\, Franklin\, TN\, 37064
CATEGORIES:Eat & Drink,Music
END:VEVENT
BEGIN:VEVENT
DTSTART;TZID=America/New_York:20240531T190000
DTEND;TZID=America/New_York:20240531T220000
DTSTAMP:20260421T095838
CREATED:20240430T171927Z
LAST-MODIFIED:20240430T171927Z
UID:9250-1717182000-1717192800@harpethhotel.com
SUMMARY:Live in The Lounge feat. Doug Allen
DESCRIPTION:Live Music in 1799 Lounge featuring Doug Allen- Guitar & Vocals.
URL:https://harpethhotel.com/happenings/live-in-the-lounge-feat-doug-allen-15/
LOCATION:1799 Bar\, 130 2nd Ave N\, Franklin\, TN\, 37064
CATEGORIES:Eat & Drink,Music
ATTACH;FMTTYPE=image/png:https://harpethhotel.com/wp-content/uploads/Doug-Allen.png
END:VEVENT
END:VCALENDAR