BEGIN:VCALENDAR
VERSION:2.0
PRODID:-//The Harpeth Hotel - ECPv6.15.20//NONSGML v1.0//EN
CALSCALE:GREGORIAN
METHOD:PUBLISH
X-WR-CALNAME:The Harpeth Hotel
X-ORIGINAL-URL:https://harpethhotel.com
X-WR-CALDESC:Events for The Harpeth Hotel
REFRESH-INTERVAL;VALUE=DURATION:PT1H
X-Robots-Tag:noindex
X-PUBLISHED-TTL:PT1H
BEGIN:VTIMEZONE
TZID:America/New_York
BEGIN:DAYLIGHT
TZOFFSETFROM:-0500
TZOFFSETTO:-0400
TZNAME:EDT
DTSTART:20230312T070000
END:DAYLIGHT
BEGIN:STANDARD
TZOFFSETFROM:-0400
TZOFFSETTO:-0500
TZNAME:EST
DTSTART:20231105T060000
END:STANDARD
BEGIN:DAYLIGHT
TZOFFSETFROM:-0500
TZOFFSETTO:-0400
TZNAME:EDT
DTSTART:20240310T070000
END:DAYLIGHT
BEGIN:STANDARD
TZOFFSETFROM:-0400
TZOFFSETTO:-0500
TZNAME:EST
DTSTART:20241103T060000
END:STANDARD
BEGIN:DAYLIGHT
TZOFFSETFROM:-0500
TZOFFSETTO:-0400
TZNAME:EDT
DTSTART:20250309T070000
END:DAYLIGHT
BEGIN:STANDARD
TZOFFSETFROM:-0400
TZOFFSETTO:-0500
TZNAME:EST
DTSTART:20251102T060000
END:STANDARD
END:VTIMEZONE
BEGIN:VEVENT
DTSTART;TZID=America/New_York:20241201T160000
DTEND;TZID=America/New_York:20241201T190000
DTSTAMP:20260420T234122
CREATED:20241121T194543Z
LAST-MODIFIED:20241121T194543Z
UID:9910-1733068800-1733079600@harpethhotel.com
SUMMARY:Live in The Lounge feat. Jim Hayden
DESCRIPTION:Live Music in 1799 Lounge\, featuring Jim Hayden- Keyboard & Vocals.
URL:https://harpethhotel.com/happenings/live-in-the-lounge-feat-jim-hayden-93/
LOCATION:1799 Bar\, 130 2nd Ave N\, Franklin\, TN\, 37064
CATEGORIES:Eat & Drink,Music
END:VEVENT
BEGIN:VEVENT
DTSTART;TZID=America/New_York:20241204T180000
DTEND;TZID=America/New_York:20241204T210000
DTSTAMP:20260420T234122
CREATED:20241121T212509Z
LAST-MODIFIED:20241121T212509Z
UID:9922-1733335200-1733346000@harpethhotel.com
SUMMARY:Whiskey Wednesday feat. Troy Doherty
DESCRIPTION:Live Music in 1799 Lounge.
URL:https://harpethhotel.com/happenings/whiskey-wednesday-feat-troy-doherty-5/
LOCATION:1799 Bar\, 130 2nd Ave N\, Franklin\, TN\, 37064
CATEGORIES:Eat & Drink,Music
ATTACH;FMTTYPE=image/png:https://harpethhotel.com/wp-content/uploads/Whiskey-Wednesday.png
END:VEVENT
BEGIN:VEVENT
DTSTART;TZID=America/New_York:20241206T130000
DTEND;TZID=America/New_York:20241206T160000
DTSTAMP:20260420T234122
CREATED:20241121T214442Z
LAST-MODIFIED:20241121T214442Z
UID:9932-1733490000-1733500800@harpethhotel.com
SUMMARY:Live in The Lounge feat. Dale Mcreary
DESCRIPTION:Live Music in 1799 Lounge\, featuring Dale Mcreary- Guitar & Vocals.
URL:https://harpethhotel.com/happenings/live-in-the-lounge-feat-dale-mcreary/
LOCATION:1799 Bar\, 130 2nd Ave N\, Franklin\, TN\, 37064
CATEGORIES:Eat & Drink,Music
ATTACH;FMTTYPE=image/png:https://harpethhotel.com/wp-content/uploads/Guitar-Music-32.png
END:VEVENT
BEGIN:VEVENT
DTSTART;TZID=America/New_York:20241206T163000
DTEND;TZID=America/New_York:20241206T193000
DTSTAMP:20260420T234122
CREATED:20241121T214625Z
LAST-MODIFIED:20241121T214625Z
UID:9937-1733502600-1733513400@harpethhotel.com
SUMMARY:Live in The Lounge feat. Chelsea Rhodes
DESCRIPTION:Live Music in 1799 Lounge featuring Chelsea Rhodes- Guitar & Vocals
URL:https://harpethhotel.com/happenings/live-in-the-lounge-feat-chelsea-rhodes-10/
LOCATION:1799 Bar\, 130 2nd Ave N\, Franklin\, TN\, 37064
CATEGORIES:Eat & Drink,Music
ATTACH;FMTTYPE=image/png:https://harpethhotel.com/wp-content/uploads/Guitar-Music-33.png
END:VEVENT
BEGIN:VEVENT
DTSTART;TZID=America/New_York:20241206T200000
DTEND;TZID=America/New_York:20241206T230000
DTSTAMP:20260420T234122
CREATED:20241121T214847Z
LAST-MODIFIED:20241121T214847Z
UID:9939-1733515200-1733526000@harpethhotel.com
SUMMARY:Live in The Lounge feat. Troy Doherty
DESCRIPTION:Live Music in 1799 Lounge featuring Troy Doherty- Guitar & Vocals
URL:https://harpethhotel.com/happenings/live-in-the-lounge-feat-troy-doherty-25/
LOCATION:1799 Bar\, 130 2nd Ave N\, Franklin\, TN\, 37064
CATEGORIES:Eat & Drink,Music
ATTACH;FMTTYPE=image/png:https://harpethhotel.com/wp-content/uploads/Guitar-Music-34.png
END:VEVENT
BEGIN:VEVENT
DTSTART;TZID=America/New_York:20241207T190000
DTEND;TZID=America/New_York:20241207T220000
DTSTAMP:20260420T234122
CREATED:20241121T212934Z
LAST-MODIFIED:20241121T212934Z
UID:9926-1733598000-1733608800@harpethhotel.com
SUMMARY:Live in The Lounge feat. Brain Ashley Jones
DESCRIPTION:Live Music in 1799 Lounge featuring Brian Ashley Jones- Guitar & Vocals
URL:https://harpethhotel.com/happenings/live-in-the-lounge-feat-brain-ashley-jones-7/
LOCATION:1799 Bar\, 130 2nd Ave N\, Franklin\, TN\, 37064
CATEGORIES:Eat & Drink,Music
ATTACH;FMTTYPE=image/png:https://harpethhotel.com/wp-content/uploads/Guitar-Music-26.png
END:VEVENT
BEGIN:VEVENT
DTSTART;TZID=America/New_York:20241208T160000
DTEND;TZID=America/New_York:20241208T190000
DTSTAMP:20260420T234122
CREATED:20241121T194749Z
LAST-MODIFIED:20241121T194749Z
UID:9912-1733673600-1733684400@harpethhotel.com
SUMMARY:Live in The Lounge feat. Jim Hayden
DESCRIPTION:Live Music in 1799 Lounge\, featuring Jim Hayden- Keyboard & Vocals.
URL:https://harpethhotel.com/happenings/live-in-the-lounge-feat-jim-hayden-94/
LOCATION:1799 Bar\, 130 2nd Ave N\, Franklin\, TN\, 37064
CATEGORIES:Eat & Drink,Music
END:VEVENT
BEGIN:VEVENT
DTSTART;TZID=America/New_York:20241211T180000
DTEND;TZID=America/New_York:20241211T210000
DTSTAMP:20260420T234122
CREATED:20241121T212540Z
LAST-MODIFIED:20241121T212540Z
UID:9921-1733940000-1733950800@harpethhotel.com
SUMMARY:Whiskey Wednesday feat. Troy Doherty
DESCRIPTION:Live Music in 1799 Lounge.
URL:https://harpethhotel.com/happenings/whiskey-wednesday-feat-troy-doherty-6/
LOCATION:1799 Bar\, 130 2nd Ave N\, Franklin\, TN\, 37064
CATEGORIES:Eat & Drink,Music
ATTACH;FMTTYPE=image/png:https://harpethhotel.com/wp-content/uploads/Whiskey-Wednesday.png
END:VEVENT
BEGIN:VEVENT
DTSTART;TZID=America/New_York:20241213T190000
DTEND;TZID=America/New_York:20241213T220000
DTSTAMP:20260420T234122
CREATED:20241121T213051Z
LAST-MODIFIED:20241121T213051Z
UID:9928-1734116400-1734127200@harpethhotel.com
SUMMARY:Live in The Lounge feat. South Margin
DESCRIPTION:Live Music in 1799 Lounge featuring South Margin- Guitar & Vocals
URL:https://harpethhotel.com/happenings/live-in-the-lounge-feat-south-margin-7/
LOCATION:1799 Bar\, 130 2nd Ave N\, Franklin\, TN\, 37064
CATEGORIES:Eat & Drink,Music
ATTACH;FMTTYPE=image/png:https://harpethhotel.com/wp-content/uploads/Guitar-Music-copy-21.png
END:VEVENT
BEGIN:VEVENT
DTSTART;TZID=America/New_York:20241214T190000
DTEND;TZID=America/New_York:20241214T220000
DTSTAMP:20260420T234122
CREATED:20241121T213201Z
LAST-MODIFIED:20241121T213201Z
UID:9930-1734202800-1734213600@harpethhotel.com
SUMMARY:Live in The Lounge feat. Allie Lamb
DESCRIPTION:Live Music in 1799 Lounge\, featuring Allie Lamb- Guitar & Vocals.
URL:https://harpethhotel.com/happenings/live-in-the-lounge-feat-allie-lamb-8/
LOCATION:1799 Bar\, 130 2nd Ave N\, Franklin\, TN\, 37064
CATEGORIES:Eat & Drink,Music
ATTACH;FMTTYPE=image/png:https://harpethhotel.com/wp-content/uploads/Guitar-Music-1-30.png
END:VEVENT
BEGIN:VEVENT
DTSTART;TZID=America/New_York:20241215T160000
DTEND;TZID=America/New_York:20241215T190000
DTSTAMP:20260420T234122
CREATED:20241121T194856Z
LAST-MODIFIED:20241121T194856Z
UID:9914-1734278400-1734289200@harpethhotel.com
SUMMARY:Live in The Lounge feat. Jim Hayden
DESCRIPTION:Live Music in 1799 Lounge\, featuring Jim Hayden- Keyboard & Vocals.
URL:https://harpethhotel.com/happenings/live-in-the-lounge-feat-jim-hayden-95/
LOCATION:1799 Bar\, 130 2nd Ave N\, Franklin\, TN\, 37064
CATEGORIES:Eat & Drink,Music
END:VEVENT
BEGIN:VEVENT
DTSTART;TZID=America/New_York:20241218T180000
DTEND;TZID=America/New_York:20241218T210000
DTSTAMP:20260420T234122
CREATED:20241121T212625Z
LAST-MODIFIED:20241121T212625Z
UID:9920-1734544800-1734555600@harpethhotel.com
SUMMARY:Whiskey Wednesday feat. Troy Doherty
DESCRIPTION:Live Music in 1799 Lounge.
URL:https://harpethhotel.com/happenings/whiskey-wednesday-feat-troy-doherty-7/
LOCATION:1799 Bar\, 130 2nd Ave N\, Franklin\, TN\, 37064
CATEGORIES:Eat & Drink,Music
ATTACH;FMTTYPE=image/png:https://harpethhotel.com/wp-content/uploads/Whiskey-Wednesday.png
END:VEVENT
BEGIN:VEVENT
DTSTART;TZID=America/New_York:20241220T190000
DTEND;TZID=America/New_York:20241220T220000
DTSTAMP:20260420T234122
CREATED:20241121T215824Z
LAST-MODIFIED:20241121T215824Z
UID:9943-1734721200-1734732000@harpethhotel.com
SUMMARY:Live in The Lounge feat. Lauren Freebird
DESCRIPTION:Live Music in 1799 Lounge\, featuring Lauren Freebird- Guitar & Vocals.
URL:https://harpethhotel.com/happenings/live-in-the-lounge-feat-lauren-freebird/
LOCATION:1799 Bar\, 130 2nd Ave N\, Franklin\, TN\, 37064
CATEGORIES:Eat & Drink,Music
END:VEVENT
BEGIN:VEVENT
DTSTART;TZID=America/New_York:20241221T190000
DTEND;TZID=America/New_York:20241221T220000
DTSTAMP:20260420T234122
CREATED:20241121T215302Z
LAST-MODIFIED:20241121T215302Z
UID:9941-1734807600-1734818400@harpethhotel.com
SUMMARY:Live in The Lounge feat. Gary Stevens
DESCRIPTION:Live Music in 1799 Lounge\, featuring Gary Stevens- Guitar & Vocals.
URL:https://harpethhotel.com/happenings/live-in-the-lounge-feat-gary-stevens-2/
LOCATION:1799 Bar\, 130 2nd Ave N\, Franklin\, TN\, 37064
CATEGORIES:Eat & Drink,Music
ATTACH;FMTTYPE=image/png:https://harpethhotel.com/wp-content/uploads/Guitar-Music-28.png
END:VEVENT
BEGIN:VEVENT
DTSTART;TZID=America/New_York:20241222T160000
DTEND;TZID=America/New_York:20241222T190000
DTSTAMP:20260420T234122
CREATED:20241121T194956Z
LAST-MODIFIED:20241121T194956Z
UID:9917-1734883200-1734894000@harpethhotel.com
SUMMARY:Live in The Lounge feat. Jim Hayden
DESCRIPTION:Live Music in 1799 Lounge\, featuring Jim Hayden- Keyboard & Vocals.
URL:https://harpethhotel.com/happenings/live-in-the-lounge-feat-jim-hayden-96/
LOCATION:1799 Bar\, 130 2nd Ave N\, Franklin\, TN\, 37064
CATEGORIES:Eat & Drink,Music
END:VEVENT
BEGIN:VEVENT
DTSTART;TZID=America/New_York:20241227T190000
DTEND;TZID=America/New_York:20241227T220000
DTSTAMP:20260420T234122
CREATED:20241121T220937Z
LAST-MODIFIED:20241121T220937Z
UID:9946-1735326000-1735336800@harpethhotel.com
SUMMARY:Live in the Lounge feat. Amanda McCarthy
DESCRIPTION:Live music in 1799 Lounge\, featuring Amanda McCarthy- Guitar & Vocals.
URL:https://harpethhotel.com/happenings/live-in-the-lounge-feat-amanda-mccarthy-9/
LOCATION:1799 Bar\, 130 2nd Ave N\, Franklin\, TN\, 37064
CATEGORIES:Eat & Drink,Music
ATTACH;FMTTYPE=image/png:https://harpethhotel.com/wp-content/uploads/Guitar-Music-24.png
END:VEVENT
BEGIN:VEVENT
DTSTART;TZID=America/New_York:20241228T190000
DTEND;TZID=America/New_York:20241228T220000
DTSTAMP:20260420T234122
CREATED:20241121T220832Z
LAST-MODIFIED:20241121T220832Z
UID:9947-1735412400-1735423200@harpethhotel.com
SUMMARY:Live in the Lounge feat. Drew Whitehead
DESCRIPTION:Live Music in 1799 Lounge\, featuring Drew Whitehead – Guitar & Vocals.
URL:https://harpethhotel.com/happenings/live-in-the-lounge-feat-drew-whitehead-11/
LOCATION:1799 Bar\, 130 2nd Ave N\, Franklin\, TN\, 37064
CATEGORIES:Eat & Drink,Music
ATTACH;FMTTYPE=image/png:https://harpethhotel.com/wp-content/uploads/Guitar-Music-16.png
END:VEVENT
BEGIN:VEVENT
DTSTART;TZID=America/New_York:20241229T160000
DTEND;TZID=America/New_York:20241229T190000
DTSTAMP:20260420T234122
CREATED:20241121T195029Z
LAST-MODIFIED:20241121T195029Z
UID:9913-1735488000-1735498800@harpethhotel.com
SUMMARY:Live in The Lounge feat. Jim Hayden
DESCRIPTION:Live Music in 1799 Lounge\, featuring Jim Hayden- Keyboard & Vocals.
URL:https://harpethhotel.com/happenings/live-in-the-lounge-feat-jim-hayden-97/
LOCATION:1799 Bar\, 130 2nd Ave N\, Franklin\, TN\, 37064
CATEGORIES:Eat & Drink,Music
END:VEVENT
BEGIN:VEVENT
DTSTART;TZID=America/New_York:20241231T180000
DTEND;TZID=America/New_York:20241231T210000
DTSTAMP:20260420T234122
CREATED:20241216T171614Z
LAST-MODIFIED:20241216T171614Z
UID:9976-1735668000-1735678800@harpethhotel.com
SUMMARY:Live in The Lounge feat. Troy Doherty
DESCRIPTION:Live Music in 1799 Lounge featuring Troy Doherty- Guitar & Vocals
URL:https://harpethhotel.com/happenings/live-in-the-lounge-feat-troy-doherty-26/
LOCATION:1799 Bar\, 130 2nd Ave N\, Franklin\, TN\, 37064
CATEGORIES:Eat & Drink,Music
ATTACH;FMTTYPE=image/png:https://harpethhotel.com/wp-content/uploads/Guitar-Music-36.png
END:VEVENT
BEGIN:VEVENT
DTSTART;TZID=America/New_York:20241231T213000
DTEND;TZID=America/New_York:20241231T233000
DTSTAMP:20260420T234122
CREATED:20241216T171312Z
LAST-MODIFIED:20241216T171312Z
UID:9972-1735680600-1735687800@harpethhotel.com
SUMMARY:Live in The Lounge feat. Isaac Ferguson Dillard
DESCRIPTION:Live Music in 1799 Lounge featuring Isaac Ferguson Dillard – Vocals
URL:https://harpethhotel.com/happenings/live-in-the-lounge-feat-isaac-ferguson-dillard-14/
LOCATION:1799 Bar\, 130 2nd Ave N\, Franklin\, TN\, 37064
CATEGORIES:Eat & Drink,Music
ATTACH;FMTTYPE=image/png:https://harpethhotel.com/wp-content/uploads/Guitar-Music-37.png
END:VEVENT
END:VCALENDAR