BEGIN:VCALENDAR
VERSION:2.0
PRODID:-//The Harpeth Hotel - ECPv6.15.20//NONSGML v1.0//EN
CALSCALE:GREGORIAN
METHOD:PUBLISH
X-ORIGINAL-URL:https://harpethhotel.com
X-WR-CALDESC:Events for The Harpeth Hotel
REFRESH-INTERVAL;VALUE=DURATION:PT1H
X-Robots-Tag:noindex
X-PUBLISHED-TTL:PT1H
BEGIN:VTIMEZONE
TZID:America/New_York
BEGIN:DAYLIGHT
TZOFFSETFROM:-0500
TZOFFSETTO:-0400
TZNAME:EDT
DTSTART:20240310T070000
END:DAYLIGHT
BEGIN:STANDARD
TZOFFSETFROM:-0400
TZOFFSETTO:-0500
TZNAME:EST
DTSTART:20241103T060000
END:STANDARD
BEGIN:DAYLIGHT
TZOFFSETFROM:-0500
TZOFFSETTO:-0400
TZNAME:EDT
DTSTART:20250309T070000
END:DAYLIGHT
BEGIN:STANDARD
TZOFFSETFROM:-0400
TZOFFSETTO:-0500
TZNAME:EST
DTSTART:20251102T060000
END:STANDARD
BEGIN:DAYLIGHT
TZOFFSETFROM:-0500
TZOFFSETTO:-0400
TZNAME:EDT
DTSTART:20260308T070000
END:DAYLIGHT
BEGIN:STANDARD
TZOFFSETFROM:-0400
TZOFFSETTO:-0500
TZNAME:EST
DTSTART:20261101T060000
END:STANDARD
END:VTIMEZONE
BEGIN:VEVENT
DTSTART;TZID=America/New_York:20250201T190000
DTEND;TZID=America/New_York:20250201T220000
DTSTAMP:20260420T203924
CREATED:20250120T180655Z
LAST-MODIFIED:20250120T180655Z
UID:10167-1738436400-1738447200@harpethhotel.com
SUMMARY:Live in The Lounge feat. Gary Stevens
DESCRIPTION:Live Music in 1799 Lounge\, featuring Gary Stevens- Guitar & Vocals.
URL:https://harpethhotel.com/happenings/live-in-the-lounge-feat-gary-stevens-4/
LOCATION:1799 Bar\, 130 2nd Ave N\, Franklin\, TN\, 37064
CATEGORIES:Eat & Drink,Music
ATTACH;FMTTYPE=image/png:https://harpethhotel.com/wp-content/uploads/Guitar-Music-28.png
END:VEVENT
BEGIN:VEVENT
DTSTART;TZID=America/New_York:20250202T160000
DTEND;TZID=America/New_York:20250202T190000
DTSTAMP:20260420T203924
CREATED:20250120T180755Z
LAST-MODIFIED:20250120T180755Z
UID:10169-1738512000-1738522800@harpethhotel.com
SUMMARY:Live in The Lounge feat. Jim Hayden
DESCRIPTION:Live Music in 1799 Lounge\, featuring Jim Hayden- Keyboard & Vocals.
URL:https://harpethhotel.com/happenings/live-in-the-lounge-feat-jim-hayden-102/
LOCATION:1799 Bar\, 130 2nd Ave N\, Franklin\, TN\, 37064
CATEGORIES:Eat & Drink,Music
END:VEVENT
BEGIN:VEVENT
DTSTART;TZID=America/New_York:20250205T180000
DTEND;TZID=America/New_York:20250205T210000
DTSTAMP:20260420T203924
CREATED:20250120T181255Z
LAST-MODIFIED:20250120T181255Z
UID:10171-1738778400-1738789200@harpethhotel.com
SUMMARY:Whiskey Wednesday feat. Troy Doherty
DESCRIPTION:Live Music in 1799 Lounge.
URL:https://harpethhotel.com/happenings/whiskey-wednesday-feat-troy-doherty-12/
LOCATION:1799 Bar\, 130 2nd Ave N\, Franklin\, TN\, 37064
CATEGORIES:Eat & Drink,Music
ATTACH;FMTTYPE=image/png:https://harpethhotel.com/wp-content/uploads/Whiskey-Wednesday.png
END:VEVENT
BEGIN:VEVENT
DTSTART;TZID=America/New_York:20250207T190000
DTEND;TZID=America/New_York:20250207T220000
DTSTAMP:20260420T203924
CREATED:20250120T181443Z
LAST-MODIFIED:20250120T181443Z
UID:10173-1738954800-1738965600@harpethhotel.com
SUMMARY:Live in the Lounge feat. Melissa Duval
DESCRIPTION:Live Music in 1799 Lounge featuring Melissa Duval- Guitar & Vocals
URL:https://harpethhotel.com/happenings/live-in-the-lounge-feat-melissa-duval-5/
LOCATION:1799 Bar\, 130 2nd Ave N\, Franklin\, TN\, 37064
CATEGORIES:Eat & Drink,Music
ATTACH;FMTTYPE=image/png:https://harpethhotel.com/wp-content/uploads/Guitar-Music-copy-22.png
END:VEVENT
BEGIN:VEVENT
DTSTART;TZID=America/New_York:20250208T190000
DTEND;TZID=America/New_York:20250208T220000
DTSTAMP:20260420T203924
CREATED:20250120T181706Z
LAST-MODIFIED:20250120T181706Z
UID:10175-1739041200-1739052000@harpethhotel.com
SUMMARY:Live in The Lounge feat. Brain Ashley Jones
DESCRIPTION:Live Music in 1799 Lounge featuring Brian Ashley Jones- Guitar & Vocals
URL:https://harpethhotel.com/happenings/live-in-the-lounge-feat-brain-ashley-jones-8/
LOCATION:1799 Bar\, 130 2nd Ave N\, Franklin\, TN\, 37064
CATEGORIES:Eat & Drink,Music
ATTACH;FMTTYPE=image/png:https://harpethhotel.com/wp-content/uploads/Guitar-Music-26.png
END:VEVENT
BEGIN:VEVENT
DTSTART;TZID=America/New_York:20250209T160000
DTEND;TZID=America/New_York:20250209T190000
DTSTAMP:20260420T203924
CREATED:20250121T153344Z
LAST-MODIFIED:20250121T153344Z
UID:10179-1739116800-1739127600@harpethhotel.com
SUMMARY:Live in The Lounge feat. Jim Hayden
DESCRIPTION:Live Music in 1799 Lounge\, featuring Jim Hayden- Keyboard & Vocals.
URL:https://harpethhotel.com/happenings/live-in-the-lounge-feat-jim-hayden-103/
LOCATION:1799 Bar\, 130 2nd Ave N\, Franklin\, TN\, 37064
CATEGORIES:Eat & Drink,Music
END:VEVENT
BEGIN:VEVENT
DTSTART;TZID=America/New_York:20250212T180000
DTEND;TZID=America/New_York:20250212T210000
DTSTAMP:20260420T203924
CREATED:20250121T153449Z
LAST-MODIFIED:20250121T153449Z
UID:10181-1739383200-1739394000@harpethhotel.com
SUMMARY:Whiskey Wednesday feat. Troy Doherty
DESCRIPTION:Live Music in 1799 Lounge.
URL:https://harpethhotel.com/happenings/whiskey-wednesday-feat-troy-doherty-13/
LOCATION:1799 Bar\, 130 2nd Ave N\, Franklin\, TN\, 37064
CATEGORIES:Eat & Drink,Music
ATTACH;FMTTYPE=image/png:https://harpethhotel.com/wp-content/uploads/Whiskey-Wednesday.png
END:VEVENT
BEGIN:VEVENT
DTSTART;TZID=America/New_York:20250213T180000
DTEND;TZID=America/New_York:20250213T210000
DTSTAMP:20260420T203924
CREATED:20250204T222303Z
LAST-MODIFIED:20250204T222303Z
UID:10222-1739469600-1739480400@harpethhotel.com
SUMMARY:Live in The Lounge feat. Steven Gary
DESCRIPTION:Live Music in 1799 Lounge\, featuring Steven Gary- Guitar & Vocals.
URL:https://harpethhotel.com/happenings/live-in-the-lounge-feat-steven-gary-2/
LOCATION:1799 Bar\, 130 2nd Ave N\, Franklin\, TN\, 37064
CATEGORIES:Eat & Drink,Music
ATTACH;FMTTYPE=image/png:https://harpethhotel.com/wp-content/uploads/Guitar-Music-38.png
END:VEVENT
BEGIN:VEVENT
DTSTART;TZID=America/New_York:20250214T190000
DTEND;TZID=America/New_York:20250214T220000
DTSTAMP:20260420T203924
CREATED:20250121T153703Z
LAST-MODIFIED:20250210T192500Z
UID:10183-1739559600-1739570400@harpethhotel.com
SUMMARY:Live in The Lounge feat. Dale McCreary
DESCRIPTION:Live Music in 1799 Lounge featuring Dale McCreary- Guitar & Vocals.
URL:https://harpethhotel.com/happenings/live-in-the-lounge-feat-doug-allen-17/
LOCATION:1799 Bar\, 130 2nd Ave N\, Franklin\, TN\, 37064
CATEGORIES:Eat & Drink,Music
ATTACH;FMTTYPE=image/png:https://harpethhotel.com/wp-content/uploads/Guitar-Music-39.png
END:VEVENT
BEGIN:VEVENT
DTSTART;TZID=America/New_York:20250215T190000
DTEND;TZID=America/New_York:20250215T220000
DTSTAMP:20260420T203924
CREATED:20250121T154839Z
LAST-MODIFIED:20250121T154839Z
UID:10185-1739646000-1739656800@harpethhotel.com
SUMMARY:Live in The Lounge feat. South Margin
DESCRIPTION:Live Music in 1799 Lounge featuring South Margin- Guitar & Vocals
URL:https://harpethhotel.com/happenings/live-in-the-lounge-feat-south-margin-9/
LOCATION:1799 Bar\, 130 2nd Ave N\, Franklin\, TN\, 37064
CATEGORIES:Eat & Drink,Music
ATTACH;FMTTYPE=image/png:https://harpethhotel.com/wp-content/uploads/Guitar-Music-copy-21.png
END:VEVENT
BEGIN:VEVENT
DTSTART;TZID=America/New_York:20250216T160000
DTEND;TZID=America/New_York:20250216T190000
DTSTAMP:20260420T203924
CREATED:20250121T154947Z
LAST-MODIFIED:20250121T154947Z
UID:10187-1739721600-1739732400@harpethhotel.com
SUMMARY:Live in The Lounge feat. Jim Hayden
DESCRIPTION:Live Music in 1799 Lounge\, featuring Jim Hayden- Keyboard & Vocals.
URL:https://harpethhotel.com/happenings/live-in-the-lounge-feat-jim-hayden-104/
LOCATION:1799 Bar\, 130 2nd Ave N\, Franklin\, TN\, 37064
CATEGORIES:Eat & Drink,Music
END:VEVENT
BEGIN:VEVENT
DTSTART;TZID=America/New_York:20250219T180000
DTEND;TZID=America/New_York:20250219T210000
DTSTAMP:20260420T203924
CREATED:20250121T155127Z
LAST-MODIFIED:20250121T155127Z
UID:10189-1739988000-1739998800@harpethhotel.com
SUMMARY:Whiskey Wednesday feat. Troy Doherty
DESCRIPTION:Live Music in 1799 Lounge.
URL:https://harpethhotel.com/happenings/whiskey-wednesday-feat-troy-doherty-14/
LOCATION:1799 Bar\, 130 2nd Ave N\, Franklin\, TN\, 37064
CATEGORIES:Eat & Drink,Music
ATTACH;FMTTYPE=image/png:https://harpethhotel.com/wp-content/uploads/Whiskey-Wednesday.png
END:VEVENT
BEGIN:VEVENT
DTSTART;TZID=America/New_York:20250221T190000
DTEND;TZID=America/New_York:20250221T220000
DTSTAMP:20260420T203924
CREATED:20250121T160650Z
LAST-MODIFIED:20250121T160650Z
UID:10191-1740164400-1740175200@harpethhotel.com
SUMMARY:Live in the Lounge feat. Drew Whitehead
DESCRIPTION:Live Music in 1799 Lounge\, featuring Drew Whitehead – Guitar & Vocals.
URL:https://harpethhotel.com/happenings/live-in-the-lounge-feat-drew-whitehead-13/
LOCATION:1799 Bar\, 130 2nd Ave N\, Franklin\, TN\, 37064
CATEGORIES:Eat & Drink,Music
ATTACH;FMTTYPE=image/png:https://harpethhotel.com/wp-content/uploads/Guitar-Music-16.png
END:VEVENT
BEGIN:VEVENT
DTSTART;TZID=America/New_York:20250222T190000
DTEND;TZID=America/New_York:20250222T220000
DTSTAMP:20260420T203924
CREATED:20250121T160831Z
LAST-MODIFIED:20250121T160831Z
UID:10193-1740250800-1740261600@harpethhotel.com
SUMMARY:Live in The Lounge feat. Chelsea Rhodes
DESCRIPTION:Live Music in 1799 Lounge\, featuring Chelsea Rhodes- Guitar & Vocals.
URL:https://harpethhotel.com/happenings/live-in-the-lounge-feat-chelsea-rhodes-12/
LOCATION:1799 Bar\, 130 2nd Ave N\, Franklin\, TN\, 37064
CATEGORIES:Eat & Drink,Music
ATTACH;FMTTYPE=image/png:https://harpethhotel.com/wp-content/uploads/Chelsea-Rhodes.png
END:VEVENT
BEGIN:VEVENT
DTSTART;TZID=America/New_York:20250223T160000
DTEND;TZID=America/New_York:20250223T190000
DTSTAMP:20260420T203924
CREATED:20250121T160942Z
LAST-MODIFIED:20250121T160942Z
UID:10195-1740326400-1740337200@harpethhotel.com
SUMMARY:Live in The Lounge feat. Jim Hayden
DESCRIPTION:Live Music in 1799 Lounge\, featuring Jim Hayden- Keyboard & Vocals.
URL:https://harpethhotel.com/happenings/live-in-the-lounge-feat-jim-hayden-105/
LOCATION:1799 Bar\, 130 2nd Ave N\, Franklin\, TN\, 37064
CATEGORIES:Eat & Drink,Music
END:VEVENT
BEGIN:VEVENT
DTSTART;TZID=America/New_York:20250226T180000
DTEND;TZID=America/New_York:20250226T210000
DTSTAMP:20260420T203924
CREATED:20250121T161113Z
LAST-MODIFIED:20250121T161113Z
UID:10197-1740592800-1740603600@harpethhotel.com
SUMMARY:Whiskey Wednesday feat. Troy Doherty
DESCRIPTION:Live Music in 1799 Lounge.
URL:https://harpethhotel.com/happenings/whiskey-wednesday-feat-troy-doherty-15/
LOCATION:1799 Bar\, 130 2nd Ave N\, Franklin\, TN\, 37064
CATEGORIES:Eat & Drink,Music
ATTACH;FMTTYPE=image/png:https://harpethhotel.com/wp-content/uploads/Whiskey-Wednesday.png
END:VEVENT
BEGIN:VEVENT
DTSTART;TZID=America/New_York:20250228T190000
DTEND;TZID=America/New_York:20250228T220000
DTSTAMP:20260420T203924
CREATED:20250121T161250Z
LAST-MODIFIED:20250121T161250Z
UID:10199-1740769200-1740780000@harpethhotel.com
SUMMARY:Live in The Lounge feat. Robyn Taylor
DESCRIPTION:Live Music in 1799 Lounge\, featuring Robyn Taylor- Guitar & Vocals.
URL:https://harpethhotel.com/happenings/live-in-the-lounge-feat-robyn-taylor-6/
LOCATION:1799 Bar\, 130 2nd Ave N\, Franklin\, TN\, 37064
CATEGORIES:Eat & Drink,Music
ATTACH;FMTTYPE=image/png:https://harpethhotel.com/wp-content/uploads/Guitar-Music-copy-18.png
END:VEVENT
END:VCALENDAR