BEGIN:VCALENDAR
VERSION:2.0
PRODID:-//The Harpeth Hotel - ECPv6.15.20//NONSGML v1.0//EN
CALSCALE:GREGORIAN
METHOD:PUBLISH
X-WR-CALNAME:The Harpeth Hotel
X-ORIGINAL-URL:https://harpethhotel.com
X-WR-CALDESC:Events for The Harpeth Hotel
REFRESH-INTERVAL;VALUE=DURATION:PT1H
X-Robots-Tag:noindex
X-PUBLISHED-TTL:PT1H
BEGIN:VTIMEZONE
TZID:America/New_York
BEGIN:DAYLIGHT
TZOFFSETFROM:-0500
TZOFFSETTO:-0400
TZNAME:EDT
DTSTART:20250309T070000
END:DAYLIGHT
BEGIN:STANDARD
TZOFFSETFROM:-0400
TZOFFSETTO:-0500
TZNAME:EST
DTSTART:20251102T060000
END:STANDARD
BEGIN:DAYLIGHT
TZOFFSETFROM:-0500
TZOFFSETTO:-0400
TZNAME:EDT
DTSTART:20260308T070000
END:DAYLIGHT
BEGIN:STANDARD
TZOFFSETFROM:-0400
TZOFFSETTO:-0500
TZNAME:EST
DTSTART:20261101T060000
END:STANDARD
BEGIN:DAYLIGHT
TZOFFSETFROM:-0500
TZOFFSETTO:-0400
TZNAME:EDT
DTSTART:20270314T070000
END:DAYLIGHT
BEGIN:STANDARD
TZOFFSETFROM:-0400
TZOFFSETTO:-0500
TZNAME:EST
DTSTART:20271107T060000
END:STANDARD
END:VTIMEZONE
BEGIN:VEVENT
DTSTART;TZID=America/New_York:20260419T150000
DTEND;TZID=America/New_York:20260419T170000
DTSTAMP:20260421T091120
CREATED:20260303T171119Z
LAST-MODIFIED:20260303T171119Z
UID:11254-1776610800-1776618000@harpethhotel.com
SUMMARY:Happy Hour
DESCRIPTION:Join us for the best Happy Hour in Franklin! Served every Sunday-Thursday from 3pm-5pm. \nDraft Beer | 6\nWine By the Glass | 9\nCocktail Specials | 9\nBarrel Aged Old Fashioned | 20\nThe Harpeth’s Blend\, an Exclusive Expression by Leiper’s Fork Distillery\, Barrel Aged In-House\, Demerara\, Angostura & Orange \nDiscounted Bar Bites
URL:https://harpethhotel.com/happenings/happy-hour-apr-19/
LOCATION:1799 Bar\, 130 2nd Ave N\, Franklin\, TN\, 37064
ATTACH;FMTTYPE=image/avif:https://harpethhotel.com/wp-content/uploads/happy-hour.avif
END:VEVENT
END:VCALENDAR