BEGIN:VCALENDAR
VERSION:2.0
PRODID:-//The Harpeth Hotel - ECPv6.15.20//NONSGML v1.0//EN
CALSCALE:GREGORIAN
METHOD:PUBLISH
X-WR-CALNAME:The Harpeth Hotel
X-ORIGINAL-URL:https://harpethhotel.com
X-WR-CALDESC:Events for The Harpeth Hotel
REFRESH-INTERVAL;VALUE=DURATION:PT1H
X-Robots-Tag:noindex
X-PUBLISHED-TTL:PT1H
BEGIN:VTIMEZONE
TZID:America/New_York
BEGIN:DAYLIGHT
TZOFFSETFROM:-0500
TZOFFSETTO:-0400
TZNAME:EDT
DTSTART:20250309T070000
END:DAYLIGHT
BEGIN:STANDARD
TZOFFSETFROM:-0400
TZOFFSETTO:-0500
TZNAME:EST
DTSTART:20251102T060000
END:STANDARD
BEGIN:DAYLIGHT
TZOFFSETFROM:-0500
TZOFFSETTO:-0400
TZNAME:EDT
DTSTART:20260308T070000
END:DAYLIGHT
BEGIN:STANDARD
TZOFFSETFROM:-0400
TZOFFSETTO:-0500
TZNAME:EST
DTSTART:20261101T060000
END:STANDARD
BEGIN:DAYLIGHT
TZOFFSETFROM:-0500
TZOFFSETTO:-0400
TZNAME:EDT
DTSTART:20270314T070000
END:DAYLIGHT
BEGIN:STANDARD
TZOFFSETFROM:-0400
TZOFFSETTO:-0500
TZNAME:EST
DTSTART:20271107T060000
END:STANDARD
END:VTIMEZONE
BEGIN:VEVENT
DTSTART;TZID=America/New_York:20260517T160000
DTEND;TZID=America/New_York:20260517T190000
DTSTAMP:20260421T055817
CREATED:20260409T032955Z
LAST-MODIFIED:20260409T032955Z
UID:11445-1779033600-1779044400@harpethhotel.com
SUMMARY:Live in the Lounge feat. Jim Hayden
DESCRIPTION:Join us for live music in the 1799 Lounge\, featuring Jim Hayden on keyboard and vocals. \nAdmission is free.
URL:https://harpethhotel.com/happenings/live-in-the-lounge-feat-jim-hayden-may-17/
LOCATION:1799 Lounge\, 130 2nd Ave N\, Franklin\, TN\, 37064
ATTACH;FMTTYPE=image/webp:https://harpethhotel.com/wp-content/uploads/live-in-the-lounge-jim-hayden-1799-kitchen-bar-room-franklin-tn.webp
END:VEVENT
END:VCALENDAR