BEGIN:VCALENDAR
VERSION:2.0
PRODID:-//The Harpeth Hotel - ECPv6.15.20//NONSGML v1.0//EN
CALSCALE:GREGORIAN
METHOD:PUBLISH
X-ORIGINAL-URL:https://harpethhotel.com
X-WR-CALDESC:Events for The Harpeth Hotel
REFRESH-INTERVAL;VALUE=DURATION:PT1H
X-Robots-Tag:noindex
X-PUBLISHED-TTL:PT1H
BEGIN:VTIMEZONE
TZID:America/New_York
BEGIN:DAYLIGHT
TZOFFSETFROM:-0500
TZOFFSETTO:-0400
TZNAME:EDT
DTSTART:20210314T070000
END:DAYLIGHT
BEGIN:STANDARD
TZOFFSETFROM:-0400
TZOFFSETTO:-0500
TZNAME:EST
DTSTART:20211107T060000
END:STANDARD
BEGIN:DAYLIGHT
TZOFFSETFROM:-0500
TZOFFSETTO:-0400
TZNAME:EDT
DTSTART:20220313T070000
END:DAYLIGHT
BEGIN:STANDARD
TZOFFSETFROM:-0400
TZOFFSETTO:-0500
TZNAME:EST
DTSTART:20221106T060000
END:STANDARD
BEGIN:DAYLIGHT
TZOFFSETFROM:-0500
TZOFFSETTO:-0400
TZNAME:EDT
DTSTART:20230312T070000
END:DAYLIGHT
BEGIN:STANDARD
TZOFFSETFROM:-0400
TZOFFSETTO:-0500
TZNAME:EST
DTSTART:20231105T060000
END:STANDARD
END:VTIMEZONE
BEGIN:VEVENT
DTSTART;TZID=America/New_York:20221106T160000
DTEND;TZID=America/New_York:20221106T190000
DTSTAMP:20260422T045328
CREATED:20221027T200217Z
LAST-MODIFIED:20221027T200217Z
UID:7021-1667750400-1667761200@harpethhotel.com
SUMMARY:Live In The Lounge feat. Jim Hayden
DESCRIPTION:Live Music in 1799 Lounge\, featuring Jim Hayden – Keyboard & Vocals
URL:https://harpethhotel.com/happenings/live-in-the-lounge-feat-jim-hayden-3/
LOCATION:1799 Bar\, 130 2nd Ave N\, Franklin\, TN\, 37064
CATEGORIES:Music
END:VEVENT
BEGIN:VEVENT
DTSTART;TZID=America/New_York:20221112T120000
DTEND;TZID=America/New_York:20221112T150000
DTSTAMP:20260422T045328
CREATED:20221027T193903Z
LAST-MODIFIED:20221027T195226Z
UID:6983-1668254400-1668265200@harpethhotel.com
SUMMARY:Music & Mimosas feat. Troy Doherty
DESCRIPTION:Live Music Featuring Troy Doherty \n@troydoherty
URL:https://harpethhotel.com/happenings/music-mimosas-ft-troy-doherty/
LOCATION:McGavock’s\, 130 2nd Ave N\, Franklin\, TN\, 37064
CATEGORIES:Music
ATTACH;FMTTYPE=image/png:https://harpethhotel.com/wp-content/uploads/2022/10/Music-Mimosa-Website-1-3.png
END:VEVENT
BEGIN:VEVENT
DTSTART;TZID=America/New_York:20221113T160000
DTEND;TZID=America/New_York:20221113T190000
DTSTAMP:20260422T045328
CREATED:20221027T200058Z
LAST-MODIFIED:20221027T200058Z
UID:7018-1668355200-1668366000@harpethhotel.com
SUMMARY:Live In The Lounge feat. Jim Hayden
DESCRIPTION:Live Music in 1799 Lounge\, featuring Jim Hayden – Keyboard & Vocals
URL:https://harpethhotel.com/happenings/live-in-the-lounge-feat-jim-hayden-2/
LOCATION:1799 Bar\, 130 2nd Ave N\, Franklin\, TN\, 37064
CATEGORIES:Music
END:VEVENT
BEGIN:VEVENT
DTSTART;TZID=America/New_York:20221118T190000
DTEND;TZID=America/New_York:20221118T220000
DTSTAMP:20260422T045328
CREATED:20221027T200445Z
LAST-MODIFIED:20221113T232459Z
UID:7030-1668798000-1668808800@harpethhotel.com
SUMMARY:Live In The Lounge feat. Aaron Bucks
DESCRIPTION:Live Music in 1799 Lounge\, featuring Aaron Bucks – Guitar & Vocals
URL:https://harpethhotel.com/happenings/live-in-the-lounge-feat-aaron-bucks-3/
LOCATION:1799 Bar\, 130 2nd Ave N\, Franklin\, TN\, 37064
CATEGORIES:Music
END:VEVENT
BEGIN:VEVENT
DTSTART;TZID=America/New_York:20221119T090000
DTEND;TZID=America/New_York:20221119T100000
DTSTAMP:20260422T045328
CREATED:20221029T025349Z
LAST-MODIFIED:20221029T025349Z
UID:7040-1668848400-1668852000@harpethhotel.com
SUMMARY:Yoga + Coffee
DESCRIPTION:Start your day with Yoga & Coffee in the Courtyard.
URL:https://harpethhotel.com/happenings/yoga-coffee/
LOCATION:The Harpeth Hotel\, 130 2nd Ave N\, Franklin\, TN\, 37064
CATEGORIES:Activities
ATTACH;FMTTYPE=image/png:https://harpethhotel.com/wp-content/uploads/2022/10/Yoga-Coffee-at-The-Harpeth-Hotel-1.png
END:VEVENT
BEGIN:VEVENT
DTSTART;TZID=America/New_York:20221119T120000
DTEND;TZID=America/New_York:20221119T150000
DTSTAMP:20260422T045328
CREATED:20221027T190247Z
LAST-MODIFIED:20221027T195145Z
UID:6978-1668859200-1668870000@harpethhotel.com
SUMMARY:Music & Mimosas feat. Aaron Bucks
DESCRIPTION:Live Music Featuring Aaron Bucks \n@bucksmusicofficial
URL:https://harpethhotel.com/happenings/music-mimosas-ft-aaron-bucks/
LOCATION:1799 Kitchen & Cocktails\, 130 2nd Ave N\, Franklin\, TN\, 37064
CATEGORIES:Music
ATTACH;FMTTYPE=image/png:https://harpethhotel.com/wp-content/uploads/2022/10/Music-Mimosa-Website-1-2.png
END:VEVENT
BEGIN:VEVENT
DTSTART;TZID=America/New_York:20221119T190000
DTEND;TZID=America/New_York:20221119T220000
DTSTAMP:20260422T045328
CREATED:20221113T233933Z
LAST-MODIFIED:20221113T233933Z
UID:7132-1668884400-1668895200@harpethhotel.com
SUMMARY:Live In The Lounge feat. Thom Ellis
DESCRIPTION:Live Music in 1799 Lounge\, featuring Thom Ellis – Guitar & Vocals
URL:https://harpethhotel.com/happenings/live-in-the-lounge-feat-thom-ellis/
LOCATION:1799 Bar\, 130 2nd Ave N\, Franklin\, TN\, 37064
CATEGORIES:Music
END:VEVENT
BEGIN:VEVENT
DTSTART;TZID=America/New_York:20221120T160000
DTEND;TZID=America/New_York:20221120T190000
DTSTAMP:20260422T045328
CREATED:20221113T215014Z
LAST-MODIFIED:20221113T215014Z
UID:7127-1668960000-1668970800@harpethhotel.com
SUMMARY:Live In The Lounge feat. Jim Hayden
DESCRIPTION:Live Music in 1799 Lounge\, featuring Jim Hayden – Keyboard & Vocals
URL:https://harpethhotel.com/happenings/live-in-the-lounge-feat-jim-hayden/
LOCATION:1799 Bar\, 130 2nd Ave N\, Franklin\, TN\, 37064
CATEGORIES:Music
END:VEVENT
BEGIN:VEVENT
DTSTART;TZID=America/New_York:20221124T100000
DTEND;TZID=America/New_York:20221124T140000
DTSTAMP:20260422T045328
CREATED:20221105T055930Z
LAST-MODIFIED:20221105T060049Z
UID:7059-1669284000-1669298400@harpethhotel.com
SUMMARY:Thanksgiving Brunch
DESCRIPTION:Celebrate Thanksgiving with your friends and family at 1799. We will be offering our brunch menu along with chef’s traditional thanksgiving specials. \nThanksgiving Special $46 \nTurkey Breast Roulade and Braised Leg\, Garlic Mashed Potatoes\, Giblet Gravy\, Roasted Brussels\, Cranberry Sauce \n  \nBraised Lamb Sheperd’s Pie $44 \nRoot Vegetables\, Tennessee Lager Gravy\, Whipped Potatoes
URL:https://harpethhotel.com/happenings/thanksgiving-brunch/
LOCATION:1799 Kitchen & Cocktails\, 130 2nd Ave N\, Franklin\, TN\, 37064
ATTACH;FMTTYPE=image/jpeg:https://harpethhotel.com/wp-content/uploads/2022/11/128A6152.jpeg
END:VEVENT
BEGIN:VEVENT
DTSTART;TZID=America/New_York:20221124T160000
DTEND;TZID=America/New_York:20221124T210000
DTSTAMP:20260422T045328
CREATED:20221105T060206Z
LAST-MODIFIED:20221113T230624Z
UID:7064-1669305600-1669323600@harpethhotel.com
SUMMARY:Thanksgiving Dinner
DESCRIPTION:Celebrate Thanksgiving with your friends and family at 1799. We will be offering our dinner menu along with chef’s traditional thanksgiving specials. \nThanksgiving Special $46 \nTurkey Breast Roulade and Braised Leg\, Garlic Mashed Potatoes\, Giblet Gravy\, Roasted Brussels\, Cranberry Sauce \n  \nBraised Lamb Sheperd’s Pie $44 \nRoot Vegetables\, Tennessee Lager Gravy\, Whipped Potatoes
URL:https://harpethhotel.com/happenings/thanksgiving-dinner/
LOCATION:1799 Kitchen & Cocktails\, 130 2nd Ave N\, Franklin\, TN\, 37064
CATEGORIES:Eat & Drink,Holidays
ATTACH;FMTTYPE=image/jpeg:https://harpethhotel.com/wp-content/uploads/2022/11/128A6152.jpeg
END:VEVENT
BEGIN:VEVENT
DTSTART;TZID=America/New_York:20221125T190000
DTEND;TZID=America/New_York:20221125T220000
DTSTAMP:20260422T045328
CREATED:20221113T214636Z
LAST-MODIFIED:20221113T232637Z
UID:7116-1669402800-1669413600@harpethhotel.com
SUMMARY:Live In The Lounge feat. Tristan McIntosh
DESCRIPTION:Live Music in 1799 Lounge\, featuring Tristan McIntosh – Guitar\, Keyboard & Vocals
URL:https://harpethhotel.com/happenings/live-in-the-lounge-feat-tristan-mcintosh/
LOCATION:1799 Bar\, 130 2nd Ave N\, Franklin\, TN\, 37064
CATEGORIES:Music
END:VEVENT
BEGIN:VEVENT
DTSTART;TZID=America/New_York:20221126T120000
DTEND;TZID=America/New_York:20221126T150000
DTSTAMP:20260422T045328
CREATED:20221027T194054Z
LAST-MODIFIED:20221027T195108Z
UID:6987-1669464000-1669474800@harpethhotel.com
SUMMARY:Music & Mimosas feat. Kelley Ann Williams
DESCRIPTION:Live Music Featuring Kelley Ann Williams \n@kelleyannwilliams
URL:https://harpethhotel.com/happenings/music-mimosas-ft-kelley-ann-williams/
LOCATION:McGavock’s\, 130 2nd Ave N\, Franklin\, TN\, 37064
CATEGORIES:Music
ATTACH;FMTTYPE=image/png:https://harpethhotel.com/wp-content/uploads/2022/10/Music-Mimosa-Website-1.png
END:VEVENT
BEGIN:VEVENT
DTSTART;TZID=America/New_York:20221126T190000
DTEND;TZID=America/New_York:20221126T220000
DTSTAMP:20260422T045328
CREATED:20221113T214728Z
LAST-MODIFIED:20221126T092021Z
UID:7121-1669489200-1669500000@harpethhotel.com
SUMMARY:Live In The Lounge feat. Kayla Wass
DESCRIPTION:Live Music in 1799 Lounge\, featuring Kayla Wass – Guitar & Vocals
URL:https://harpethhotel.com/happenings/live-in-the-lounge-feat-kayla-wass/
LOCATION:1799 Bar\, 130 2nd Ave N\, Franklin\, TN\, 37064
CATEGORIES:Music
ATTACH;FMTTYPE=image/png:https://harpethhotel.com/wp-content/uploads/2022/11/My-project-1-11.png
END:VEVENT
BEGIN:VEVENT
DTSTART;TZID=America/New_York:20221127T160000
DTEND;TZID=America/New_York:20221127T190000
DTSTAMP:20260422T045328
CREATED:20221113T215032Z
LAST-MODIFIED:20221126T092113Z
UID:7126-1669564800-1669575600@harpethhotel.com
SUMMARY:Live In The Lounge feat. Jim Hayden
DESCRIPTION:Live Music in 1799 Lounge\, featuring Jim Hayden – Keyboard & Vocals
URL:https://harpethhotel.com/happenings/live-in-the-lounge-feat-jim-hayden-4/
LOCATION:1799 Bar\, 130 2nd Ave N\, Franklin\, TN\, 37064
CATEGORIES:Music
ATTACH;FMTTYPE=image/png:https://harpethhotel.com/wp-content/uploads/2022/11/Keyboard-Music-1.png
END:VEVENT
END:VCALENDAR