BEGIN:VCALENDAR
VERSION:2.0
PRODID:-//The Harpeth Hotel - ECPv6.15.20//NONSGML v1.0//EN
CALSCALE:GREGORIAN
METHOD:PUBLISH
X-ORIGINAL-URL:https://harpethhotel.com
X-WR-CALDESC:Events for The Harpeth Hotel
REFRESH-INTERVAL;VALUE=DURATION:PT1H
X-Robots-Tag:noindex
X-PUBLISHED-TTL:PT1H
BEGIN:VTIMEZONE
TZID:America/New_York
BEGIN:DAYLIGHT
TZOFFSETFROM:-0500
TZOFFSETTO:-0400
TZNAME:EDT
DTSTART:20210314T070000
END:DAYLIGHT
BEGIN:STANDARD
TZOFFSETFROM:-0400
TZOFFSETTO:-0500
TZNAME:EST
DTSTART:20211107T060000
END:STANDARD
BEGIN:DAYLIGHT
TZOFFSETFROM:-0500
TZOFFSETTO:-0400
TZNAME:EDT
DTSTART:20220313T070000
END:DAYLIGHT
BEGIN:STANDARD
TZOFFSETFROM:-0400
TZOFFSETTO:-0500
TZNAME:EST
DTSTART:20221106T060000
END:STANDARD
BEGIN:DAYLIGHT
TZOFFSETFROM:-0500
TZOFFSETTO:-0400
TZNAME:EDT
DTSTART:20230312T070000
END:DAYLIGHT
BEGIN:STANDARD
TZOFFSETFROM:-0400
TZOFFSETTO:-0500
TZNAME:EST
DTSTART:20231105T060000
END:STANDARD
BEGIN:DAYLIGHT
TZOFFSETFROM:-0500
TZOFFSETTO:-0400
TZNAME:EDT
DTSTART:20240310T070000
END:DAYLIGHT
BEGIN:STANDARD
TZOFFSETFROM:-0400
TZOFFSETTO:-0500
TZNAME:EST
DTSTART:20241103T060000
END:STANDARD
END:VTIMEZONE
BEGIN:VEVENT
DTSTART;TZID=America/New_York:20221231T220000
DTEND;TZID=America/New_York:20230101T010000
DTSTAMP:20260422T015439
CREATED:20221114T060122Z
LAST-MODIFIED:20221114T060122Z
UID:7157-1672524000-1672534800@harpethhotel.com
SUMMARY:The Harpeth's New Year's Eve Celebration
DESCRIPTION:Ring in the new year at Franklin’s best First Night Celebration! Join us from 10:00pm-1:00am for drinks and dancing to ring in the New Year at midnight!
URL:https://harpethhotel.com/happenings/the-harpeths-new-years-eve-celebration/
LOCATION:1799 Kitchen & Cocktails\, 130 2nd Ave N\, Franklin\, TN\, 37064
CATEGORIES:Holidays,Music
END:VEVENT
BEGIN:VEVENT
DTSTART;TZID=America/New_York:20230105T150000
DTEND;TZID=America/New_York:20230105T170000
DTSTAMP:20260422T015439
CREATED:20230105T014003Z
LAST-MODIFIED:20230105T023941Z
UID:7331-1672930800-1672938000@harpethhotel.com
SUMMARY:1799 Happy Hour
DESCRIPTION:Monday-Thursday 3pm-5pm\nSundays 2pm-5pm\n$4 Miller Lite\n$4 Mich Ultra\n$9 Select Wines\n$9 Well Cocktails
URL:https://harpethhotel.com/happenings/1799-happy-hour/
LOCATION:1799 Bar\, 130 2nd Ave N\, Franklin\, TN\, 37064
CATEGORIES:Eat & Drink
ATTACH;FMTTYPE=image/png:https://harpethhotel.com/wp-content/uploads/2023/01/Happy-Hour-Short-1-4.png
END:VEVENT
BEGIN:VEVENT
DTSTART;TZID=America/New_York:20230106T190000
DTEND;TZID=America/New_York:20230106T220000
DTSTAMP:20260422T015439
CREATED:20230105T005845Z
LAST-MODIFIED:20230105T011517Z
UID:7308-1673031600-1673042400@harpethhotel.com
SUMMARY:Live In The Lounge feat. Doug Allen
DESCRIPTION:Live Music in 1799 Lounge\, featuring Doug Allen – Guitar & Vocals
URL:https://harpethhotel.com/happenings/live-in-the-lounge-feat-doug-allen-3/
LOCATION:1799 Bar\, 130 2nd Ave N\, Franklin\, TN\, 37064
CATEGORIES:Music
ATTACH;FMTTYPE=image/png:https://harpethhotel.com/wp-content/uploads/2023/01/Guitar-Music-1-7.png
END:VEVENT
BEGIN:VEVENT
DTSTART;TZID=America/New_York:20230107T120000
DTEND;TZID=America/New_York:20230107T150000
DTSTAMP:20260422T015439
CREATED:20230105T004117Z
LAST-MODIFIED:20230105T004117Z
UID:7286-1673092800-1673103600@harpethhotel.com
SUMMARY:Music & Mimosas feat. Pierson Swanson
DESCRIPTION:Live Music Featuring Pierson Swanson \n@piersonswanson
URL:https://harpethhotel.com/happenings/music-mimosas-feat-pierson-swanson-2/
LOCATION:McGavock’s\, 130 2nd Ave N\, Franklin\, TN\, 37064
CATEGORIES:Music
ATTACH;FMTTYPE=image/png:https://harpethhotel.com/wp-content/uploads/2022/11/Music-Mimosa-Website-1-3.png
END:VEVENT
BEGIN:VEVENT
DTSTART;TZID=America/New_York:20230107T190000
DTEND;TZID=America/New_York:20230107T220000
DTSTAMP:20260422T015439
CREATED:20230105T005946Z
LAST-MODIFIED:20230105T011324Z
UID:7313-1673118000-1673128800@harpethhotel.com
SUMMARY:Live In The Lounge feat. Kelley Ann Williams
DESCRIPTION:Live Music in 1799 Lounge\, featuring Kelley Ann Williams – Guitar & Vocals
URL:https://harpethhotel.com/happenings/live-in-the-lounge-feat-kelley-ann-williams/
LOCATION:TN
CATEGORIES:Music
ATTACH;FMTTYPE=image/png:https://harpethhotel.com/wp-content/uploads/2023/01/Guitar-Music-1-8.png
END:VEVENT
BEGIN:VEVENT
DTSTART;TZID=America/New_York:20230108T140000
DTEND;TZID=America/New_York:20230108T170000
DTSTAMP:20260422T015439
CREATED:20230105T024441Z
LAST-MODIFIED:20230105T024441Z
UID:7353-1673186400-1673197200@harpethhotel.com
SUMMARY:1799 Happy Hour
DESCRIPTION:Monday-Thursday 3pm-5pm\nSundays 2pm-5pm\n$4 Miller Lite\n$4 Mich Ultra\n$9 Select Wines\n$9 Well Cocktails
URL:https://harpethhotel.com/happenings/1799-happy-hour-5/
LOCATION:1799 Bar\, 130 2nd Ave N\, Franklin\, TN\, 37064
CATEGORIES:Eat & Drink
ATTACH;FMTTYPE=image/png:https://harpethhotel.com/wp-content/uploads/2023/01/Happy-Hour-Short-1-4.png
END:VEVENT
BEGIN:VEVENT
DTSTART;TZID=America/New_York:20230108T160000
DTEND;TZID=America/New_York:20230108T190000
DTSTAMP:20260422T015439
CREATED:20230105T004801Z
LAST-MODIFIED:20230105T004801Z
UID:7299-1673193600-1673204400@harpethhotel.com
SUMMARY:Live In The Lounge feat. Jim Hayden
DESCRIPTION:Live Music in 1799 Lounge\, featuring Jim Hayden – Keyboard & Vocals
URL:https://harpethhotel.com/happenings/live-in-the-lounge-feat-jim-hayden-7/
LOCATION:1799 Bar\, 130 2nd Ave N\, Franklin\, TN\, 37064
CATEGORIES:Music
ATTACH;FMTTYPE=image/png:https://harpethhotel.com/wp-content/uploads/2023/01/Keyboard-Music-1-5.png
END:VEVENT
BEGIN:VEVENT
DTSTART;TZID=America/New_York:20230109T150000
DTEND;TZID=America/New_York:20230109T170000
DTSTAMP:20260422T015439
CREATED:20230105T024251Z
LAST-MODIFIED:20230105T024251Z
UID:7346-1673276400-1673283600@harpethhotel.com
SUMMARY:1799 Happy Hour
DESCRIPTION:Monday-Thursday 3pm-5pm\nSundays 2pm-5pm\n$4 Miller Lite\n$4 Mich Ultra\n$9 Select Wines\n$9 Well Cocktails
URL:https://harpethhotel.com/happenings/1799-happy-hour-2/
LOCATION:1799 Bar\, 130 2nd Ave N\, Franklin\, TN\, 37064
CATEGORIES:Eat & Drink
ATTACH;FMTTYPE=image/png:https://harpethhotel.com/wp-content/uploads/2023/01/Happy-Hour-Short-1-4.png
END:VEVENT
BEGIN:VEVENT
DTSTART;TZID=America/New_York:20230110T150000
DTEND;TZID=America/New_York:20230110T170000
DTSTAMP:20260422T015439
CREATED:20230105T024314Z
LAST-MODIFIED:20230105T024314Z
UID:7345-1673362800-1673370000@harpethhotel.com
SUMMARY:1799 Happy Hour
DESCRIPTION:Monday-Thursday 3pm-5pm\nSundays 2pm-5pm\n$4 Miller Lite\n$4 Mich Ultra\n$9 Select Wines\n$9 Well Cocktails
URL:https://harpethhotel.com/happenings/1799-happy-hour-3/
LOCATION:1799 Bar\, 130 2nd Ave N\, Franklin\, TN\, 37064
CATEGORIES:Eat & Drink
ATTACH;FMTTYPE=image/png:https://harpethhotel.com/wp-content/uploads/2023/01/Happy-Hour-Short-1-4.png
END:VEVENT
BEGIN:VEVENT
DTSTART;TZID=America/New_York:20230111T150000
DTEND;TZID=America/New_York:20230111T170000
DTSTAMP:20260422T015439
CREATED:20230105T024347Z
LAST-MODIFIED:20230105T024347Z
UID:7344-1673449200-1673456400@harpethhotel.com
SUMMARY:1799 Happy Hour
DESCRIPTION:Monday-Thursday 3pm-5pm\nSundays 2pm-5pm\n$4 Miller Lite\n$4 Mich Ultra\n$9 Select Wines\n$9 Well Cocktails
URL:https://harpethhotel.com/happenings/1799-happy-hour-4/
LOCATION:1799 Bar\, 130 2nd Ave N\, Franklin\, TN\, 37064
CATEGORIES:Eat & Drink
ATTACH;FMTTYPE=image/png:https://harpethhotel.com/wp-content/uploads/2023/01/Happy-Hour-Short-1-4.png
END:VEVENT
BEGIN:VEVENT
DTSTART;TZID=America/New_York:20230112T150000
DTEND;TZID=America/New_York:20230112T170000
DTSTAMP:20260422T015439
CREATED:20230105T024510Z
LAST-MODIFIED:20230105T024510Z
UID:7352-1673535600-1673542800@harpethhotel.com
SUMMARY:1799 Happy Hour
DESCRIPTION:Monday-Thursday 3pm-5pm\nSundays 2pm-5pm\n$4 Miller Lite\n$4 Mich Ultra\n$9 Select Wines\n$9 Well Cocktails
URL:https://harpethhotel.com/happenings/1799-happy-hour-6/
LOCATION:1799 Bar\, 130 2nd Ave N\, Franklin\, TN\, 37064
CATEGORIES:Eat & Drink
ATTACH;FMTTYPE=image/png:https://harpethhotel.com/wp-content/uploads/2023/01/Happy-Hour-Short-1-4.png
END:VEVENT
BEGIN:VEVENT
DTSTART;TZID=America/New_York:20230113T190000
DTEND;TZID=America/New_York:20230113T220000
DTSTAMP:20260422T015439
CREATED:20230105T011448Z
LAST-MODIFIED:20230105T011448Z
UID:7317-1673636400-1673647200@harpethhotel.com
SUMMARY:Live In The Lounge feat. Aaron Bucks
DESCRIPTION:Live Music in 1799 Lounge\, featuring Aaron Bucks – Guitar & Vocals
URL:https://harpethhotel.com/happenings/live-in-the-lounge-feat-aaron-bucks-4/
LOCATION:1799 Bar\, 130 2nd Ave N\, Franklin\, TN\, 37064
CATEGORIES:Music
ATTACH;FMTTYPE=image/png:https://harpethhotel.com/wp-content/uploads/2023/01/Guitar-Music-1-9.png
END:VEVENT
BEGIN:VEVENT
DTSTART;TZID=America/New_York:20230114T120000
DTEND;TZID=America/New_York:20230114T150000
DTSTAMP:20260422T015439
CREATED:20230105T004229Z
LAST-MODIFIED:20230105T004331Z
UID:7289-1673697600-1673708400@harpethhotel.com
SUMMARY:Music & Mimosas feat. Ginger Wixx
DESCRIPTION:Live Music Featuring Ginger Wixx
URL:https://harpethhotel.com/happenings/music-mimosas-feat-gin-wix-3/
LOCATION:McGavock’s\, 130 2nd Ave N\, Franklin\, TN\, 37064
CATEGORIES:Music
ATTACH;FMTTYPE=image/png:https://harpethhotel.com/wp-content/uploads/2023/01/Music-Mimosa-Website-1-6.png
END:VEVENT
BEGIN:VEVENT
DTSTART;TZID=America/New_York:20230114T190000
DTEND;TZID=America/New_York:20230114T220000
DTSTAMP:20260422T015439
CREATED:20230105T011613Z
LAST-MODIFIED:20230105T011613Z
UID:7322-1673722800-1673733600@harpethhotel.com
SUMMARY:Live In The Lounge feat. Tristan McIntosh
DESCRIPTION:Live Music in 1799 Lounge\, featuring Tristan McIntosh – Guitar\, Keyboard & Vocals
URL:https://harpethhotel.com/happenings/live-in-the-lounge-feat-tristan-mcintosh-3/
LOCATION:1799 Bar\, 130 2nd Ave N\, Franklin\, TN\, 37064
CATEGORIES:Music
ATTACH;FMTTYPE=image/png:https://harpethhotel.com/wp-content/uploads/2023/01/Guitar-Music-1-10.png
END:VEVENT
BEGIN:VEVENT
DTSTART;TZID=America/New_York:20230115T160000
DTEND;TZID=America/New_York:20230115T190000
DTSTAMP:20260422T015439
CREATED:20230105T004835Z
LAST-MODIFIED:20230105T004835Z
UID:7298-1673798400-1673809200@harpethhotel.com
SUMMARY:Live In The Lounge feat. Jim Hayden
DESCRIPTION:Live Music in 1799 Lounge\, featuring Jim Hayden – Keyboard & Vocals
URL:https://harpethhotel.com/happenings/live-in-the-lounge-feat-jim-hayden-8/
LOCATION:1799 Bar\, 130 2nd Ave N\, Franklin\, TN\, 37064
CATEGORIES:Music
ATTACH;FMTTYPE=image/png:https://harpethhotel.com/wp-content/uploads/2023/01/Keyboard-Music-1-6.png
END:VEVENT
BEGIN:VEVENT
DTSTART;TZID=America/New_York:20230120T190000
DTEND;TZID=America/New_York:20230120T220000
DTSTAMP:20260422T015439
CREATED:20230105T011931Z
LAST-MODIFIED:20230105T011931Z
UID:7324-1674241200-1674252000@harpethhotel.com
SUMMARY:Live In The Lounge feat. Chelsea Rhodes
DESCRIPTION:Live Music in 1799 Lounge\, featuring Chelsea Rhodes – Guitar & Vocals
URL:https://harpethhotel.com/happenings/live-in-the-lounge-feat-chelsea-rhodes/
LOCATION:1799 Bar\, 130 2nd Ave N\, Franklin\, TN\, 37064
CATEGORIES:Music
ATTACH;FMTTYPE=image/png:https://harpethhotel.com/wp-content/uploads/2023/01/Guitar-Music-1-11.png
END:VEVENT
BEGIN:VEVENT
DTSTART;TZID=America/New_York:20230121T120000
DTEND;TZID=America/New_York:20230121T150000
DTSTAMP:20260422T015439
CREATED:20230105T004028Z
LAST-MODIFIED:20230105T004028Z
UID:7284-1674302400-1674313200@harpethhotel.com
SUMMARY:Music & Mimosas feat. Ben Law
DESCRIPTION:Live Music Featuring Ben Law \n@benlawmusic
URL:https://harpethhotel.com/happenings/music-mimosas-feat-ben-law-2/
LOCATION:McGavock’s\, 130 2nd Ave N\, Franklin\, TN\, 37064
CATEGORIES:Music
ATTACH;FMTTYPE=image/png:https://harpethhotel.com/wp-content/uploads/2022/11/Music-Mimosa-Website-1.png
END:VEVENT
BEGIN:VEVENT
DTSTART;TZID=America/New_York:20230121T190000
DTEND;TZID=America/New_York:20230121T220000
DTSTAMP:20260422T015439
CREATED:20230105T012010Z
LAST-MODIFIED:20230105T012010Z
UID:7329-1674327600-1674338400@harpethhotel.com
SUMMARY:Live In The Lounge feat. Troy Doherty
DESCRIPTION:Live Music in 1799 Lounge\, featuring Troy Doherty – Guitar & Vocals
URL:https://harpethhotel.com/happenings/live-in-the-lounge-feat-troy-doherty-2/
LOCATION:1799 Bar\, 130 2nd Ave N\, Franklin\, TN\, 37064
CATEGORIES:Music
ATTACH;FMTTYPE=image/png:https://harpethhotel.com/wp-content/uploads/2023/01/Guitar-Music-1-12.png
END:VEVENT
BEGIN:VEVENT
DTSTART;TZID=America/New_York:20230122T160000
DTEND;TZID=America/New_York:20230122T190000
DTSTAMP:20260422T015439
CREATED:20230105T004910Z
LAST-MODIFIED:20230118T182202Z
UID:7297-1674403200-1674414000@harpethhotel.com
SUMMARY:Live In The Lounge feat. Jim Hayden
DESCRIPTION:Live Music in 1799 Lounge\, featuring Jim Hayden – Keyboard & Vocals
URL:https://harpethhotel.com/happenings/live-in-the-lounge-feat-jim-hayden-9/
LOCATION:1799 Bar\, 130 2nd Ave N\, Franklin\, TN\, 37064
CATEGORIES:Music
ATTACH;FMTTYPE=image/png:https://harpethhotel.com/wp-content/uploads/2023/01/Keyboard-Music-1-7.png
END:VEVENT
BEGIN:VEVENT
DTSTART;TZID=America/New_York:20230127T190000
DTEND;TZID=America/New_York:20230127T220000
DTSTAMP:20260422T015439
CREATED:20230125T075030Z
LAST-MODIFIED:20230125T075030Z
UID:7414-1674846000-1674856800@harpethhotel.com
SUMMARY:Live In The Lounge feat. Thom Ellis
DESCRIPTION:Live Music in 1799 Lounge\, featuring Thom Ellis – Guitar & Vocals
URL:https://harpethhotel.com/happenings/live-in-the-lounge-feat-thom-ellis-2/
LOCATION:1799 Bar\, 130 2nd Ave N\, Franklin\, TN\, 37064
CATEGORIES:Music
ATTACH;FMTTYPE=image/png:https://harpethhotel.com/wp-content/uploads/2023/01/Guitar-Music-1-13.png
END:VEVENT
BEGIN:VEVENT
DTSTART;TZID=America/New_York:20230128T120000
DTEND;TZID=America/New_York:20230128T150000
DTSTAMP:20260422T015439
CREATED:20230105T004443Z
LAST-MODIFIED:20230105T004504Z
UID:7293-1674907200-1674918000@harpethhotel.com
SUMMARY:Music & Mimosas feat. Kayleigh Matthews
DESCRIPTION:Live Music Featuring Kayleigh Matthews
URL:https://harpethhotel.com/happenings/music-mimosas-feat-kayleigh-matthews-2/
LOCATION:McGavock’s\, 130 2nd Ave N\, Franklin\, TN\, 37064
CATEGORIES:Music
ATTACH;FMTTYPE=image/png:https://harpethhotel.com/wp-content/uploads/2022/11/Music-Mimosa-Website-1-2.png
END:VEVENT
BEGIN:VEVENT
DTSTART;TZID=America/New_York:20230128T190000
DTEND;TZID=America/New_York:20230128T220000
DTSTAMP:20260422T015439
CREATED:20230125T074832Z
LAST-MODIFIED:20230125T074832Z
UID:7411-1674932400-1674943200@harpethhotel.com
SUMMARY:Live In The Lounge feat. Troy Doherty
DESCRIPTION:Live Music in 1799 Lounge\, featuring Troy Doherty – Guitar & Vocals
URL:https://harpethhotel.com/happenings/live-in-the-lounge-feat-troy-doherty-3/
LOCATION:1799 Bar\, 130 2nd Ave N\, Franklin\, TN\, 37064
CATEGORIES:Music
ATTACH;FMTTYPE=image/png:https://harpethhotel.com/wp-content/uploads/2023/01/Guitar-Music-1-14.png
END:VEVENT
BEGIN:VEVENT
DTSTART;TZID=America/New_York:20230129T160000
DTEND;TZID=America/New_York:20230129T190000
DTSTAMP:20260422T015439
CREATED:20230105T004948Z
LAST-MODIFIED:20230105T004948Z
UID:7296-1675008000-1675018800@harpethhotel.com
SUMMARY:Live In The Lounge feat. Jim Hayden
DESCRIPTION:Live Music in 1799 Lounge\, featuring Jim Hayden – Keyboard & Vocals
URL:https://harpethhotel.com/happenings/live-in-the-lounge-feat-jim-hayden-10/
LOCATION:1799 Bar\, 130 2nd Ave N\, Franklin\, TN\, 37064
CATEGORIES:Music
ATTACH;FMTTYPE=image/png:https://harpethhotel.com/wp-content/uploads/2023/01/Keyboard-Music-1-8.png
END:VEVENT
BEGIN:VEVENT
DTSTART;TZID=America/New_York:20230130T180000
DTEND;TZID=America/New_York:20230130T210000
DTSTAMP:20260422T015439
CREATED:20230125T075449Z
LAST-MODIFIED:20230125T075449Z
UID:7417-1675101600-1675112400@harpethhotel.com
SUMMARY:Tennessee Song Writers Week - Qualifying Round
DESCRIPTION:On Monday\, January 3oth\, join us in welcoming 20 local songwriters to the stage at The Harpeth Hotel’s Riverside Ballroom\, where they will perform original songs and compete for a spot in the annual Tennessee Songwriters Week in February! \nGuest judges will include Patrick Cassidy and Patrick Thomas. \nThis event is FREE for the public to attend\, but RSVP via Eventbrite is recommended. Doors open at 5:30pm\, and there will be a cash bar available. \nIn proud partnership with the TN Department of Tourism.
URL:https://harpethhotel.com/happenings/tennessee-song-writers-week-qualifying-round/
LOCATION:The Harpeth Hotel\, 130 2nd Ave N\, Franklin\, TN\, 37064
CATEGORIES:Music
ATTACH;FMTTYPE=image/jpeg:https://harpethhotel.com/wp-content/uploads/2023/01/TDTD_SongwritersWeek_Social_guitar-1000x1000-1.jpg
END:VEVENT
END:VCALENDAR