BEGIN:VCALENDAR
VERSION:2.0
PRODID:-//The Harpeth Hotel - ECPv6.15.20//NONSGML v1.0//EN
CALSCALE:GREGORIAN
METHOD:PUBLISH
X-WR-CALNAME:The Harpeth Hotel
X-ORIGINAL-URL:https://harpethhotel.com
X-WR-CALDESC:Events for The Harpeth Hotel
REFRESH-INTERVAL;VALUE=DURATION:PT1H
X-Robots-Tag:noindex
X-PUBLISHED-TTL:PT1H
BEGIN:VTIMEZONE
TZID:America/New_York
BEGIN:DAYLIGHT
TZOFFSETFROM:-0500
TZOFFSETTO:-0400
TZNAME:EDT
DTSTART:20220313T070000
END:DAYLIGHT
BEGIN:STANDARD
TZOFFSETFROM:-0400
TZOFFSETTO:-0500
TZNAME:EST
DTSTART:20221106T060000
END:STANDARD
BEGIN:DAYLIGHT
TZOFFSETFROM:-0500
TZOFFSETTO:-0400
TZNAME:EDT
DTSTART:20230312T070000
END:DAYLIGHT
BEGIN:STANDARD
TZOFFSETFROM:-0400
TZOFFSETTO:-0500
TZNAME:EST
DTSTART:20231105T060000
END:STANDARD
BEGIN:DAYLIGHT
TZOFFSETFROM:-0500
TZOFFSETTO:-0400
TZNAME:EDT
DTSTART:20240310T070000
END:DAYLIGHT
BEGIN:STANDARD
TZOFFSETFROM:-0400
TZOFFSETTO:-0500
TZNAME:EST
DTSTART:20241103T060000
END:STANDARD
END:VTIMEZONE
BEGIN:VEVENT
DTSTART;TZID=America/New_York:20230203T190000
DTEND;TZID=America/New_York:20230203T220000
DTSTAMP:20260422T001228
CREATED:20230203T051603Z
LAST-MODIFIED:20230203T051603Z
UID:7460-1675450800-1675461600@harpethhotel.com
SUMMARY:Live In The Lounge feat. Aaron Bucks
DESCRIPTION:Live Music in 1799 Lounge\, featuring Aaron Bucks – Guitar & Vocals
URL:https://harpethhotel.com/happenings/live-in-the-lounge-feat-aaron-bucks-5/
LOCATION:1799 Bar\, 130 2nd Ave N\, Franklin\, TN\, 37064
CATEGORIES:Music
ATTACH;FMTTYPE=image/png:https://harpethhotel.com/wp-content/uploads/2023/02/Guitar-Music-1-15.png
END:VEVENT
BEGIN:VEVENT
DTSTART;TZID=America/New_York:20230204T120000
DTEND;TZID=America/New_York:20230204T150000
DTSTAMP:20260422T001228
CREATED:20230203T052048Z
LAST-MODIFIED:20230203T052048Z
UID:7466-1675512000-1675522800@harpethhotel.com
SUMMARY:Music & Mimosas feat. Pierson Swanson
DESCRIPTION:Live Music Featuring Pierson Swanson \n@piersonswanson
URL:https://harpethhotel.com/happenings/music-mimosas-feat-pierson-swanson-3/
LOCATION:McGavock’s\, 130 2nd Ave N\, Franklin\, TN\, 37064
CATEGORIES:Music
ATTACH;FMTTYPE=image/png:https://harpethhotel.com/wp-content/uploads/2022/11/Music-Mimosa-Website-1-3.png
END:VEVENT
BEGIN:VEVENT
DTSTART;TZID=America/New_York:20230204T190000
DTEND;TZID=America/New_York:20230204T220000
DTSTAMP:20260422T001228
CREATED:20230203T051839Z
LAST-MODIFIED:20230203T051942Z
UID:7463-1675537200-1675548000@harpethhotel.com
SUMMARY:Live In The Lounge feat. Tristan McIntosh
DESCRIPTION:Live Music in 1799 Lounge\, featuring Tristan McIntosh – Guitar\, Keyboard & Vocals
URL:https://harpethhotel.com/happenings/live-in-the-lounge-feat-tristan-mcintosh-4/
LOCATION:1799 Bar\, 130 2nd Ave N\, Franklin\, TN\, 37064
CATEGORIES:Music
ATTACH;FMTTYPE=image/png:https://harpethhotel.com/wp-content/uploads/2023/02/Keyboard-Music-1-10.png
END:VEVENT
BEGIN:VEVENT
DTSTART;TZID=America/New_York:20230205T160000
DTEND;TZID=America/New_York:20230205T190000
DTSTAMP:20260422T001228
CREATED:20230204T030824Z
LAST-MODIFIED:20230204T030824Z
UID:7470-1675612800-1675623600@harpethhotel.com
SUMMARY:Live In The Lounge feat. Kayleigh Matthews
DESCRIPTION:Live Music in 1799 Lounge\, featuring Kayleigh Matthews – Guitar & Vocals
URL:https://harpethhotel.com/happenings/live-in-the-lounge-feat-kayleigh-matthews/
LOCATION:1799 Bar\, 130 2nd Ave N\, Franklin\, TN\, 37064
CATEGORIES:Music
ATTACH;FMTTYPE=image/png:https://harpethhotel.com/wp-content/uploads/2023/02/Guitar-Music-1-16.png
END:VEVENT
BEGIN:VEVENT
DTSTART;TZID=America/New_York:20230210T190000
DTEND;TZID=America/New_York:20230210T220000
DTSTAMP:20260422T001228
CREATED:20230204T060417Z
LAST-MODIFIED:20230204T060431Z
UID:7481-1676055600-1676066400@harpethhotel.com
SUMMARY:Live In The Lounge feat. Doug Allen
DESCRIPTION:Live Music in 1799 Lounge\, featuring Doug Allen – Guitar & Vocals
URL:https://harpethhotel.com/happenings/live-in-the-lounge-feat-doug-allen-4/
LOCATION:1799 Bar\, 130 2nd Ave N\, Franklin\, TN\, 37064
CATEGORIES:Music
ATTACH;FMTTYPE=image/png:https://harpethhotel.com/wp-content/uploads/2023/02/Guitar-Music-1-18.png
END:VEVENT
BEGIN:VEVENT
DTSTART;TZID=America/New_York:20230211T120000
DTEND;TZID=America/New_York:20230211T150000
DTSTAMP:20260422T001228
CREATED:20230204T060932Z
LAST-MODIFIED:20230204T060932Z
UID:7490-1676116800-1676127600@harpethhotel.com
SUMMARY:Music & Mimosas feat. Aaron Bucks
DESCRIPTION:Live Music Featuring Aaron Bucks \n@bucksmusicofficial
URL:https://harpethhotel.com/happenings/music-mimosas-feat-aaron-bucks-2/
LOCATION:McGavock’s\, 130 2nd Ave N\, Franklin\, TN\, 37064
CATEGORIES:Music
ATTACH;FMTTYPE=image/png:https://harpethhotel.com/wp-content/uploads/2022/11/Music-Mimosa-Website-1-1.png
END:VEVENT
BEGIN:VEVENT
DTSTART;TZID=America/New_York:20230211T190000
DTEND;TZID=America/New_York:20230211T220000
DTSTAMP:20260422T001228
CREATED:20230204T060644Z
LAST-MODIFIED:20230204T060644Z
UID:7484-1676142000-1676152800@harpethhotel.com
SUMMARY:Live In The Lounge feat. Thom Ellis
DESCRIPTION:Live Music in 1799 Lounge\, featuring Thom Ellis – Guitar & Vocals
URL:https://harpethhotel.com/happenings/live-in-the-lounge-feat-thom-ellis-3/
LOCATION:1799 Bar\, 130 2nd Ave N\, Franklin\, TN\, 37064
CATEGORIES:Music
ATTACH;FMTTYPE=image/png:https://harpethhotel.com/wp-content/uploads/2023/02/Guitar-Music-1-19.png
END:VEVENT
BEGIN:VEVENT
DTSTART;TZID=America/New_York:20230212T160000
DTEND;TZID=America/New_York:20230212T190000
DTSTAMP:20260422T001228
CREATED:20230204T060805Z
LAST-MODIFIED:20230204T061805Z
UID:7487-1676217600-1676228400@harpethhotel.com
SUMMARY:Live In The Lounge feat. Jim Hayden
DESCRIPTION:Live Music in 1799 Lounge\, featuring Jim Hayden – Keyboard & Vocals
URL:https://harpethhotel.com/happenings/live-in-the-lounge-feat-jim-hayden-11/
LOCATION:1799 Bar\, 130 2nd Ave N\, Franklin\, TN\, 37064
CATEGORIES:Music
ATTACH;FMTTYPE=image/png:https://harpethhotel.com/wp-content/uploads/2023/02/Keyboard-Music-1-11.png
END:VEVENT
BEGIN:VEVENT
DTSTART;TZID=America/New_York:20230214T190000
DTEND;TZID=America/New_York:20230214T210000
DTSTAMP:20260422T001228
CREATED:20230204T055921Z
LAST-MODIFIED:20230204T055921Z
UID:7477-1676401200-1676408400@harpethhotel.com
SUMMARY:From Franklin with Love\, Laura & Patrick
DESCRIPTION:Date: Valentine’s Day – Tuesday\, February 14th\, 2023 at 7:00 PM\nLocation of Event: Riverside Ballroom at the Harpeth Hotel (130 2nd Ave N\, Franklin\, TN 37064)\nSponsored by: Holton & Mayberry\, P.C.\nSpecial Thanks To: Teresa and Danny Anderson & The Community Foundation of Middle Tennessee \nLove is in the air in Franklin\, and Valentine’s Day is here once again! Join special guests Tony-Award nominee Laura Osnes and The Voice’s Patrick Thomas for an evening of heartfelt stories and songs as they sing some of Broadway’s greatest love songs. Whether you’re dating\, married\, divorced\, or somewhere in between\, come be our Valentine this February! \nDessert & Champagne included with ticket. Cash bar available for purchase.
URL:https://harpethhotel.com/happenings/from-franklin-with-love-laura-patrick/
LOCATION:The Harpeth Hotel\, 130 2nd Ave N\, Franklin\, TN\, 37064
CATEGORIES:Eat & Drink,Music
ATTACH;FMTTYPE=image/png:https://harpethhotel.com/wp-content/uploads/2023/02/StudioTennFromFranklinwithLove.png
END:VEVENT
BEGIN:VEVENT
DTSTART;TZID=America/New_York:20230216T190000
DTEND;TZID=America/New_York:20230216T213000
DTSTAMP:20260422T001228
CREATED:20230204T055642Z
LAST-MODIFIED:20230207T023531Z
UID:7473-1676574000-1676583000@harpethhotel.com
SUMMARY:Songwriters at The Harpeth hosted by Roger Murrah
DESCRIPTION:Join Hall of Fame Songwriter Roger Murrah as he hosts a night of hit makers sharing music and stories at The Harpeth in downtown Franklin. Featuring Keith Stegall\, Jimmy Melton\, & Conner Myers \n  \nROGER MURRAH \nWith hit songs spanning four decades and dozens of airplay and achievement awards\, Roger Murrah is one of Nashville’s most prolific songwriters and successful independent music publishers. His respect as a writer was gained through the years due to his songs being known for more than just a hook-line or a catchy melody. He writes with insight and understanding about the entire range of human experience\, from the loving commitment of Al Jarreau’s Grammy-nominated “We’re In This Love Together”\, to the emotional homecoming of the Oakridge Boy’s “Ozark Mountain Jubilee” and the “audio-biography” of Waylon Jennings’ A Man Called Hoss.
URL:https://harpethhotel.com/happenings/songwriters-at-the-harpeth-hosted-by-roger-murrah/
LOCATION:The Harpeth Hotel\, 130 2nd Ave N\, Franklin\, TN\, 37064
ATTACH;FMTTYPE=image/jpeg:https://harpethhotel.com/wp-content/uploads/2023/02/FILE_2591-scaled.jpg
END:VEVENT
BEGIN:VEVENT
DTSTART;TZID=America/New_York:20230217T190000
DTEND;TZID=America/New_York:20230217T220000
DTSTAMP:20260422T001228
CREATED:20230207T023927Z
LAST-MODIFIED:20230207T023927Z
UID:7500-1676660400-1676671200@harpethhotel.com
SUMMARY:Live In The Lounge feat. Kelley Ann Williams
DESCRIPTION:Live Music in 1799 Lounge\, featuring Kelley Ann Williams – Guitar & Vocals
URL:https://harpethhotel.com/happenings/live-in-the-lounge-feat-kelley-ann-williams-2/
LOCATION:TN
CATEGORIES:Music
ATTACH;FMTTYPE=image/png:https://harpethhotel.com/wp-content/uploads/2023/02/Guitar-Music-1-20.png
END:VEVENT
BEGIN:VEVENT
DTSTART;TZID=America/New_York:20230218T120000
DTEND;TZID=America/New_York:20230218T150000
DTSTAMP:20260422T001228
CREATED:20230204T061046Z
LAST-MODIFIED:20230204T061046Z
UID:7492-1676721600-1676732400@harpethhotel.com
SUMMARY:Music & Mimosas feat. Kelley Ann Williams
DESCRIPTION:Live Music Featuring Kelley Ann Williams \n@kelleyannwilliams
URL:https://harpethhotel.com/happenings/music-mimosas-feat-kelley-ann-williams/
LOCATION:McGavock’s\, 130 2nd Ave N\, Franklin\, TN\, 37064
CATEGORIES:Music
ATTACH;FMTTYPE=image/png:https://harpethhotel.com/wp-content/uploads/2022/10/Music-Mimosa-Website-1.png
END:VEVENT
BEGIN:VEVENT
DTSTART;TZID=America/New_York:20230218T190000
DTEND;TZID=America/New_York:20230218T220000
DTSTAMP:20260422T001228
CREATED:20230207T010031Z
LAST-MODIFIED:20230207T025956Z
UID:7503-1676746800-1676757600@harpethhotel.com
SUMMARY:Live In The Lounge feat. Troy Doherty
DESCRIPTION:Live Music in 1799 Lounge\, featuring Troy Doherty – Guitar & Vocals
URL:https://harpethhotel.com/happenings/live-in-the-lounge-feat-troy-doherty-4/
LOCATION:1799 Bar\, 130 2nd Ave N\, Franklin\, TN\, 37064
CATEGORIES:Music
ATTACH;FMTTYPE=image/png:https://harpethhotel.com/wp-content/uploads/2023/02/Guitar-Music-1-21.png
END:VEVENT
BEGIN:VEVENT
DTSTART;TZID=America/New_York:20230219T160000
DTEND;TZID=America/New_York:20230219T190000
DTSTAMP:20260422T001228
CREATED:20230207T024545Z
LAST-MODIFIED:20230207T024545Z
UID:7506-1676822400-1676833200@harpethhotel.com
SUMMARY:Live In The Lounge feat. Jim Hayden
DESCRIPTION:Live Music in 1799 Lounge\, featuring Jim Hayden – Keyboard & Vocals
URL:https://harpethhotel.com/happenings/live-in-the-lounge-feat-jim-hayden-12/
LOCATION:1799 Bar\, 130 2nd Ave N\, Franklin\, TN\, 37064
CATEGORIES:Music
ATTACH;FMTTYPE=image/png:https://harpethhotel.com/wp-content/uploads/2023/02/Keyboard-Music-1-12.png
END:VEVENT
BEGIN:VEVENT
DTSTART;TZID=America/New_York:20230224T190000
DTEND;TZID=America/New_York:20230224T220000
DTSTAMP:20260422T001228
CREATED:20230207T025250Z
LAST-MODIFIED:20230207T025648Z
UID:7511-1677265200-1677276000@harpethhotel.com
SUMMARY:Live In The Lounge feat. Aaron Bucks
DESCRIPTION:Live Music in 1799 Lounge\, featuring Aaron Bucks – Guitar & Vocals
URL:https://harpethhotel.com/happenings/live-in-the-lounge-feat-aaron-bucks-6/
LOCATION:1799 Bar\, 130 2nd Ave N\, Franklin\, TN\, 37064
CATEGORIES:Music
ATTACH;FMTTYPE=image/png:https://harpethhotel.com/wp-content/uploads/2023/02/Guitar-Music-1-22.png
END:VEVENT
BEGIN:VEVENT
DTSTART;TZID=America/New_York:20230225T120000
DTEND;TZID=America/New_York:20230225T150000
DTSTAMP:20260422T001228
CREATED:20230204T061156Z
LAST-MODIFIED:20230204T061156Z
UID:7494-1677326400-1677337200@harpethhotel.com
SUMMARY:Music & Mimosas feat. Kayleigh Matthews
DESCRIPTION:Live Music Featuring Kayleigh Matthews
URL:https://harpethhotel.com/happenings/music-mimosas-feat-kayleigh-matthews-3/
LOCATION:McGavock’s\, 130 2nd Ave N\, Franklin\, TN\, 37064
CATEGORIES:Music
ATTACH;FMTTYPE=image/png:https://harpethhotel.com/wp-content/uploads/2022/11/Music-Mimosa-Website-1-2.png
END:VEVENT
BEGIN:VEVENT
DTSTART;TZID=America/New_York:20230225T190000
DTEND;TZID=America/New_York:20230225T220000
DTSTAMP:20260422T001228
CREATED:20221027T200359Z
LAST-MODIFIED:20230207T025526Z
UID:7027-1677351600-1677362400@harpethhotel.com
SUMMARY:Live In The Lounge feat. Kayla Wass
DESCRIPTION:Live Music in 1799 Lounge\, featuring Kayla Wass – Guitar & Vocals
URL:https://harpethhotel.com/happenings/live-in-the-lounge-feat-kayla-wass-2/
LOCATION:1799 Bar\, 130 2nd Ave N\, Franklin\, TN\, 37064
CATEGORIES:Music
ATTACH;FMTTYPE=image/png:https://harpethhotel.com/wp-content/uploads/2022/10/Guitar-Music-1-23.png
END:VEVENT
BEGIN:VEVENT
DTSTART;TZID=America/New_York:20230226T160000
DTEND;TZID=America/New_York:20230226T190000
DTSTAMP:20260422T001228
CREATED:20230207T024743Z
LAST-MODIFIED:20230207T024811Z
UID:7496-1677427200-1677438000@harpethhotel.com
SUMMARY:Live In The Lounge feat. Jim Hayden
DESCRIPTION:Live Music in 1799 Lounge\, featuring Jim Hayden – Keyboard & Vocals
URL:https://harpethhotel.com/happenings/live-in-the-lounge-feat-jim-hayden-13/
LOCATION:1799 Bar\, 130 2nd Ave N\, Franklin\, TN\, 37064
CATEGORIES:Music
ATTACH;FMTTYPE=image/png:https://harpethhotel.com/wp-content/uploads/2023/02/Keyboard-Music-1-11.png
END:VEVENT
END:VCALENDAR