BEGIN:VCALENDAR
VERSION:2.0
PRODID:-//The Harpeth Hotel - ECPv6.15.20//NONSGML v1.0//EN
CALSCALE:GREGORIAN
METHOD:PUBLISH
X-WR-CALNAME:The Harpeth Hotel
X-ORIGINAL-URL:https://harpethhotel.com
X-WR-CALDESC:Events for The Harpeth Hotel
REFRESH-INTERVAL;VALUE=DURATION:PT1H
X-Robots-Tag:noindex
X-PUBLISHED-TTL:PT1H
BEGIN:VTIMEZONE
TZID:America/New_York
BEGIN:DAYLIGHT
TZOFFSETFROM:-0500
TZOFFSETTO:-0400
TZNAME:EDT
DTSTART:20220313T070000
END:DAYLIGHT
BEGIN:STANDARD
TZOFFSETFROM:-0400
TZOFFSETTO:-0500
TZNAME:EST
DTSTART:20221106T060000
END:STANDARD
BEGIN:DAYLIGHT
TZOFFSETFROM:-0500
TZOFFSETTO:-0400
TZNAME:EDT
DTSTART:20230312T070000
END:DAYLIGHT
BEGIN:STANDARD
TZOFFSETFROM:-0400
TZOFFSETTO:-0500
TZNAME:EST
DTSTART:20231105T060000
END:STANDARD
BEGIN:DAYLIGHT
TZOFFSETFROM:-0500
TZOFFSETTO:-0400
TZNAME:EDT
DTSTART:20240310T070000
END:DAYLIGHT
BEGIN:STANDARD
TZOFFSETFROM:-0400
TZOFFSETTO:-0500
TZNAME:EST
DTSTART:20241103T060000
END:STANDARD
END:VTIMEZONE
BEGIN:VEVENT
DTSTART;TZID=America/New_York:20230303T190000
DTEND;TZID=America/New_York:20230303T220000
DTSTAMP:20260421T223602
CREATED:20230301T040731Z
LAST-MODIFIED:20230301T040856Z
UID:7602-1677870000-1677880800@harpethhotel.com
SUMMARY:Live In The Lounge feat. Aaron Bucks
DESCRIPTION:Live Music in 1799 Lounge\, featuring Aaron Bucks – Guitar & Vocals
URL:https://harpethhotel.com/happenings/live-in-the-lounge-feat-aaron-bucks-7/
LOCATION:1799 Bar\, 130 2nd Ave N\, Franklin\, TN\, 37064
CATEGORIES:Music
ATTACH;FMTTYPE=image/png:https://harpethhotel.com/wp-content/uploads/2023/02/Guitar-Music-1-24.png
END:VEVENT
BEGIN:VEVENT
DTSTART;TZID=America/New_York:20230304T120000
DTEND;TZID=America/New_York:20230304T150000
DTSTAMP:20260421T223602
CREATED:20230301T035108Z
LAST-MODIFIED:20230301T035108Z
UID:7590-1677931200-1677942000@harpethhotel.com
SUMMARY:Music & Mimosas feat. Emily Stevens
DESCRIPTION:Live Music Featuring Emily Stevens
URL:https://harpethhotel.com/happenings/music-mimosas-feat-emily-stevens/
LOCATION:McGavock’s\, 130 2nd Ave N\, Franklin\, TN\, 37064
CATEGORIES:Music
ATTACH;FMTTYPE=image/png:https://harpethhotel.com/wp-content/uploads/2023/02/Music-Mimosa-Website-1-9.png
END:VEVENT
BEGIN:VEVENT
DTSTART;TZID=America/New_York:20230304T190000
DTEND;TZID=America/New_York:20230304T220000
DTSTAMP:20260421T223602
CREATED:20230301T041049Z
LAST-MODIFIED:20230301T041049Z
UID:7605-1677956400-1677967200@harpethhotel.com
SUMMARY:Live In The Lounge feat. Troy Doherty
DESCRIPTION:Live Music in 1799 Lounge\, featuring Troy Doherty – Guitar & Vocals
URL:https://harpethhotel.com/happenings/live-in-the-lounge-feat-troy-doherty-5/
LOCATION:1799 Bar\, 130 2nd Ave N\, Franklin\, TN\, 37064
CATEGORIES:Music
ATTACH;FMTTYPE=image/png:https://harpethhotel.com/wp-content/uploads/2023/02/Guitar-Music-1-25.png
END:VEVENT
BEGIN:VEVENT
DTSTART;TZID=America/New_York:20230305T160000
DTEND;TZID=America/New_York:20230305T190000
DTSTAMP:20260421T223602
CREATED:20230301T041350Z
LAST-MODIFIED:20230301T041350Z
UID:7608-1678032000-1678042800@harpethhotel.com
SUMMARY:Live In The Lounge feat. Jim Hayden
DESCRIPTION:Live Music in 1799 Lounge\, featuring Jim Hayden – Keyboard & Vocals
URL:https://harpethhotel.com/happenings/live-in-the-lounge-feat-jim-hayden-14/
LOCATION:1799 Bar\, 130 2nd Ave N\, Franklin\, TN\, 37064
CATEGORIES:Music
ATTACH;FMTTYPE=image/png:https://harpethhotel.com/wp-content/uploads/2023/02/Keyboard-Music-1-14.png
END:VEVENT
BEGIN:VEVENT
DTSTART;TZID=America/New_York:20230310T190000
DTEND;TZID=America/New_York:20230310T220000
DTSTAMP:20260421T223602
CREATED:20230309T024732Z
LAST-MODIFIED:20230309T024732Z
UID:7626-1678474800-1678485600@harpethhotel.com
SUMMARY:Live In The Lounge feat. Doug Allen
DESCRIPTION:Live Music in 1799 Lounge\, featuring Doug Allen – Guitar & Vocals
URL:https://harpethhotel.com/happenings/live-in-the-lounge-feat-doug-allen-5/
LOCATION:1799 Bar\, 130 2nd Ave N\, Franklin\, TN\, 37064
CATEGORIES:Music
ATTACH;FMTTYPE=image/png:https://harpethhotel.com/wp-content/uploads/2023/03/Guitar-Music-1-26.png
END:VEVENT
BEGIN:VEVENT
DTSTART;TZID=America/New_York:20230311T120000
DTEND;TZID=America/New_York:20230311T150000
DTSTAMP:20260421T223602
CREATED:20230301T035501Z
LAST-MODIFIED:20230301T035514Z
UID:7593-1678536000-1678546800@harpethhotel.com
SUMMARY:Music & Mimosas feat. Karlie Bartholomew
DESCRIPTION:Live Music Featuring Karlie Bartholomew
URL:https://harpethhotel.com/happenings/music-mimosas-feat-karlie-bartholomew/
LOCATION:McGavock’s\, 130 2nd Ave N\, Franklin\, TN\, 37064
CATEGORIES:Music
ATTACH;FMTTYPE=image/png:https://harpethhotel.com/wp-content/uploads/2023/02/Music-Mimosa-Website-1-10.png
END:VEVENT
BEGIN:VEVENT
DTSTART;TZID=America/New_York:20230311T190000
DTEND;TZID=America/New_York:20230311T220000
DTSTAMP:20260421T223602
CREATED:20230309T025731Z
LAST-MODIFIED:20230309T025731Z
UID:7629-1678561200-1678572000@harpethhotel.com
SUMMARY:Live In The Lounge feat. Kayla Wass
DESCRIPTION:Live Music in 1799 Lounge\, featuring Kayla Wass – Guitar & Vocals
URL:https://harpethhotel.com/happenings/live-in-the-lounge-feat-kayla-wass-5/
LOCATION:1799 Bar\, 130 2nd Ave N\, Franklin\, TN\, 37064
CATEGORIES:Music
ATTACH;FMTTYPE=image/png:https://harpethhotel.com/wp-content/uploads/2023/03/Guitar-Music-1-27.png
END:VEVENT
BEGIN:VEVENT
DTSTART;TZID=America/New_York:20230312T160000
DTEND;TZID=America/New_York:20230312T190000
DTSTAMP:20260421T223602
CREATED:20230310T163143Z
LAST-MODIFIED:20230310T163143Z
UID:7632-1678636800-1678647600@harpethhotel.com
SUMMARY:Live In The Lounge feat. Jim Hayden
DESCRIPTION:Live Music in 1799 Lounge\, featuring Jim Hayden – Keyboard & Vocals
URL:https://harpethhotel.com/happenings/live-in-the-lounge-feat-jim-hayden-15/
LOCATION:1799 Bar\, 130 2nd Ave N\, Franklin\, TN\, 37064
CATEGORIES:Music
ATTACH;FMTTYPE=image/png:https://harpethhotel.com/wp-content/uploads/2023/02/Keyboard-Music-1-14.png
END:VEVENT
BEGIN:VEVENT
DTSTART;TZID=America/New_York:20230318T120000
DTEND;TZID=America/New_York:20230318T150000
DTSTAMP:20260421T223602
CREATED:20230301T035939Z
LAST-MODIFIED:20230301T040038Z
UID:7596-1679140800-1679151600@harpethhotel.com
SUMMARY:Music & Mimosas feat. Sahara Moon
DESCRIPTION:Live Music Featuring Sahara Moon
URL:https://harpethhotel.com/happenings/music-mimosas-feat-sahara-moon/
LOCATION:McGavock’s\, 130 2nd Ave N\, Franklin\, TN\, 37064
CATEGORIES:Music
ATTACH;FMTTYPE=image/png:https://harpethhotel.com/wp-content/uploads/2023/02/Music-Mimosa-Website-1-11.png
END:VEVENT
BEGIN:VEVENT
DTSTART;TZID=America/New_York:20230324T190000
DTEND;TZID=America/New_York:20230324T220000
DTSTAMP:20260421T223602
CREATED:20230324T041928Z
LAST-MODIFIED:20230324T041928Z
UID:7659-1679684400-1679695200@harpethhotel.com
SUMMARY:Live In The Lounge feat. Chelsea Rhodes
DESCRIPTION:Live Music in 1799 Lounge\, featuring Chelsea Rhodes – Guitar & Vocals
URL:https://harpethhotel.com/happenings/live-in-the-lounge-feat-chelsea-rhodes-2/
LOCATION:1799 Bar\, 130 2nd Ave N\, Franklin\, TN\, 37064
CATEGORIES:Music
ATTACH;FMTTYPE=image/png:https://harpethhotel.com/wp-content/uploads/Guitar-Music-1-28.png
END:VEVENT
BEGIN:VEVENT
DTSTART;TZID=America/New_York:20230325T120000
DTEND;TZID=America/New_York:20230325T150000
DTSTAMP:20260421T223602
CREATED:20230301T040402Z
LAST-MODIFIED:20230301T040402Z
UID:7599-1679745600-1679756400@harpethhotel.com
SUMMARY:Music & Mimosas feat. The Jenkins Twins
DESCRIPTION:Live Music Featuring The Jenkins Twins
URL:https://harpethhotel.com/happenings/music-mimosas-feat-the-jenkins-twins/
LOCATION:McGavock’s\, 130 2nd Ave N\, Franklin\, TN\, 37064
CATEGORIES:Music
ATTACH;FMTTYPE=image/png:https://harpethhotel.com/wp-content/uploads/2023/02/Music-Mimosa-Website-1-13.png
END:VEVENT
BEGIN:VEVENT
DTSTART;TZID=America/New_York:20230325T190000
DTEND;TZID=America/New_York:20230325T220000
DTSTAMP:20260421T223602
CREATED:20230324T042037Z
LAST-MODIFIED:20230324T042037Z
UID:7662-1679770800-1679781600@harpethhotel.com
SUMMARY:Live In The Lounge feat. Troy Doherty
DESCRIPTION:Live Music in 1799 Lounge\, featuring Troy Doherty – Guitar & Vocals
URL:https://harpethhotel.com/happenings/live-in-the-lounge-feat-troy-doherty-6/
LOCATION:1799 Bar\, 130 2nd Ave N\, Franklin\, TN\, 37064
CATEGORIES:Music
ATTACH;FMTTYPE=image/png:https://harpethhotel.com/wp-content/uploads/2023/02/Guitar-Music-1-25.png
END:VEVENT
BEGIN:VEVENT
DTSTART;TZID=America/New_York:20230326T160000
DTEND;TZID=America/New_York:20230326T190000
DTSTAMP:20260421T223602
CREATED:20230324T042200Z
LAST-MODIFIED:20230324T042200Z
UID:7664-1679846400-1679857200@harpethhotel.com
SUMMARY:Live In The Lounge feat. Jim Hayden
DESCRIPTION:Live Music in 1799 Lounge\, featuring Jim Hayden – Keyboard & Vocals
URL:https://harpethhotel.com/happenings/live-in-the-lounge-feat-jim-hayden-16/
LOCATION:1799 Bar\, 130 2nd Ave N\, Franklin\, TN\, 37064
CATEGORIES:Music
ATTACH;FMTTYPE=image/png:https://harpethhotel.com/wp-content/uploads/2023/02/Keyboard-Music-1-14.png
END:VEVENT
BEGIN:VEVENT
DTSTART;TZID=America/New_York:20230331T190000
DTEND;TZID=America/New_York:20230331T220000
DTSTAMP:20260421T223602
CREATED:20230324T042312Z
LAST-MODIFIED:20230324T042312Z
UID:7666-1680289200-1680300000@harpethhotel.com
SUMMARY:Live In The Lounge feat. Aaron Bucks
DESCRIPTION:Live Music in 1799 Lounge\, featuring Aaron Bucks – Guitar & Vocals
URL:https://harpethhotel.com/happenings/live-in-the-lounge-feat-aaron-bucks-8/
LOCATION:1799 Bar\, 130 2nd Ave N\, Franklin\, TN\, 37064
CATEGORIES:Music
ATTACH;FMTTYPE=image/png:https://harpethhotel.com/wp-content/uploads/2023/02/Guitar-Music-1-24.png
END:VEVENT
END:VCALENDAR