BEGIN:VCALENDAR
VERSION:2.0
PRODID:-//The Harpeth Hotel - ECPv6.15.20//NONSGML v1.0//EN
CALSCALE:GREGORIAN
METHOD:PUBLISH
X-WR-CALNAME:The Harpeth Hotel
X-ORIGINAL-URL:https://harpethhotel.com
X-WR-CALDESC:Events for The Harpeth Hotel
REFRESH-INTERVAL;VALUE=DURATION:PT1H
X-Robots-Tag:noindex
X-PUBLISHED-TTL:PT1H
BEGIN:VTIMEZONE
TZID:America/New_York
BEGIN:DAYLIGHT
TZOFFSETFROM:-0500
TZOFFSETTO:-0400
TZNAME:EDT
DTSTART:20220313T070000
END:DAYLIGHT
BEGIN:STANDARD
TZOFFSETFROM:-0400
TZOFFSETTO:-0500
TZNAME:EST
DTSTART:20221106T060000
END:STANDARD
BEGIN:DAYLIGHT
TZOFFSETFROM:-0500
TZOFFSETTO:-0400
TZNAME:EDT
DTSTART:20230312T070000
END:DAYLIGHT
BEGIN:STANDARD
TZOFFSETFROM:-0400
TZOFFSETTO:-0500
TZNAME:EST
DTSTART:20231105T060000
END:STANDARD
BEGIN:DAYLIGHT
TZOFFSETFROM:-0500
TZOFFSETTO:-0400
TZNAME:EDT
DTSTART:20240310T070000
END:DAYLIGHT
BEGIN:STANDARD
TZOFFSETFROM:-0400
TZOFFSETTO:-0500
TZNAME:EST
DTSTART:20241103T060000
END:STANDARD
END:VTIMEZONE
BEGIN:VEVENT
DTSTART;TZID=America/New_York:20231201T133000
DTEND;TZID=America/New_York:20231201T163000
DTSTAMP:20260421T094245
CREATED:20231129T203529Z
LAST-MODIFIED:20231129T203529Z
UID:8727-1701437400-1701448200@harpethhotel.com
SUMMARY:Live in The Lounge feat. Thomas Ellis
DESCRIPTION:Live Music in 1799 Lounge\, featuring Thomas Ellis- Guitar & Vocals
URL:https://harpethhotel.com/happenings/live-in-the-lounge-feat-thomas-ellis/
LOCATION:1799 Bar\, 130 2nd Ave N\, Franklin\, TN\, 37064
CATEGORIES:Eat & Drink,Music
ATTACH;FMTTYPE=image/png:https://harpethhotel.com/wp-content/uploads/Guitar-Music-17.png
END:VEVENT
BEGIN:VEVENT
DTSTART;TZID=America/New_York:20231201T163000
DTEND;TZID=America/New_York:20231201T193000
DTSTAMP:20260421T094245
CREATED:20231129T204928Z
LAST-MODIFIED:20231129T204928Z
UID:8736-1701448200-1701459000@harpethhotel.com
SUMMARY:Live in The Lounge feat. Les Kerr
DESCRIPTION:Live Music in 1799 Lounge featuring Les Kerr- Guitar & Vocals
URL:https://harpethhotel.com/happenings/live-in-the-lounge-feat-les-kerr-6/
LOCATION:1799 Bar\, 130 2nd Ave N\, Franklin\, TN\, 37064
CATEGORIES:Eat & Drink,Music
ATTACH;FMTTYPE=image/png:https://harpethhotel.com/wp-content/uploads/Guitar-Music-18.png
END:VEVENT
BEGIN:VEVENT
DTSTART;TZID=America/New_York:20231201T200000
DTEND;TZID=America/New_York:20231201T230000
DTSTAMP:20260421T094245
CREATED:20231130T183122Z
LAST-MODIFIED:20231130T183244Z
UID:8744-1701460800-1701471600@harpethhotel.com
SUMMARY:Live in The Lounge feat. Aaron Bucks
DESCRIPTION:Live Music in 1799 Lounge featuring Aaron Bucks- Guitar & Vocals
URL:https://harpethhotel.com/happenings/live-in-the-lounge-feat-aaron-bucks-14/
LOCATION:1799 Bar\, 130 2nd Ave N\, Franklin\, TN\, 37064
ATTACH;FMTTYPE=image/png:https://harpethhotel.com/wp-content/uploads/Guitar-Music-19.png
END:VEVENT
BEGIN:VEVENT
DTSTART;TZID=America/New_York:20231202T103000
DTEND;TZID=America/New_York:20231202T140000
DTSTAMP:20260421T094245
CREATED:20231031T164603Z
LAST-MODIFIED:20231031T164603Z
UID:8606-1701513000-1701525600@harpethhotel.com
SUMMARY:Santa Brunch
DESCRIPTION:Enjoy an exclusive North Pole inspired brunch menu while Santa makes his way around the restaurant and making sure he has all of the last-minute requests for those on the nice list. \nFeeling Naughty? The Elves At 1799 have crafted some spirited drinks for those who didn’t make the list. \nDon’t forget your camera to capture the moment! \nBrunch opens at 10:30am\, Santa arrives at 11:00am.
URL:https://harpethhotel.com/happenings/santa-brunch-6/
LOCATION:1799 Kitchen & Cocktails\, 130 2nd Ave N\, Franklin\, TN\, 37064
CATEGORIES:Eat & Drink,Holidays
ATTACH;FMTTYPE=image/png:https://harpethhotel.com/wp-content/uploads/SantaBrunchV2-2023.png
END:VEVENT
BEGIN:VEVENT
DTSTART;TZID=America/New_York:20231202T190000
DTEND;TZID=America/New_York:20231202T220000
DTSTAMP:20260421T094245
CREATED:20231130T192014Z
LAST-MODIFIED:20231130T192014Z
UID:8747-1701543600-1701554400@harpethhotel.com
SUMMARY:Live in the Lounge feat. Drew Whitehead
DESCRIPTION:Live Music in 1799 Lounge\, featuring Drew Whitehead – Guitar & Vocals.
URL:https://harpethhotel.com/happenings/live-in-the-lounge-feat-drew-whitehead-3/
LOCATION:1799 Bar\, 130 2nd Ave N\, Franklin\, TN\, 37064
CATEGORIES:Eat & Drink,Music
ATTACH;FMTTYPE=image/png:https://harpethhotel.com/wp-content/uploads/Guitar-Music-16.png
END:VEVENT
BEGIN:VEVENT
DTSTART;TZID=America/New_York:20231203T103000
DTEND;TZID=America/New_York:20231203T140000
DTSTAMP:20260421T094245
CREATED:20231031T164638Z
LAST-MODIFIED:20231031T164638Z
UID:8605-1701599400-1701612000@harpethhotel.com
SUMMARY:Santa Brunch
DESCRIPTION:Enjoy an exclusive North Pole inspired brunch menu while Santa makes his way around the restaurant and making sure he has all of the last-minute requests for those on the nice list. \nFeeling Naughty? The Elves At 1799 have crafted some spirited drinks for those who didn’t make the list. \nDon’t forget your camera to capture the moment! \nBrunch opens at 10:30am\, Santa arrives at 11:00am.
URL:https://harpethhotel.com/happenings/santa-brunch-7/
LOCATION:1799 Kitchen & Cocktails\, 130 2nd Ave N\, Franklin\, TN\, 37064
CATEGORIES:Eat & Drink,Holidays
ATTACH;FMTTYPE=image/png:https://harpethhotel.com/wp-content/uploads/SantaBrunchV2-2023.png
END:VEVENT
BEGIN:VEVENT
DTSTART;TZID=America/New_York:20231203T160000
DTEND;TZID=America/New_York:20231203T190000
DTSTAMP:20260421T094245
CREATED:20231130T192539Z
LAST-MODIFIED:20231130T192539Z
UID:8749-1701619200-1701630000@harpethhotel.com
SUMMARY:Live in The Lounge feat. Jim Hayden
DESCRIPTION:Live Music in 1799 Lounge\, featuring Jim Hayden- Keyboard & Vocals.
URL:https://harpethhotel.com/happenings/live-in-the-lounge-feat-jim-hayden-44/
LOCATION:1799 Bar\, 130 2nd Ave N\, Franklin\, TN\, 37064
CATEGORIES:Eat & Drink,Music
END:VEVENT
BEGIN:VEVENT
DTSTART;TZID=America/New_York:20231205T170000
DTEND;TZID=America/New_York:20231205T233000
DTSTAMP:20260421T094245
CREATED:20231205T180420Z
LAST-MODIFIED:20231205T180420Z
UID:8819-1701795600-1701819000@harpethhotel.com
SUMMARY:Christmas Pop-Up Bar
DESCRIPTION:World’s Best Cup of Coffee is Franklin Tennessee’s first and only Holiday Pop-Up Bar. \nCelebrate your favorite Holiday movies and Christmas memories with one-of-a-kind cocktails in a fully immersive Christmas experience. \nThink you’ve seen everything? Look again\, see if you can find your favorite movie in the decorations. \nSeating is first come\, first serve basis. \n21+ after 9pm.
URL:https://harpethhotel.com/happenings/christmas-pop-up-bar-15/
LOCATION:McGavock’s\, 130 2nd Ave N\, Franklin\, TN\, 37064
CATEGORIES:Eat & Drink,Holidays
ATTACH;FMTTYPE=image/jpeg:https://harpethhotel.com/wp-content/uploads/2022/11/Worlds-Best-2-2-scaled.jpg
END:VEVENT
BEGIN:VEVENT
DTSTART;TZID=America/New_York:20231206T170000
DTEND;TZID=America/New_York:20231206T233000
DTSTAMP:20260421T094245
CREATED:20231205T180747Z
LAST-MODIFIED:20231205T180747Z
UID:8821-1701882000-1701905400@harpethhotel.com
SUMMARY:Christmas Pop-Up Bar
DESCRIPTION:World’s Best Cup of Coffee is Franklin Tennessee’s first and only Holiday Pop-Up Bar. \nCelebrate your favorite Holiday movies and Christmas memories with one-of-a-kind cocktails in a fully immersive Christmas experience. \nThink you’ve seen everything? Look again\, see if you can find your favorite movie in the decorations. \nSeating is first come\, first serve basis. \n21+ after 9pm.
URL:https://harpethhotel.com/happenings/christmas-pop-up-bar-16/
LOCATION:McGavock’s\, 130 2nd Ave N\, Franklin\, TN\, 37064
CATEGORIES:Eat & Drink,Holidays
ATTACH;FMTTYPE=image/jpeg:https://harpethhotel.com/wp-content/uploads/2022/11/Worlds-Best-2-2-scaled.jpg
END:VEVENT
BEGIN:VEVENT
DTSTART;TZID=America/New_York:20231207T170000
DTEND;TZID=America/New_York:20231207T233000
DTSTAMP:20260421T094245
CREATED:20231205T180910Z
LAST-MODIFIED:20231205T180910Z
UID:8823-1701968400-1701991800@harpethhotel.com
SUMMARY:Christmas Pop-Up Bar
DESCRIPTION:World’s Best Cup of Coffee is Franklin Tennessee’s first and only Holiday Pop-Up Bar. \nCelebrate your favorite Holiday movies and Christmas memories with one-of-a-kind cocktails in a fully immersive Christmas experience. \nThink you’ve seen everything? Look again\, see if you can find your favorite movie in the decorations. \nSeating is first come\, first serve basis. \n21+ after 9pm.
URL:https://harpethhotel.com/happenings/christmas-pop-up-bar-17/
LOCATION:McGavock’s\, 130 2nd Ave N\, Franklin\, TN\, 37064
CATEGORIES:Eat & Drink,Holidays
ATTACH;FMTTYPE=image/jpeg:https://harpethhotel.com/wp-content/uploads/2022/11/Worlds-Best-2-2-scaled.jpg
END:VEVENT
BEGIN:VEVENT
DTSTART;TZID=America/New_York:20231208T170000
DTEND;TZID=America/New_York:20231208T233000
DTSTAMP:20260421T094245
CREATED:20231205T180956Z
LAST-MODIFIED:20231205T180956Z
UID:8825-1702054800-1702078200@harpethhotel.com
SUMMARY:Christmas Pop-Up Bar
DESCRIPTION:World’s Best Cup of Coffee is Franklin Tennessee’s first and only Holiday Pop-Up Bar. \nCelebrate your favorite Holiday movies and Christmas memories with one-of-a-kind cocktails in a fully immersive Christmas experience. \nThink you’ve seen everything? Look again\, see if you can find your favorite movie in the decorations. \nSeating is first come\, first serve basis. \n21+ after 9pm.
URL:https://harpethhotel.com/happenings/christmas-pop-up-bar-18/
LOCATION:McGavock’s\, 130 2nd Ave N\, Franklin\, TN\, 37064
CATEGORIES:Eat & Drink,Holidays
ATTACH;FMTTYPE=image/jpeg:https://harpethhotel.com/wp-content/uploads/2022/11/Worlds-Best-2-2-scaled.jpg
END:VEVENT
BEGIN:VEVENT
DTSTART;TZID=America/New_York:20231208T190000
DTEND;TZID=America/New_York:20231208T220000
DTSTAMP:20260421T094245
CREATED:20231130T193158Z
LAST-MODIFIED:20231130T193234Z
UID:8751-1702062000-1702072800@harpethhotel.com
SUMMARY:Live In The Lounge feat. Aaron Bucks
DESCRIPTION:Live Music in 1799 Lounge\, featuring Aaron Bucks – Guitar & Vocals
URL:https://harpethhotel.com/happenings/live-in-the-lounge-feat-aaron-bucks-13/
LOCATION:1799 Bar\, 130 2nd Ave N\, Franklin\, TN\, 37064
CATEGORIES:Eat & Drink,Music
ATTACH;FMTTYPE=image/png:https://harpethhotel.com/wp-content/uploads/2023/02/Guitar-Music-1-24.png
END:VEVENT
BEGIN:VEVENT
DTSTART;TZID=America/New_York:20231209T103000
DTEND;TZID=America/New_York:20231209T140000
DTSTAMP:20260421T094245
CREATED:20231031T164727Z
LAST-MODIFIED:20231031T164727Z
UID:8604-1702117800-1702130400@harpethhotel.com
SUMMARY:Santa Brunch
DESCRIPTION:Enjoy an exclusive North Pole inspired brunch menu while Santa makes his way around the restaurant and making sure he has all of the last-minute requests for those on the nice list. \nFeeling Naughty? The Elves At 1799 have crafted some spirited drinks for those who didn’t make the list. \nDon’t forget your camera to capture the moment! \nBrunch opens at 10:30am\, Santa arrives at 11:00am.
URL:https://harpethhotel.com/happenings/santa-brunch-8/
LOCATION:1799 Kitchen & Cocktails\, 130 2nd Ave N\, Franklin\, TN\, 37064
CATEGORIES:Eat & Drink,Holidays
ATTACH;FMTTYPE=image/png:https://harpethhotel.com/wp-content/uploads/SantaBrunchV2-2023.png
END:VEVENT
BEGIN:VEVENT
DTSTART;TZID=America/New_York:20231209T120000
DTEND;TZID=America/New_York:20231209T150000
DTSTAMP:20260421T094245
CREATED:20231130T194134Z
LAST-MODIFIED:20231130T194134Z
UID:8753-1702123200-1702134000@harpethhotel.com
SUMMARY:Live in The Lounge feat. Brooks Huntley
DESCRIPTION:Live Music in 1799 Lounge featuring Brooks Huntley- Guitar & Vocals
URL:https://harpethhotel.com/happenings/live-in-the-lounge-feat-brooks-huntley/
LOCATION:1799 Bar\, 130 2nd Ave N\, Franklin\, TN\, 37064
CATEGORIES:Eat & Drink,Music
ATTACH;FMTTYPE=image/png:https://harpethhotel.com/wp-content/uploads/Guitar-Music-20.png
END:VEVENT
BEGIN:VEVENT
DTSTART;TZID=America/New_York:20231209T160000
DTEND;TZID=America/New_York:20231209T190000
DTSTAMP:20260421T094245
CREATED:20231130T194527Z
LAST-MODIFIED:20231130T194527Z
UID:8757-1702137600-1702148400@harpethhotel.com
SUMMARY:Live in The Lounge feat. Amelia Eisenhauer
DESCRIPTION:Live Music in 1799 Lounge featuring Amelia Eisenhauer- Guitar & Vocals
URL:https://harpethhotel.com/happenings/live-in-the-lounge-feat-amelia-eisenhauer-6/
LOCATION:1799 Bar\, 130 2nd Ave N\, Franklin\, TN\, 37064
CATEGORIES:Eat & Drink,Music
ATTACH;FMTTYPE=image/png:https://harpethhotel.com/wp-content/uploads/Guitar-Music-21.png
END:VEVENT
BEGIN:VEVENT
DTSTART;TZID=America/New_York:20231209T170000
DTEND;TZID=America/New_York:20231209T233000
DTSTAMP:20260421T094245
CREATED:20231205T181117Z
LAST-MODIFIED:20231205T181117Z
UID:8827-1702141200-1702164600@harpethhotel.com
SUMMARY:Christmas Pop-Up Bar
DESCRIPTION:World’s Best Cup of Coffee is Franklin Tennessee’s first and only Holiday Pop-Up Bar. \nCelebrate your favorite Holiday movies and Christmas memories with one-of-a-kind cocktails in a fully immersive Christmas experience. \nThink you’ve seen everything? Look again\, see if you can find your favorite movie in the decorations. \nSeating is first come\, first serve basis. \n21+ after 9pm.
URL:https://harpethhotel.com/happenings/christmas-pop-up-bar-19/
LOCATION:McGavock’s\, 130 2nd Ave N\, Franklin\, TN\, 37064
CATEGORIES:Eat & Drink,Holidays
ATTACH;FMTTYPE=image/jpeg:https://harpethhotel.com/wp-content/uploads/2022/11/Worlds-Best-2-2-scaled.jpg
END:VEVENT
BEGIN:VEVENT
DTSTART;TZID=America/New_York:20231209T200000
DTEND;TZID=America/New_York:20231209T230000
DTSTAMP:20260421T094245
CREATED:20231130T195054Z
LAST-MODIFIED:20231130T195054Z
UID:8761-1702152000-1702162800@harpethhotel.com
SUMMARY:Live in The Lounge feat. Brain Ashley Jones
DESCRIPTION:Live Music in 1799 Lounge featuring Brian Ashley Jones- Guitar & Vocals
URL:https://harpethhotel.com/happenings/live-in-the-lounge-feat-brain-ashley-jones/
LOCATION:1799 Bar\, 130 2nd Ave N\, Franklin\, TN\, 37064
CATEGORIES:Eat & Drink,Music
ATTACH;FMTTYPE=image/png:https://harpethhotel.com/wp-content/uploads/Guitar-Music-22.png
END:VEVENT
BEGIN:VEVENT
DTSTART;TZID=America/New_York:20231210T103000
DTEND;TZID=America/New_York:20231210T140000
DTSTAMP:20260421T094245
CREATED:20231031T164817Z
LAST-MODIFIED:20231031T164817Z
UID:8603-1702204200-1702216800@harpethhotel.com
SUMMARY:Santa Brunch
DESCRIPTION:Enjoy an exclusive North Pole inspired brunch menu while Santa makes his way around the restaurant and making sure he has all of the last-minute requests for those on the nice list. \nFeeling Naughty? The Elves At 1799 have crafted some spirited drinks for those who didn’t make the list. \nDon’t forget your camera to capture the moment! \nBrunch opens at 10:30am\, Santa arrives at 11:00am.
URL:https://harpethhotel.com/happenings/santa-brunch-9/
LOCATION:1799 Kitchen & Cocktails\, 130 2nd Ave N\, Franklin\, TN\, 37064
CATEGORIES:Eat & Drink,Holidays
ATTACH;FMTTYPE=image/png:https://harpethhotel.com/wp-content/uploads/SantaBrunchV2-2023.png
END:VEVENT
BEGIN:VEVENT
DTSTART;TZID=America/New_York:20231210T120000
DTEND;TZID=America/New_York:20231210T150000
DTSTAMP:20260421T094245
CREATED:20231130T201955Z
LAST-MODIFIED:20231130T201955Z
UID:8767-1702209600-1702220400@harpethhotel.com
SUMMARY:Live in The Lounge feat. Kayla Wass
DESCRIPTION:Live Music in 1799 Lounge featuring Kayla Wass- Guitar & Vocals
URL:https://harpethhotel.com/happenings/live-in-the-lounge-feat-kayla-wass-15/
LOCATION:1799 Bar\, 130 2nd Ave N\, Franklin\, TN\, 37064
CATEGORIES:Eat & Drink,Music
ATTACH;FMTTYPE=image/png:https://harpethhotel.com/wp-content/uploads/Guitar-Music-23.png
END:VEVENT
BEGIN:VEVENT
DTSTART;TZID=America/New_York:20231210T160000
DTEND;TZID=America/New_York:20231210T190000
DTSTAMP:20260421T094245
CREATED:20231130T195957Z
LAST-MODIFIED:20231130T195957Z
UID:8765-1702224000-1702234800@harpethhotel.com
SUMMARY:Live in The Lounge feat. Jim Hayden
DESCRIPTION:Live Music in 1799 Lounge\, featuring Jim Hayden- Keyboard & Vocals.
URL:https://harpethhotel.com/happenings/live-in-the-lounge-feat-jim-hayden-45/
LOCATION:1799 Bar\, 130 2nd Ave N\, Franklin\, TN\, 37064
CATEGORIES:Eat & Drink,Music
END:VEVENT
BEGIN:VEVENT
DTSTART;TZID=America/New_York:20231212T170000
DTEND;TZID=America/New_York:20231212T233000
DTSTAMP:20260421T094245
CREATED:20231205T181157Z
LAST-MODIFIED:20231205T181157Z
UID:8829-1702400400-1702423800@harpethhotel.com
SUMMARY:Christmas Pop-Up Bar
DESCRIPTION:World’s Best Cup of Coffee is Franklin Tennessee’s first and only Holiday Pop-Up Bar. \nCelebrate your favorite Holiday movies and Christmas memories with one-of-a-kind cocktails in a fully immersive Christmas experience. \nThink you’ve seen everything? Look again\, see if you can find your favorite movie in the decorations. \nSeating is first come\, first serve basis. \n21+ after 9pm.
URL:https://harpethhotel.com/happenings/christmas-pop-up-bar-20/
LOCATION:McGavock’s\, 130 2nd Ave N\, Franklin\, TN\, 37064
CATEGORIES:Eat & Drink,Holidays
ATTACH;FMTTYPE=image/jpeg:https://harpethhotel.com/wp-content/uploads/2022/11/Worlds-Best-2-2-scaled.jpg
END:VEVENT
BEGIN:VEVENT
DTSTART;TZID=America/New_York:20231213T170000
DTEND;TZID=America/New_York:20231213T233000
DTSTAMP:20260421T094245
CREATED:20231205T181252Z
LAST-MODIFIED:20231205T181252Z
UID:8831-1702486800-1702510200@harpethhotel.com
SUMMARY:Christmas Pop-Up Bar
DESCRIPTION:World’s Best Cup of Coffee is Franklin Tennessee’s first and only Holiday Pop-Up Bar. \nCelebrate your favorite Holiday movies and Christmas memories with one-of-a-kind cocktails in a fully immersive Christmas experience. \nThink you’ve seen everything? Look again\, see if you can find your favorite movie in the decorations. \nSeating is first come\, first serve basis. \n21+ after 9pm.
URL:https://harpethhotel.com/happenings/christmas-pop-up-bar-21/
LOCATION:McGavock’s\, 130 2nd Ave N\, Franklin\, TN\, 37064
CATEGORIES:Eat & Drink,Holidays
ATTACH;FMTTYPE=image/jpeg:https://harpethhotel.com/wp-content/uploads/2022/11/Worlds-Best-2-2-scaled.jpg
END:VEVENT
BEGIN:VEVENT
DTSTART;TZID=America/New_York:20231214T170000
DTEND;TZID=America/New_York:20231214T233000
DTSTAMP:20260421T094245
CREATED:20231205T181536Z
LAST-MODIFIED:20231205T181536Z
UID:8834-1702573200-1702596600@harpethhotel.com
SUMMARY:Christmas Pop-Up Bar
DESCRIPTION:World’s Best Cup of Coffee is Franklin Tennessee’s first and only Holiday Pop-Up Bar. \nCelebrate your favorite Holiday movies and Christmas memories with one-of-a-kind cocktails in a fully immersive Christmas experience. \nThink you’ve seen everything? Look again\, see if you can find your favorite movie in the decorations. \nSeating is first come\, first serve basis. \n21+ after 9pm.
URL:https://harpethhotel.com/happenings/christmas-pop-up-bar-22/
LOCATION:McGavock’s\, 130 2nd Ave N\, Franklin\, TN\, 37064
CATEGORIES:Eat & Drink,Holidays
ATTACH;FMTTYPE=image/jpeg:https://harpethhotel.com/wp-content/uploads/2022/11/Worlds-Best-2-2-scaled.jpg
END:VEVENT
BEGIN:VEVENT
DTSTART;TZID=America/New_York:20231215T170000
DTEND;TZID=America/New_York:20231215T233000
DTSTAMP:20260421T094245
CREATED:20231205T181618Z
LAST-MODIFIED:20231205T181618Z
UID:8836-1702659600-1702683000@harpethhotel.com
SUMMARY:Christmas Pop-Up Bar
DESCRIPTION:World’s Best Cup of Coffee is Franklin Tennessee’s first and only Holiday Pop-Up Bar. \nCelebrate your favorite Holiday movies and Christmas memories with one-of-a-kind cocktails in a fully immersive Christmas experience. \nThink you’ve seen everything? Look again\, see if you can find your favorite movie in the decorations. \nSeating is first come\, first serve basis. \n21+ after 9pm.
URL:https://harpethhotel.com/happenings/christmas-pop-up-bar-23/
LOCATION:McGavock’s\, 130 2nd Ave N\, Franklin\, TN\, 37064
CATEGORIES:Eat & Drink,Holidays
ATTACH;FMTTYPE=image/jpeg:https://harpethhotel.com/wp-content/uploads/2022/11/Worlds-Best-2-2-scaled.jpg
END:VEVENT
BEGIN:VEVENT
DTSTART;TZID=America/New_York:20231215T190000
DTEND;TZID=America/New_York:20231215T220000
DTSTAMP:20260421T094245
CREATED:20231204T183227Z
LAST-MODIFIED:20231204T183227Z
UID:8798-1702666800-1702677600@harpethhotel.com
SUMMARY:Live in the Lounge feat. Troy Doherty
DESCRIPTION:Live music in 1799 Lounge\, featuring Troy Doherty – Guitar & Vocals.
URL:https://harpethhotel.com/happenings/live-in-the-lounge-feat-troy-doherty-15/
LOCATION:1799 Bar\, 130 2nd Ave N\, Franklin\, TN\, 37064
CATEGORIES:Eat & Drink,Music
ATTACH;FMTTYPE=image/png:https://harpethhotel.com/wp-content/uploads/Troy-Doherty.png
END:VEVENT
BEGIN:VEVENT
DTSTART;TZID=America/New_York:20231216T103000
DTEND;TZID=America/New_York:20231216T140000
DTSTAMP:20260421T094245
CREATED:20231031T164921Z
LAST-MODIFIED:20231031T164921Z
UID:8614-1702722600-1702735200@harpethhotel.com
SUMMARY:Santa Brunch
DESCRIPTION:Enjoy an exclusive North Pole inspired brunch menu while Santa makes his way around the restaurant and making sure he has all of the last-minute requests for those on the nice list. \nFeeling Naughty? The Elves At 1799 have crafted some spirited drinks for those who didn’t make the list. \nDon’t forget your camera to capture the moment! \nBrunch opens at 10:30am\, Santa arrives at 11:00am.
URL:https://harpethhotel.com/happenings/santa-brunch-10/
LOCATION:1799 Kitchen & Cocktails\, 130 2nd Ave N\, Franklin\, TN\, 37064
CATEGORIES:Eat & Drink,Holidays
ATTACH;FMTTYPE=image/png:https://harpethhotel.com/wp-content/uploads/SantaBrunchV2-2023.png
END:VEVENT
BEGIN:VEVENT
DTSTART;TZID=America/New_York:20231216T170000
DTEND;TZID=America/New_York:20231216T233000
DTSTAMP:20260421T094245
CREATED:20231205T181804Z
LAST-MODIFIED:20231205T181804Z
UID:8838-1702746000-1702769400@harpethhotel.com
SUMMARY:Christmas Pop-Up Bar
DESCRIPTION:World’s Best Cup of Coffee is Franklin Tennessee’s first and only Holiday Pop-Up Bar. \nCelebrate your favorite Holiday movies and Christmas memories with one-of-a-kind cocktails in a fully immersive Christmas experience. \nThink you’ve seen everything? Look again\, see if you can find your favorite movie in the decorations. \nSeating is first come\, first serve basis. \n21+ after 9pm.
URL:https://harpethhotel.com/happenings/christmas-pop-up-bar-24/
LOCATION:McGavock’s\, 130 2nd Ave N\, Franklin\, TN\, 37064
CATEGORIES:Eat & Drink,Holidays
ATTACH;FMTTYPE=image/jpeg:https://harpethhotel.com/wp-content/uploads/2022/11/Worlds-Best-2-2-scaled.jpg
END:VEVENT
BEGIN:VEVENT
DTSTART;TZID=America/New_York:20231216T190000
DTEND;TZID=America/New_York:20231216T220000
DTSTAMP:20260421T094245
CREATED:20231204T183343Z
LAST-MODIFIED:20231204T183343Z
UID:8800-1702753200-1702764000@harpethhotel.com
SUMMARY:Live in The Lounge feat. Allie Lamb
DESCRIPTION:Live Music in 1799 Lounge\, featuring Allie Lamb- Guitar & Vocals.
URL:https://harpethhotel.com/happenings/live-in-the-lounge-feat-allie-lamb-4/
LOCATION:1799 Bar\, 130 2nd Ave N\, Franklin\, TN\, 37064
CATEGORIES:Eat & Drink,Music
ATTACH;FMTTYPE=image/png:https://harpethhotel.com/wp-content/uploads/Guitar-Music-1-30.png
END:VEVENT
BEGIN:VEVENT
DTSTART;TZID=America/New_York:20231217T103000
DTEND;TZID=America/New_York:20231217T140000
DTSTAMP:20260421T094245
CREATED:20231031T164941Z
LAST-MODIFIED:20231031T164941Z
UID:8613-1702809000-1702821600@harpethhotel.com
SUMMARY:Santa Brunch
DESCRIPTION:Enjoy an exclusive North Pole inspired brunch menu while Santa makes his way around the restaurant and making sure he has all of the last-minute requests for those on the nice list. \nFeeling Naughty? The Elves At 1799 have crafted some spirited drinks for those who didn’t make the list. \nDon’t forget your camera to capture the moment! \nBrunch opens at 10:30am\, Santa arrives at 11:00am.
URL:https://harpethhotel.com/happenings/santa-brunch-11/
LOCATION:1799 Kitchen & Cocktails\, 130 2nd Ave N\, Franklin\, TN\, 37064
CATEGORIES:Eat & Drink,Holidays
ATTACH;FMTTYPE=image/png:https://harpethhotel.com/wp-content/uploads/SantaBrunchV2-2023.png
END:VEVENT
BEGIN:VEVENT
DTSTART;TZID=America/New_York:20231217T160000
DTEND;TZID=America/New_York:20231217T190000
DTSTAMP:20260421T094245
CREATED:20231204T183507Z
LAST-MODIFIED:20231204T183507Z
UID:8802-1702828800-1702839600@harpethhotel.com
SUMMARY:Live in The Lounge feat. Jim Hayden
DESCRIPTION:Live Music in 1799 Lounge\, featuring Jim Hayden- Keyboard & Vocals.
URL:https://harpethhotel.com/happenings/live-in-the-lounge-feat-jim-hayden-46/
LOCATION:1799 Bar\, 130 2nd Ave N\, Franklin\, TN\, 37064
CATEGORIES:Eat & Drink,Music
END:VEVENT
END:VCALENDAR