BEGIN:VCALENDAR
VERSION:2.0
PRODID:-//The Harpeth Hotel - ECPv6.15.20//NONSGML v1.0//EN
CALSCALE:GREGORIAN
METHOD:PUBLISH
X-ORIGINAL-URL:https://harpethhotel.com
X-WR-CALDESC:Events for The Harpeth Hotel
REFRESH-INTERVAL;VALUE=DURATION:PT1H
X-Robots-Tag:noindex
X-PUBLISHED-TTL:PT1H
BEGIN:VTIMEZONE
TZID:America/New_York
BEGIN:DAYLIGHT
TZOFFSETFROM:-0500
TZOFFSETTO:-0400
TZNAME:EDT
DTSTART:20230312T070000
END:DAYLIGHT
BEGIN:STANDARD
TZOFFSETFROM:-0400
TZOFFSETTO:-0500
TZNAME:EST
DTSTART:20231105T060000
END:STANDARD
BEGIN:DAYLIGHT
TZOFFSETFROM:-0500
TZOFFSETTO:-0400
TZNAME:EDT
DTSTART:20240310T070000
END:DAYLIGHT
BEGIN:STANDARD
TZOFFSETFROM:-0400
TZOFFSETTO:-0500
TZNAME:EST
DTSTART:20241103T060000
END:STANDARD
BEGIN:DAYLIGHT
TZOFFSETFROM:-0500
TZOFFSETTO:-0400
TZNAME:EDT
DTSTART:20250309T070000
END:DAYLIGHT
BEGIN:STANDARD
TZOFFSETFROM:-0400
TZOFFSETTO:-0500
TZNAME:EST
DTSTART:20251102T060000
END:STANDARD
END:VTIMEZONE
BEGIN:VEVENT
DTSTART;TZID=America/New_York:20240202T190000
DTEND;TZID=America/New_York:20240202T220000
DTSTAMP:20260421T064311
CREATED:20231227T205316Z
LAST-MODIFIED:20231227T205316Z
UID:8890-1706900400-1706911200@harpethhotel.com
SUMMARY:Live in The Lounge feat. Thomas Ellis
DESCRIPTION:Live Music in 1799 Lounge featuring Thomas Ellis- Guitar & Vocals
URL:https://harpethhotel.com/happenings/live-in-the-lounge-feat-thomas-ellis-3/
LOCATION:1799 Bar\, 130 2nd Ave N\, Franklin\, TN\, 37064
CATEGORIES:Eat & Drink,Music
ATTACH;FMTTYPE=image/png:https://harpethhotel.com/wp-content/uploads/Guitar-Music-1-8.png
END:VEVENT
BEGIN:VEVENT
DTSTART;TZID=America/New_York:20240203T190000
DTEND;TZID=America/New_York:20240203T220000
DTSTAMP:20260421T064311
CREATED:20240130T215332Z
LAST-MODIFIED:20240130T215332Z
UID:8949-1706986800-1706997600@harpethhotel.com
SUMMARY:Live In The Lounge feat. Aaron Bucks
DESCRIPTION:Live Music in 1799 Lounge\, featuring Aaron Bucks – Guitar & Vocals
URL:https://harpethhotel.com/happenings/live-in-the-lounge-feat-aaron-bucks-16/
LOCATION:1799 Bar\, 130 2nd Ave N\, Franklin\, TN\, 37064
CATEGORIES:Eat & Drink,Music
ATTACH;FMTTYPE=image/png:https://harpethhotel.com/wp-content/uploads/Guitar-Music-copy.png
END:VEVENT
BEGIN:VEVENT
DTSTART;TZID=America/New_York:20240204T160000
DTEND;TZID=America/New_York:20240204T190000
DTSTAMP:20260421T064311
CREATED:20240130T215418Z
LAST-MODIFIED:20240130T215418Z
UID:8952-1707062400-1707073200@harpethhotel.com
SUMMARY:Live in The Lounge feat. Jim Hayden
DESCRIPTION:Live Music in 1799 Lounge\, featuring Jim Hayden- Keyboard & Vocals.
URL:https://harpethhotel.com/happenings/live-in-the-lounge-feat-jim-hayden-51/
LOCATION:1799 Bar\, 130 2nd Ave N\, Franklin\, TN\, 37064
CATEGORIES:Eat & Drink,Music
END:VEVENT
BEGIN:VEVENT
DTSTART;TZID=America/New_York:20240209T150000
DTEND;TZID=America/New_York:20240209T210000
DTSTAMP:20260421T064311
CREATED:20240208T175820Z
LAST-MODIFIED:20240208T175820Z
UID:8988-1707490800-1707512400@harpethhotel.com
SUMMARY:Girl Scouts of Middle Tennessee
DESCRIPTION:Please come and support the Girl Scouts of Middle Tennessee in the Lobby.
URL:https://harpethhotel.com/happenings/girl-scouts-of-middle-tennessee/
LOCATION:The Lobby\, 130 2ND AVE N\, Franklin\, TN\, 37064\, United States
CATEGORIES:Eat & Drink
ATTACH;FMTTYPE=image/png:https://harpethhotel.com/wp-content/uploads/cropped-GS_MiddleTennessee_Servicemark_RGB_BlackGreen-e1617742188454-1.png
END:VEVENT
BEGIN:VEVENT
DTSTART;TZID=America/New_York:20240209T190000
DTEND;TZID=America/New_York:20240209T220000
DTSTAMP:20260421T064311
CREATED:20240130T215710Z
LAST-MODIFIED:20240130T215710Z
UID:8954-1707505200-1707516000@harpethhotel.com
SUMMARY:Live in the Lounge feat. Aimee Jane
DESCRIPTION:Live Music in 1799 Lounge\, featuring Aimee Jane- Guitar & Vocals.
URL:https://harpethhotel.com/happenings/live-in-the-lounge-feat-aimee-jane-2/
LOCATION:1799 Bar\, 130 2nd Ave N\, Franklin\, TN\, 37064
CATEGORIES:Eat & Drink,Music
ATTACH;FMTTYPE=image/png:https://harpethhotel.com/wp-content/uploads/Guitar-Music-copy-1.png
END:VEVENT
BEGIN:VEVENT
DTSTART;TZID=America/New_York:20240209T193000
DTEND;TZID=America/New_York:20240209T223000
DTSTAMP:20260421T064311
CREATED:20240208T174704Z
LAST-MODIFIED:20240208T174704Z
UID:8985-1707507000-1707517800@harpethhotel.com
SUMMARY:Out of the Box- Girl Scouts of Middle Tennessee
DESCRIPTION:We are pleased to house the Out of the Box Girl Scouts of Middle Tennessee Event. \nJoin them in the Riverside Ballroom.
URL:https://harpethhotel.com/happenings/out-of-the-box-girl-scouts-of-middle-tennessee/
LOCATION:Riverside Ballroom\, 130 2nd Ave N\, Franklin\, TN\, 37064
CATEGORIES:Activities,Eat & Drink
ATTACH;FMTTYPE=image/png:https://harpethhotel.com/wp-content/uploads/OTB-Facebook-Post.png
END:VEVENT
BEGIN:VEVENT
DTSTART;TZID=America/New_York:20240210T190000
DTEND;TZID=America/New_York:20240210T220000
DTSTAMP:20260421T064311
CREATED:20240130T215844Z
LAST-MODIFIED:20240130T215844Z
UID:8957-1707591600-1707602400@harpethhotel.com
SUMMARY:Live in The Lounge feat. Troy Douherty
DESCRIPTION:Live Music in 1799 Lounge featuring Troy Douherty- Guitar & Vocals
URL:https://harpethhotel.com/happenings/live-in-the-lounge-feat-troy-douherty-2/
LOCATION:1799 Bar\, 130 2nd Ave N\, Franklin\, TN\, 37064
CATEGORIES:Eat & Drink,Music
ATTACH;FMTTYPE=image/png:https://harpethhotel.com/wp-content/uploads/Troy-Doherty.png
END:VEVENT
BEGIN:VEVENT
DTSTART;TZID=America/New_York:20240211T140000
DTEND;TZID=America/New_York:20240211T170000
DTSTAMP:20260421T064311
CREATED:20240130T220119Z
LAST-MODIFIED:20240201T214115Z
UID:8959-1707660000-1707670800@harpethhotel.com
SUMMARY:Live in The Lounge feat. Jim Hayden
DESCRIPTION:Live Music in 1799 Lounge\, featuring Jim Hayden- Keyboard & Vocals.
URL:https://harpethhotel.com/happenings/live-in-the-lounge-feat-jim-hayden-52/
LOCATION:1799 Bar\, 130 2nd Ave N\, Franklin\, TN\, 37064
CATEGORIES:Eat & Drink,Music
ATTACH;FMTTYPE=image/png:https://harpethhotel.com/wp-content/uploads/Guitar-Music-copy-2.png
END:VEVENT
BEGIN:VEVENT
DTSTART;TZID=America/New_York:20240211T170000
DTEND;TZID=America/New_York:20240211T220000
DTSTAMP:20260421T064311
CREATED:20240208T181251Z
LAST-MODIFIED:20240208T181251Z
UID:8999-1707670800-1707688800@harpethhotel.com
SUMMARY:It's Game Time
DESCRIPTION:Join us in the 1799 Lounge for specials & $5 draft beer.
URL:https://harpethhotel.com/happenings/its-game-time/
LOCATION:1799 Bar\, 130 2nd Ave N\, Franklin\, TN\, 37064
ATTACH;FMTTYPE=image/png:https://harpethhotel.com/wp-content/uploads/Kansas-City-Pork-Toast-Sticky-Whisky-Barbeque-Sauce-Bread-and-Butter-Pickle.png
END:VEVENT
BEGIN:VEVENT
DTSTART;TZID=America/New_York:20240214T183000
DTEND;TZID=America/New_York:20240214T200000
DTSTAMP:20260421T064311
CREATED:20240208T181026Z
LAST-MODIFIED:20240208T181026Z
UID:8995-1707935400-1707940800@harpethhotel.com
SUMMARY:1799's Pasta & Cocktail Making Class
DESCRIPTION:Cocktail Class: Our House Mixologist will walk you through the history of Fizz’s along with the ingredients and flavors of traditional fizz drinks. You will learn about egg whites in cocktails and the unique flavors and texture they impart. You will then have the opportunity to make our Valentine’s Day special cocktail – The Franklin Valentine’s Day Fizz to sip & Enjoy! \nCooking Class: Chef will walk you and your partner through the steps of making a traditional pasta dough. Then\, after rolling it out\, you will get to fill and build your own Agnolotti with Chef Thomas’ special Valentine’s day filling of Smoked Shrimp & Ricotta. At the end\, Chef Thomas will show you how to finish cooking the pasta and you will get to enjoy your own creation and take home a keepsake recipe card to make again.
URL:https://harpethhotel.com/happenings/1799s-pasta-cocktail-making-class/
LOCATION:McGavock’s\, 130 2nd Ave N\, Franklin\, TN\, 37064
CATEGORIES:Activities,Eat & Drink,Holidays
ATTACH;FMTTYPE=image/png:https://harpethhotel.com/wp-content/uploads/Valentines-Day-Pasta-Flyer.png
END:VEVENT
BEGIN:VEVENT
DTSTART;TZID=America/New_York:20240216T190000
DTEND;TZID=America/New_York:20240216T220000
DTSTAMP:20260421T064311
CREATED:20240130T220442Z
LAST-MODIFIED:20240130T220442Z
UID:8961-1708110000-1708120800@harpethhotel.com
SUMMARY:Live in the Lounge feat. Aimee Jane
DESCRIPTION:Live Music in 1799 Lounge\, featuring Aimee Jane- Guitar & Vocals.
URL:https://harpethhotel.com/happenings/live-in-the-lounge-feat-aimee-jane-3/
LOCATION:1799 Bar\, 130 2nd Ave N\, Franklin\, TN\, 37064
CATEGORIES:Eat & Drink,Music
ATTACH;FMTTYPE=image/png:https://harpethhotel.com/wp-content/uploads/Guitar-Music-copy-1.png
END:VEVENT
BEGIN:VEVENT
DTSTART;TZID=America/New_York:20240217T150000
DTEND;TZID=America/New_York:20240217T210000
DTSTAMP:20260421T064311
CREATED:20240208T180140Z
LAST-MODIFIED:20240208T180140Z
UID:8991-1708182000-1708203600@harpethhotel.com
SUMMARY:Girl Scouts of Middle Tennessee
DESCRIPTION:Please come and support the Girl Scouts of Middle Tennessee in the Lobby.
URL:https://harpethhotel.com/happenings/girl-scouts-of-middle-tennessee-2/
LOCATION:The Lobby\, 130 2ND AVE N\, Franklin\, TN\, 37064\, United States
CATEGORIES:Eat & Drink
ATTACH;FMTTYPE=image/png:https://harpethhotel.com/wp-content/uploads/cropped-GS_MiddleTennessee_Servicemark_RGB_BlackGreen-e1617742188454-1.png
END:VEVENT
BEGIN:VEVENT
DTSTART;TZID=America/New_York:20240217T190000
DTEND;TZID=America/New_York:20240217T220000
DTSTAMP:20260421T064311
CREATED:20240130T220654Z
LAST-MODIFIED:20240130T220654Z
UID:8963-1708196400-1708207200@harpethhotel.com
SUMMARY:Live in The Lounge feat. Brain Ashley Jones
DESCRIPTION:Live Music in 1799 Lounge featuring Brian Ashley Jones- Guitar & Vocals
URL:https://harpethhotel.com/happenings/live-in-the-lounge-feat-brain-ashley-jones-3/
LOCATION:1799 Bar\, 130 2nd Ave N\, Franklin\, TN\, 37064
CATEGORIES:Eat & Drink,Music
ATTACH;FMTTYPE=image/png:https://harpethhotel.com/wp-content/uploads/Guitar-Music-26.png
END:VEVENT
BEGIN:VEVENT
DTSTART;TZID=America/New_York:20240218T160000
DTEND;TZID=America/New_York:20240218T190000
DTSTAMP:20260421T064311
CREATED:20240130T220907Z
LAST-MODIFIED:20240130T220907Z
UID:8965-1708272000-1708282800@harpethhotel.com
SUMMARY:Live in The Lounge feat. Jim Hayden
DESCRIPTION:Live Music in 1799 Lounge\, featuring Jim Hayden- Keyboard & Vocals.
URL:https://harpethhotel.com/happenings/live-in-the-lounge-feat-jim-hayden-53/
LOCATION:1799 Bar\, 130 2nd Ave N\, Franklin\, TN\, 37064
CATEGORIES:Eat & Drink,Music
END:VEVENT
BEGIN:VEVENT
DTSTART;TZID=America/New_York:20240223T190000
DTEND;TZID=America/New_York:20240223T220000
DTSTAMP:20260421T064311
CREATED:20240130T221048Z
LAST-MODIFIED:20240130T221048Z
UID:8968-1708714800-1708725600@harpethhotel.com
SUMMARY:Live In The Lounge feat. Aaron Bucks
DESCRIPTION:Live Music in 1799 Lounge\, featuring Aaron Bucks – Guitar & Vocals
URL:https://harpethhotel.com/happenings/live-in-the-lounge-feat-aaron-bucks-17/
LOCATION:1799 Bar\, 130 2nd Ave N\, Franklin\, TN\, 37064
CATEGORIES:Eat & Drink,Music
ATTACH;FMTTYPE=image/png:https://harpethhotel.com/wp-content/uploads/Guitar-Music-copy.png
END:VEVENT
BEGIN:VEVENT
DTSTART;TZID=America/New_York:20240224T150000
DTEND;TZID=America/New_York:20240224T210000
DTSTAMP:20260421T064311
CREATED:20240208T180217Z
LAST-MODIFIED:20240208T180217Z
UID:8993-1708786800-1708808400@harpethhotel.com
SUMMARY:Girl Scouts of Middle Tennessee
DESCRIPTION:Please come and support the Girl Scouts of Middle Tennessee in the Lobby.
URL:https://harpethhotel.com/happenings/girl-scouts-of-middle-tennessee-3/
LOCATION:The Lobby\, 130 2ND AVE N\, Franklin\, TN\, 37064\, United States
CATEGORIES:Eat & Drink
ATTACH;FMTTYPE=image/png:https://harpethhotel.com/wp-content/uploads/cropped-GS_MiddleTennessee_Servicemark_RGB_BlackGreen-e1617742188454-1.png
END:VEVENT
BEGIN:VEVENT
DTSTART;TZID=America/New_York:20240224T190000
DTEND;TZID=America/New_York:20240224T220000
DTSTAMP:20260421T064311
CREATED:20240130T221249Z
LAST-MODIFIED:20240130T221249Z
UID:8970-1708801200-1708812000@harpethhotel.com
SUMMARY:Live in the Lounge feat. Rick Armentrout
DESCRIPTION:Live music in 1799 Lounge\, featuring Rick Armentrout- Guitar & Vocals.
URL:https://harpethhotel.com/happenings/live-in-the-lounge-feat-rick-armentrout-7/
LOCATION:1799 Bar\, 130 2nd Ave N\, Franklin\, TN\, 37064
CATEGORIES:Eat & Drink,Music
ATTACH;FMTTYPE=image/png:https://harpethhotel.com/wp-content/uploads/Guitar-Music-11.png
END:VEVENT
BEGIN:VEVENT
DTSTART;TZID=America/New_York:20240225T160000
DTEND;TZID=America/New_York:20240225T190000
DTSTAMP:20260421T064311
CREATED:20240130T221337Z
LAST-MODIFIED:20240130T221337Z
UID:8972-1708876800-1708887600@harpethhotel.com
SUMMARY:Live in The Lounge feat. Jim Hayden
DESCRIPTION:Live Music in 1799 Lounge\, featuring Jim Hayden- Keyboard & Vocals.
URL:https://harpethhotel.com/happenings/live-in-the-lounge-feat-jim-hayden-54/
LOCATION:1799 Bar\, 130 2nd Ave N\, Franklin\, TN\, 37064
CATEGORIES:Eat & Drink,Music
END:VEVENT
END:VCALENDAR