BEGIN:VCALENDAR
VERSION:2.0
PRODID:-//The Harpeth Hotel - ECPv6.15.20//NONSGML v1.0//EN
CALSCALE:GREGORIAN
METHOD:PUBLISH
X-WR-CALNAME:The Harpeth Hotel
X-ORIGINAL-URL:https://harpethhotel.com
X-WR-CALDESC:Events for The Harpeth Hotel
REFRESH-INTERVAL;VALUE=DURATION:PT1H
X-Robots-Tag:noindex
X-PUBLISHED-TTL:PT1H
BEGIN:VTIMEZONE
TZID:America/New_York
BEGIN:DAYLIGHT
TZOFFSETFROM:-0500
TZOFFSETTO:-0400
TZNAME:EDT
DTSTART:20230312T070000
END:DAYLIGHT
BEGIN:STANDARD
TZOFFSETFROM:-0400
TZOFFSETTO:-0500
TZNAME:EST
DTSTART:20231105T060000
END:STANDARD
BEGIN:DAYLIGHT
TZOFFSETFROM:-0500
TZOFFSETTO:-0400
TZNAME:EDT
DTSTART:20240310T070000
END:DAYLIGHT
BEGIN:STANDARD
TZOFFSETFROM:-0400
TZOFFSETTO:-0500
TZNAME:EST
DTSTART:20241103T060000
END:STANDARD
BEGIN:DAYLIGHT
TZOFFSETFROM:-0500
TZOFFSETTO:-0400
TZNAME:EDT
DTSTART:20250309T070000
END:DAYLIGHT
BEGIN:STANDARD
TZOFFSETFROM:-0400
TZOFFSETTO:-0500
TZNAME:EST
DTSTART:20251102T060000
END:STANDARD
END:VTIMEZONE
BEGIN:VEVENT
DTSTART;TZID=America/New_York:20240301T190000
DTEND;TZID=America/New_York:20240301T220000
DTSTAMP:20260421T051534
CREATED:20240226T204927Z
LAST-MODIFIED:20240226T204927Z
UID:9037-1709319600-1709330400@harpethhotel.com
SUMMARY:Live in The Lounge feat. Kayla Wass
DESCRIPTION:Live Music in 1799 Lounge featuring Kayla Wass- Guitar & Vocals
URL:https://harpethhotel.com/happenings/live-in-the-lounge-feat-kayla-wass-16/
LOCATION:1799 Bar\, 130 2nd Ave N\, Franklin\, TN\, 37064
CATEGORIES:Eat & Drink,Music
ATTACH;FMTTYPE=image/png:https://harpethhotel.com/wp-content/uploads/Kayla-Wass.png
END:VEVENT
BEGIN:VEVENT
DTSTART;TZID=America/New_York:20240302T190000
DTEND;TZID=America/New_York:20240302T220000
DTSTAMP:20260421T051534
CREATED:20240227T204011Z
LAST-MODIFIED:20240227T204011Z
UID:9039-1709406000-1709416800@harpethhotel.com
SUMMARY:Live in the Lounge feat. Drew Whitehead
DESCRIPTION:Live Music in 1799 Lounge\, featuring Drew Whitehead – Guitar & Vocals.
URL:https://harpethhotel.com/happenings/live-in-the-lounge-feat-drew-whitehead-5/
LOCATION:1799 Bar\, 130 2nd Ave N\, Franklin\, TN\, 37064
CATEGORIES:Eat & Drink,Music
ATTACH;FMTTYPE=image/png:https://harpethhotel.com/wp-content/uploads/Guitar-Music-16.png
END:VEVENT
BEGIN:VEVENT
DTSTART;TZID=America/New_York:20240303T160000
DTEND;TZID=America/New_York:20240303T190000
DTSTAMP:20260421T051534
CREATED:20240213T200335Z
LAST-MODIFIED:20240213T200335Z
UID:9008-1709481600-1709492400@harpethhotel.com
SUMMARY:Live in The Lounge feat. Jim Hayden
DESCRIPTION:Live Music in 1799 Lounge\, featuring Jim Hayden- Keyboard & Vocals.
URL:https://harpethhotel.com/happenings/live-in-the-lounge-feat-jim-hayden-55/
LOCATION:1799 Bar\, 130 2nd Ave N\, Franklin\, TN\, 37064
CATEGORIES:Eat & Drink,Music
END:VEVENT
BEGIN:VEVENT
DTSTART;TZID=America/New_York:20240308T190000
DTEND;TZID=America/New_York:20240308T220000
DTSTAMP:20260421T051534
CREATED:20240227T204139Z
LAST-MODIFIED:20240227T204139Z
UID:9041-1709924400-1709935200@harpethhotel.com
SUMMARY:Live in The Lounge feat. Doug Allen
DESCRIPTION:Live Music in 1799 Lounge featuring Doug Allen- Guitar & Vocals.
URL:https://harpethhotel.com/happenings/live-in-the-lounge-feat-doug-allen-14/
LOCATION:1799 Bar\, 130 2nd Ave N\, Franklin\, TN\, 37064
CATEGORIES:Eat & Drink,Music
ATTACH;FMTTYPE=image/png:https://harpethhotel.com/wp-content/uploads/Doug-Allen.png
END:VEVENT
BEGIN:VEVENT
DTSTART;TZID=America/New_York:20240309T190000
DTEND;TZID=America/New_York:20240309T220000
DTSTAMP:20260421T051534
CREATED:20240227T204254Z
LAST-MODIFIED:20240227T204254Z
UID:9043-1710010800-1710021600@harpethhotel.com
SUMMARY:Live in The Lounge feat. Brain Ashley Jones
DESCRIPTION:Live Music in 1799 Lounge featuring Brian Ashley Jones- Guitar & Vocals
URL:https://harpethhotel.com/happenings/live-in-the-lounge-feat-brain-ashley-jones-4/
LOCATION:1799 Bar\, 130 2nd Ave N\, Franklin\, TN\, 37064
CATEGORIES:Eat & Drink,Music
ATTACH;FMTTYPE=image/png:https://harpethhotel.com/wp-content/uploads/Guitar-Music-26.png
END:VEVENT
BEGIN:VEVENT
DTSTART;TZID=America/New_York:20240310T160000
DTEND;TZID=America/New_York:20240310T190000
DTSTAMP:20260421T051534
CREATED:20240227T204406Z
LAST-MODIFIED:20240227T204513Z
UID:9045-1710086400-1710097200@harpethhotel.com
SUMMARY:Live in The Lounge feat. Jim Hayden
DESCRIPTION:Live Music in 1799 Lounge\, featuring Jim Hayden- Keyboard & Vocals.
URL:https://harpethhotel.com/happenings/live-in-the-lounge-feat-jim-hayden-56/
LOCATION:1799 Bar\, 130 2nd Ave N\, Franklin\, TN\, 37064
CATEGORIES:Eat & Drink,Music
END:VEVENT
BEGIN:VEVENT
DTSTART;TZID=America/New_York:20240315T190000
DTEND;TZID=America/New_York:20240315T220000
DTSTAMP:20260421T051534
CREATED:20240227T204657Z
LAST-MODIFIED:20240227T204657Z
UID:9048-1710529200-1710540000@harpethhotel.com
SUMMARY:Live in The Lounge feat. Tristian Mclntosh
DESCRIPTION:Live Music in 1799 Lounge\, featuring Tristian Mclntosh- Keyboard & Vocals.
URL:https://harpethhotel.com/happenings/live-in-the-lounge-feat-tristian-mclntosh-3/
LOCATION:1799 Bar\, 130 2nd Ave N\, Franklin\, TN\, 37064
CATEGORIES:Eat & Drink,Music
ATTACH;FMTTYPE=image/png:https://harpethhotel.com/wp-content/uploads/Keyboard-Music-1-5.png
END:VEVENT
BEGIN:VEVENT
DTSTART;TZID=America/New_York:20240316T120000
DTEND;TZID=America/New_York:20240316T150000
DTSTAMP:20260421T051534
CREATED:20240214T193624Z
LAST-MODIFIED:20240306T145748Z
UID:9011-1710590400-1710601200@harpethhotel.com
SUMMARY:St. Paddy's Day feat. The Revenue Man
DESCRIPTION:Live Music in 1799 Lounge\, featuring The Revenue Man – Guitar & Vocals.
URL:https://harpethhotel.com/happenings/live-in-the-lounge-feat-the-revenue-man-2/
LOCATION:1799 Bar\, 130 2nd Ave N\, Franklin\, TN\, 37064
CATEGORIES:Eat & Drink,Music
ATTACH;FMTTYPE=image/png:https://harpethhotel.com/wp-content/uploads/2024-St.-Paddys-Day-3.png
END:VEVENT
BEGIN:VEVENT
DTSTART;TZID=America/New_York:20240316T120000
DTEND;TZID=America/New_York:20240316T230000
DTSTAMP:20260421T051534
CREATED:20240306T145225Z
LAST-MODIFIED:20240306T150348Z
UID:9067-1710590400-1710630000@harpethhotel.com
SUMMARY:Franklin's St. Patrick's Day Celebration
DESCRIPTION:Join the Harpeth Hotel and the team at 1799 to Celebrate St. Patrick’s Day. There will be live music all day with artists playing Irish songs\, traditional covers\, and U2 Covers. Chef will be featuring Irish inspired specials. 1799 will be featuring select Irish Whiskies from it’s whiskey keep along with Guinness.\nMusicians:\n12pm-3pm – The Revenue Man\n4pm-7pm – Aimee Jane\n8pm-11pm – Les Kerr Band \nThis is a family friendly event.
URL:https://harpethhotel.com/happenings/franklins-st-patricks-day-celebration/
LOCATION:1799 Bar\, 130 2nd Ave N\, Franklin\, TN\, 37064
CATEGORIES:Eat & Drink,Holidays,Music
ATTACH;FMTTYPE=image/png:https://harpethhotel.com/wp-content/uploads/SPD-2.png
END:VEVENT
BEGIN:VEVENT
DTSTART;TZID=America/New_York:20240316T160000
DTEND;TZID=America/New_York:20240316T190000
DTSTAMP:20260421T051534
CREATED:20240214T193937Z
LAST-MODIFIED:20240306T145715Z
UID:9015-1710604800-1710615600@harpethhotel.com
SUMMARY:St. Paddy's Day feat. Aimee Jane
DESCRIPTION:Live Music in 1799 Lounge\, featuring Aimee Jane- Guitar & Vocals.
URL:https://harpethhotel.com/happenings/live-in-the-lounge-feat-aimee-jane-4/
LOCATION:1799 Bar\, 130 2nd Ave N\, Franklin\, TN\, 37064
CATEGORIES:Eat & Drink,Music
ATTACH;FMTTYPE=image/png:https://harpethhotel.com/wp-content/uploads/2024-St.-Paddys-Day-2.png
END:VEVENT
BEGIN:VEVENT
DTSTART;TZID=America/New_York:20240316T200000
DTEND;TZID=America/New_York:20240316T230000
DTSTAMP:20260421T051534
CREATED:20240214T195249Z
LAST-MODIFIED:20240306T145637Z
UID:9018-1710619200-1710630000@harpethhotel.com
SUMMARY:St. Paddy's Day feat. Les Kerr Band
DESCRIPTION:Live Music in 1799 Lounge\, featuring Les Kerr- Guitar & Vocals.
URL:https://harpethhotel.com/happenings/live-in-the-lounge-feat-les-kerr-9/
LOCATION:1799 Bar\, 130 2nd Ave N\, Franklin\, TN\, 37064
CATEGORIES:Eat & Drink,Music
ATTACH;FMTTYPE=image/png:https://harpethhotel.com/wp-content/uploads/2024-St.-Paddys-Day-1.png
END:VEVENT
BEGIN:VEVENT
DTSTART;TZID=America/New_York:20240317T160000
DTEND;TZID=America/New_York:20240317T190000
DTSTAMP:20260421T051534
CREATED:20240227T204912Z
LAST-MODIFIED:20240227T204912Z
UID:9050-1710691200-1710702000@harpethhotel.com
SUMMARY:Live in The Lounge feat. Jim Hayden
DESCRIPTION:Live Music in 1799 Lounge\, featuring Jim Hayden- Keyboard & Vocals.
URL:https://harpethhotel.com/happenings/live-in-the-lounge-feat-jim-hayden-57/
LOCATION:1799 Bar\, 130 2nd Ave N\, Franklin\, TN\, 37064
CATEGORIES:Eat & Drink,Music
END:VEVENT
BEGIN:VEVENT
DTSTART;TZID=America/New_York:20240321T193000
DTEND;TZID=America/New_York:20240321T220000
DTSTAMP:20260421T051534
CREATED:20240318T215350Z
LAST-MODIFIED:20240318T215350Z
UID:9095-1711049400-1711058400@harpethhotel.com
SUMMARY:Songwriters At The Harpeth
DESCRIPTION:Please join us for Songwriters At The Harpeth hosted by Hall of Fame Songwriter Roger Murrah. For tickets scan the QR code.
URL:https://harpethhotel.com/happenings/songwriters-at-the-harpeth-2/
LOCATION:Riverside Ballroom\, 130 2nd Ave N\, Franklin\, TN\, 37064
CATEGORIES:Activities,Music
ATTACH;FMTTYPE=image/png:https://harpethhotel.com/wp-content/uploads/Screenshot-2024-01-02-093022.png
END:VEVENT
BEGIN:VEVENT
DTSTART;TZID=America/New_York:20240322T190000
DTEND;TZID=America/New_York:20240322T220000
DTSTAMP:20260421T051534
CREATED:20240227T205042Z
LAST-MODIFIED:20240227T205042Z
UID:9052-1711134000-1711144800@harpethhotel.com
SUMMARY:Live in the Lounge feat. Amanda McCarthy
DESCRIPTION:Live music in 1799 Lounge\, featuring Amanda McCarthy- Guitar & Vocals.
URL:https://harpethhotel.com/happenings/live-in-the-lounge-feat-amanda-mccarthy-4/
LOCATION:1799 Bar\, 130 2nd Ave N\, Franklin\, TN\, 37064
CATEGORIES:Eat & Drink,Music
ATTACH;FMTTYPE=image/png:https://harpethhotel.com/wp-content/uploads/Guitar-Music-24.png
END:VEVENT
BEGIN:VEVENT
DTSTART;TZID=America/New_York:20240323T190000
DTEND;TZID=America/New_York:20240323T220000
DTSTAMP:20260421T051534
CREATED:20240227T205437Z
LAST-MODIFIED:20240227T205437Z
UID:9054-1711220400-1711231200@harpethhotel.com
SUMMARY:Live in The Lounge feat. Amelia Eisenhauer
DESCRIPTION:Live Music in 1799 Lounge featuring Amelia Eisenhauer- Guitar & Vocals
URL:https://harpethhotel.com/happenings/live-in-the-lounge-feat-amelia-eisenhauer-7/
LOCATION:1799 Bar\, 130 2nd Ave N\, Franklin\, TN\, 37064
CATEGORIES:Eat & Drink,Music
ATTACH;FMTTYPE=image/png:https://harpethhotel.com/wp-content/uploads/Amelia-Eisenhauer.png
END:VEVENT
BEGIN:VEVENT
DTSTART;TZID=America/New_York:20240324T160000
DTEND;TZID=America/New_York:20240324T190000
DTSTAMP:20260421T051534
CREATED:20240227T205558Z
LAST-MODIFIED:20240227T205558Z
UID:9056-1711296000-1711306800@harpethhotel.com
SUMMARY:Live in The Lounge feat. Jim Hayden
DESCRIPTION:Live Music in 1799 Lounge\, featuring Jim Hayden- Keyboard & Vocals.
URL:https://harpethhotel.com/happenings/live-in-the-lounge-feat-jim-hayden-58/
LOCATION:1799 Bar\, 130 2nd Ave N\, Franklin\, TN\, 37064
CATEGORIES:Eat & Drink,Music
END:VEVENT
BEGIN:VEVENT
DTSTART;TZID=America/New_York:20240329T190000
DTEND;TZID=America/New_York:20240329T220000
DTSTAMP:20260421T051534
CREATED:20240227T211309Z
LAST-MODIFIED:20240227T211309Z
UID:9058-1711738800-1711749600@harpethhotel.com
SUMMARY:Live in The Lounge feat. Troy Douherty
DESCRIPTION:Live Music in 1799 Lounge featuring Troy Douherty- Guitar & Vocals
URL:https://harpethhotel.com/happenings/live-in-the-lounge-feat-troy-douherty-3/
LOCATION:1799 Bar\, 130 2nd Ave N\, Franklin\, TN\, 37064
CATEGORIES:Eat & Drink,Music
ATTACH;FMTTYPE=image/png:https://harpethhotel.com/wp-content/uploads/Troy-Doherty.png
END:VEVENT
BEGIN:VEVENT
DTSTART;TZID=America/New_York:20240330T190000
DTEND;TZID=America/New_York:20240330T220000
DTSTAMP:20260421T051534
CREATED:20240227T211511Z
LAST-MODIFIED:20240227T211511Z
UID:9060-1711825200-1711836000@harpethhotel.com
SUMMARY:Live In The Lounge feat. Aaron Bucks
DESCRIPTION:Live Music in 1799 Lounge\, featuring Aaron Bucks – Guitar & Vocals
URL:https://harpethhotel.com/happenings/live-in-the-lounge-feat-aaron-bucks-18/
LOCATION:1799 Bar\, 130 2nd Ave N\, Franklin\, TN\, 37064
CATEGORIES:Eat & Drink,Music
ATTACH;FMTTYPE=image/png:https://harpethhotel.com/wp-content/uploads/Guitar-Music-copy.png
END:VEVENT
BEGIN:VEVENT
DTSTART;TZID=America/New_York:20240331T070000
DTEND;TZID=America/New_York:20240331T160000
DTSTAMP:20260421T051534
CREATED:20240321T182134Z
LAST-MODIFIED:20240321T182134Z
UID:9131-1711868400-1711900800@harpethhotel.com
SUMMARY:The Great Harpeth Easter Egg Hunt
DESCRIPTION:Please join us at 7am Easter Morning for the Great Harpeth Easter Egg Hunt. The hunt will cover Main Street between 1st & 5th Ave. and up to 1 block off the Main Street (1st\, 2nd\, 3rd\, 4th\, & 5th.) Once you’ve located a golden egg\, post on Instagram\, tag @harpethhotel\, and tell us where the egg was found. The Eggs and prize certificates must be redeemed at The Harpeth Hotel by Saturday\, April 6\, 2024.
URL:https://harpethhotel.com/happenings/the-great-harpeth-easter-egg-hunt/
LOCATION:Downtown Franklin Square\, Main Street\, Franklin\, TN\, 37064\, United States
CATEGORIES:Activities,Holidays
ATTACH;FMTTYPE=image/png:https://harpethhotel.com/wp-content/uploads/Easter-Egg-Hunt-2.png
END:VEVENT
BEGIN:VEVENT
DTSTART;TZID=America/New_York:20240331T160000
DTEND;TZID=America/New_York:20240331T190000
DTSTAMP:20260421T051534
CREATED:20240227T211609Z
LAST-MODIFIED:20240227T211609Z
UID:9062-1711900800-1711911600@harpethhotel.com
SUMMARY:Live in The Lounge feat. Jim Hayden
DESCRIPTION:Live Music in 1799 Lounge\, featuring Jim Hayden- Keyboard & Vocals.
URL:https://harpethhotel.com/happenings/live-in-the-lounge-feat-jim-hayden-59/
LOCATION:1799 Bar\, 130 2nd Ave N\, Franklin\, TN\, 37064
CATEGORIES:Eat & Drink,Music
END:VEVENT
END:VCALENDAR