BEGIN:VCALENDAR
VERSION:2.0
PRODID:-//The Harpeth Hotel - ECPv6.15.20//NONSGML v1.0//EN
CALSCALE:GREGORIAN
METHOD:PUBLISH
X-ORIGINAL-URL:https://harpethhotel.com
X-WR-CALDESC:Events for The Harpeth Hotel
REFRESH-INTERVAL;VALUE=DURATION:PT1H
X-Robots-Tag:noindex
X-PUBLISHED-TTL:PT1H
BEGIN:VTIMEZONE
TZID:America/New_York
BEGIN:DAYLIGHT
TZOFFSETFROM:-0500
TZOFFSETTO:-0400
TZNAME:EDT
DTSTART:20230312T070000
END:DAYLIGHT
BEGIN:STANDARD
TZOFFSETFROM:-0400
TZOFFSETTO:-0500
TZNAME:EST
DTSTART:20231105T060000
END:STANDARD
BEGIN:DAYLIGHT
TZOFFSETFROM:-0500
TZOFFSETTO:-0400
TZNAME:EDT
DTSTART:20240310T070000
END:DAYLIGHT
BEGIN:STANDARD
TZOFFSETFROM:-0400
TZOFFSETTO:-0500
TZNAME:EST
DTSTART:20241103T060000
END:STANDARD
BEGIN:DAYLIGHT
TZOFFSETFROM:-0500
TZOFFSETTO:-0400
TZNAME:EDT
DTSTART:20250309T070000
END:DAYLIGHT
BEGIN:STANDARD
TZOFFSETFROM:-0400
TZOFFSETTO:-0500
TZNAME:EST
DTSTART:20251102T060000
END:STANDARD
END:VTIMEZONE
BEGIN:VEVENT
DTSTART;TZID=America/New_York:20241101T190000
DTEND;TZID=America/New_York:20241101T220000
DTSTAMP:20260420T173426
CREATED:20241101T143808Z
LAST-MODIFIED:20241101T143808Z
UID:9801-1730487600-1730498400@harpethhotel.com
SUMMARY:Live in The Lounge feat. Chelsea Rhodes
DESCRIPTION:Live Music in 1799 Lounge\, featuring Chelsea Rhodes- Guitar & Vocals.
URL:https://harpethhotel.com/happenings/live-in-the-lounge-feat-chelsea-rhodes-9/
LOCATION:1799 Bar\, 130 2nd Ave N\, Franklin\, TN\, 37064
CATEGORIES:Eat & Drink,Music
ATTACH;FMTTYPE=image/png:https://harpethhotel.com/wp-content/uploads/Chelsea-Rhodes.png
END:VEVENT
BEGIN:VEVENT
DTSTART;TZID=America/New_York:20241102T190000
DTEND;TZID=America/New_York:20241102T220000
DTSTAMP:20260420T173426
CREATED:20241101T144032Z
LAST-MODIFIED:20241101T144032Z
UID:9803-1730574000-1730584800@harpethhotel.com
SUMMARY:Live in The Lounge feat. Brain Ashley Jones
DESCRIPTION:Live Music in 1799 Lounge featuring Brian Ashley Jones- Guitar & Vocals
URL:https://harpethhotel.com/happenings/live-in-the-lounge-feat-brain-ashley-jones-6/
LOCATION:1799 Bar\, 130 2nd Ave N\, Franklin\, TN\, 37064
CATEGORIES:Eat & Drink,Music
ATTACH;FMTTYPE=image/png:https://harpethhotel.com/wp-content/uploads/Guitar-Music-26.png
END:VEVENT
BEGIN:VEVENT
DTSTART;TZID=America/New_York:20241103T160000
DTEND;TZID=America/New_York:20241103T190000
DTSTAMP:20260420T173426
CREATED:20241101T144135Z
LAST-MODIFIED:20241101T144233Z
UID:9805-1730649600-1730660400@harpethhotel.com
SUMMARY:Live in The Lounge feat. Jim Hayden
DESCRIPTION:Live Music in 1799 Lounge\, featuring Jim Hayden- Keyboard & Vocals.
URL:https://harpethhotel.com/happenings/live-in-the-lounge-feat-jim-hayden-89/
LOCATION:1799 Bar\, 130 2nd Ave N\, Franklin\, TN\, 37064
CATEGORIES:Eat & Drink,Music
END:VEVENT
BEGIN:VEVENT
DTSTART;TZID=America/New_York:20241106T180000
DTEND;TZID=America/New_York:20241106T210000
DTSTAMP:20260420T173426
CREATED:20241101T152706Z
LAST-MODIFIED:20241101T152706Z
UID:9835-1730916000-1730926800@harpethhotel.com
SUMMARY:Whiskey Wednesday feat. Troy Doherty
DESCRIPTION:Live Music in 1799 Lounge.
URL:https://harpethhotel.com/happenings/whiskey-wednesday-feat-troy-doherty/
LOCATION:1799 Bar\, 130 2nd Ave N\, Franklin\, TN\, 37064
CATEGORIES:Eat & Drink,Music
ATTACH;FMTTYPE=image/png:https://harpethhotel.com/wp-content/uploads/Whiskey-Wednesday.png
END:VEVENT
BEGIN:VEVENT
DTSTART;TZID=America/New_York:20241108T190000
DTEND;TZID=America/New_York:20241108T220000
DTSTAMP:20260420T173426
CREATED:20241101T144955Z
LAST-MODIFIED:20241101T144955Z
UID:9809-1731092400-1731103200@harpethhotel.com
SUMMARY:Live in The Lounge feat. South Margin
DESCRIPTION:Live Music in 1799 Lounge featuring South Margin- Guitar & Vocals
URL:https://harpethhotel.com/happenings/live-in-the-lounge-feat-south-margin-6/
LOCATION:1799 Bar\, 130 2nd Ave N\, Franklin\, TN\, 37064
CATEGORIES:Eat & Drink,Music
ATTACH;FMTTYPE=image/png:https://harpethhotel.com/wp-content/uploads/Guitar-Music-copy-21.png
END:VEVENT
BEGIN:VEVENT
DTSTART;TZID=America/New_York:20241109T190000
DTEND;TZID=America/New_York:20241109T220000
DTSTAMP:20260420T173426
CREATED:20241101T145034Z
LAST-MODIFIED:20241101T145034Z
UID:9811-1731178800-1731189600@harpethhotel.com
SUMMARY:Live in The Lounge feat. Troy Doherty
DESCRIPTION:Live Music in 1799 Lounge featuring Troy Doherty- Guitar & Vocals
URL:https://harpethhotel.com/happenings/live-in-the-lounge-feat-troy-doherty-24/
LOCATION:1799 Bar\, 130 2nd Ave N\, Franklin\, TN\, 37064
CATEGORIES:Eat & Drink,Music
ATTACH;FMTTYPE=image/png:https://harpethhotel.com/wp-content/uploads/Troy-Doherty.png
END:VEVENT
BEGIN:VEVENT
DTSTART;TZID=America/New_York:20241110T160000
DTEND;TZID=America/New_York:20241110T190000
DTSTAMP:20260420T173426
CREATED:20241101T145354Z
LAST-MODIFIED:20241101T145354Z
UID:9813-1731254400-1731265200@harpethhotel.com
SUMMARY:Live in The Lounge feat. Jim Hayden
DESCRIPTION:Live Music in 1799 Lounge\, featuring Jim Hayden- Keyboard & Vocals.
URL:https://harpethhotel.com/happenings/live-in-the-lounge-feat-jim-hayden-90/
LOCATION:1799 Bar\, 130 2nd Ave N\, Franklin\, TN\, 37064
CATEGORIES:Eat & Drink,Music
END:VEVENT
BEGIN:VEVENT
DTSTART;TZID=America/New_York:20241113T180000
DTEND;TZID=America/New_York:20241113T210000
DTSTAMP:20260420T173426
CREATED:20241101T152738Z
LAST-MODIFIED:20241101T152738Z
UID:9834-1731520800-1731531600@harpethhotel.com
SUMMARY:Whiskey Wednesday feat. Troy Doherty
DESCRIPTION:Live Music in 1799 Lounge.
URL:https://harpethhotel.com/happenings/whiskey-wednesday-feat-troy-doherty-2/
LOCATION:1799 Bar\, 130 2nd Ave N\, Franklin\, TN\, 37064
CATEGORIES:Eat & Drink,Music
ATTACH;FMTTYPE=image/png:https://harpethhotel.com/wp-content/uploads/Whiskey-Wednesday.png
END:VEVENT
BEGIN:VEVENT
DTSTART;TZID=America/New_York:20241115T190000
DTEND;TZID=America/New_York:20241115T220000
DTSTAMP:20260420T173426
CREATED:20241101T145517Z
LAST-MODIFIED:20241101T145517Z
UID:9815-1731697200-1731708000@harpethhotel.com
SUMMARY:Live in The Lounge feat. Allie Lamb
DESCRIPTION:Live Music in 1799 Lounge\, featuring Allie Lamb- Guitar & Vocals.
URL:https://harpethhotel.com/happenings/live-in-the-lounge-feat-allie-lamb-7/
LOCATION:1799 Bar\, 130 2nd Ave N\, Franklin\, TN\, 37064
CATEGORIES:Eat & Drink,Music
ATTACH;FMTTYPE=image/png:https://harpethhotel.com/wp-content/uploads/Guitar-Music-1-30.png
END:VEVENT
BEGIN:VEVENT
DTSTART;TZID=America/New_York:20241116T190000
DTEND;TZID=America/New_York:20241116T220000
DTSTAMP:20260420T173426
CREATED:20241101T151141Z
LAST-MODIFIED:20241101T151141Z
UID:9817-1731783600-1731794400@harpethhotel.com
SUMMARY:Live in the Lounge feat. Pablo Cela
DESCRIPTION:Live Music in 1799 Lounge\, featuring Pablo Cela- Guitar & vocals
URL:https://harpethhotel.com/happenings/live-in-the-lounge-feat-pablo-cela/
LOCATION:1799 Bar\, 130 2nd Ave N\, Franklin\, TN\, 37064
CATEGORIES:Eat & Drink,Music
ATTACH;FMTTYPE=image/png:https://harpethhotel.com/wp-content/uploads/Guitar-Music-31.png
END:VEVENT
BEGIN:VEVENT
DTSTART;TZID=America/New_York:20241117T160000
DTEND;TZID=America/New_York:20241117T190000
DTSTAMP:20260420T173426
CREATED:20241101T151801Z
LAST-MODIFIED:20241101T151801Z
UID:9824-1731859200-1731870000@harpethhotel.com
SUMMARY:Live in The Lounge feat. Jim Hayden
DESCRIPTION:Live Music in 1799 Lounge\, featuring Jim Hayden- Keyboard & Vocals.
URL:https://harpethhotel.com/happenings/live-in-the-lounge-feat-jim-hayden-91/
LOCATION:1799 Bar\, 130 2nd Ave N\, Franklin\, TN\, 37064
CATEGORIES:Eat & Drink,Music
END:VEVENT
BEGIN:VEVENT
DTSTART;TZID=America/New_York:20241120T180000
DTEND;TZID=America/New_York:20241120T210000
DTSTAMP:20260420T173426
CREATED:20241101T152838Z
LAST-MODIFIED:20241101T152838Z
UID:9833-1732125600-1732136400@harpethhotel.com
SUMMARY:Whiskey Wednesday feat. Troy Doherty
DESCRIPTION:Live Music in 1799 Lounge.
URL:https://harpethhotel.com/happenings/whiskey-wednesday-feat-troy-doherty-3/
LOCATION:1799 Bar\, 130 2nd Ave N\, Franklin\, TN\, 37064
CATEGORIES:Eat & Drink,Music
ATTACH;FMTTYPE=image/png:https://harpethhotel.com/wp-content/uploads/Whiskey-Wednesday.png
END:VEVENT
BEGIN:VEVENT
DTSTART;TZID=America/New_York:20241122T190000
DTEND;TZID=America/New_York:20241122T220000
DTSTAMP:20260420T173426
CREATED:20241101T144548Z
LAST-MODIFIED:20241101T144548Z
UID:9807-1732302000-1732312800@harpethhotel.com
SUMMARY:Live in The Lounge feat. Troy Doherty
DESCRIPTION:Live Music in 1799 Lounge featuring Troy Doherty- Guitar & Vocals
URL:https://harpethhotel.com/happenings/live-in-the-lounge-feat-troy-doherty-23/
LOCATION:1799 Bar\, 130 2nd Ave N\, Franklin\, TN\, 37064
CATEGORIES:Eat & Drink,Music
ATTACH;FMTTYPE=image/png:https://harpethhotel.com/wp-content/uploads/Troy-Doherty.png
END:VEVENT
BEGIN:VEVENT
DTSTART;TZID=America/New_York:20241123T190000
DTEND;TZID=America/New_York:20241123T220000
DTSTAMP:20260420T173426
CREATED:20241101T151404Z
LAST-MODIFIED:20241101T151404Z
UID:9822-1732388400-1732399200@harpethhotel.com
SUMMARY:Live in The Lounge feat. Isaac Ferguson Dillard
DESCRIPTION:Live Music in 1799 Lounge featuring Isaac Ferguson Dillard – Vocals
URL:https://harpethhotel.com/happenings/live-in-the-lounge-feat-isaac-ferguson-dillard-13/
LOCATION:1799 Bar\, 130 2nd Ave N\, Franklin\, TN\, 37064
CATEGORIES:Eat & Drink,Music
ATTACH;FMTTYPE=image/png:https://harpethhotel.com/wp-content/uploads/Guitar-Music-29.png
END:VEVENT
BEGIN:VEVENT
DTSTART;TZID=America/New_York:20241124T160000
DTEND;TZID=America/New_York:20241124T190000
DTSTAMP:20260420T173426
CREATED:20241101T151915Z
LAST-MODIFIED:20241101T151915Z
UID:9826-1732464000-1732474800@harpethhotel.com
SUMMARY:Live in The Lounge feat. Jim Hayden
DESCRIPTION:Live Music in 1799 Lounge\, featuring Jim Hayden- Keyboard & Vocals.
URL:https://harpethhotel.com/happenings/live-in-the-lounge-feat-jim-hayden-92/
LOCATION:1799 Bar\, 130 2nd Ave N\, Franklin\, TN\, 37064
CATEGORIES:Eat & Drink,Music
END:VEVENT
BEGIN:VEVENT
DTSTART;TZID=America/New_York:20241127T170000
DTEND;TZID=America/New_York:20241127T230000
DTSTAMP:20260420T173426
CREATED:20241119T230820Z
LAST-MODIFIED:20241119T230820Z
UID:9875-1732726800-1732748400@harpethhotel.com
SUMMARY:Christmas Pop-Up Bar
DESCRIPTION:World’s Best Cup of Coffee is Franklin Tennessee’s first and only Holiday Pop-Up Bar. \nCelebrate your favorite Tennessee Musicians and Christmas memories with one-of-a-kind cocktails in a fully immersive Christmas experience. \nThink you’ve seen everything? Look again\, see if you can find your favorite Artists in the decorations. \nSeating is first come\, first serve basis. \n21+ after 9pm.
URL:https://harpethhotel.com/happenings/christmas-pop-up-bar-36/
LOCATION:McGavock’s\, 130 2nd Ave N\, Franklin\, TN\, 37064
CATEGORIES:Eat & Drink,Holidays
ATTACH;FMTTYPE=image/png:https://harpethhotel.com/wp-content/uploads/WBCC-6.png
END:VEVENT
BEGIN:VEVENT
DTSTART;TZID=America/New_York:20241127T180000
DTEND;TZID=America/New_York:20241127T210000
DTSTAMP:20260420T173426
CREATED:20241101T152914Z
LAST-MODIFIED:20241101T152914Z
UID:9832-1732730400-1732741200@harpethhotel.com
SUMMARY:Whiskey Wednesday feat. Troy Doherty
DESCRIPTION:Live Music in 1799 Lounge.
URL:https://harpethhotel.com/happenings/whiskey-wednesday-feat-troy-doherty-4/
LOCATION:1799 Bar\, 130 2nd Ave N\, Franklin\, TN\, 37064
CATEGORIES:Eat & Drink,Music
ATTACH;FMTTYPE=image/png:https://harpethhotel.com/wp-content/uploads/Whiskey-Wednesday.png
END:VEVENT
BEGIN:VEVENT
DTSTART;TZID=America/New_York:20241128T100000
DTEND;TZID=America/New_York:20241128T140000
DTSTAMP:20260420T173426
CREATED:20241126T165534Z
LAST-MODIFIED:20241126T165534Z
UID:9962-1732788000-1732802400@harpethhotel.com
SUMMARY:Thanksgiving in 1799 Kitchen & Cocktails
DESCRIPTION:THANKSGIVING SPECIAL- Turkey Breast\, Braised Leg\, Whipped Potatoes\, Cornbread Stuffing\, Roasted Brussels Sprouts & Apples\, Turkey Gravy \nPRIME RIB- 14oz Slow Roasted Prime Rib\, Whipped Potatoes\, Brussels Sprouts\, Apples\, Cornbread Stuffing\, Au Jus\, Creamy Horseradish Sauce \nPUMPKIN CHEESECAKE- Chantilly Cream\, Toasted Walnuts\, Pumpkin Spice
URL:https://harpethhotel.com/happenings/thanksgiving-in-1799-kitchen-cocktails-2/
LOCATION:1799 Kitchen & Cocktails\, 130 2nd Ave N\, Franklin\, TN\, 37064
CATEGORIES:Eat & Drink,Holidays
ATTACH;FMTTYPE=image/png:https://harpethhotel.com/wp-content/uploads/Screenshot-2024-11-19-134035.png
END:VEVENT
BEGIN:VEVENT
DTSTART;TZID=America/New_York:20241128T150000
DTEND;TZID=America/New_York:20241128T200000
DTSTAMP:20260420T173426
CREATED:20241119T194856Z
LAST-MODIFIED:20241119T194856Z
UID:9872-1732806000-1732824000@harpethhotel.com
SUMMARY:Thanksgiving in 1799 Kitchen & Cocktails
DESCRIPTION:THANKSGIVING SPECIAL- Turkey Breast\, Braised Leg\, Whipped Potatoes\, Cornbread Stuffing\, Roasted Brussels Sprouts & Apples\, Turkey Gravy \nPRIME RIB- 14oz Slow Roasted Prime Rib\, Whipped Potatoes\, Brussels Sprouts\, Apples\, Cornbread Stuffing\, Au Jus\, Creamy Horseradish Sauce \nPUMPKIN CHEESECAKE- Chantilly Cream\, Toasted Walnuts\, Pumpkin Spice
URL:https://harpethhotel.com/happenings/thanksgiving-in-1799-kitchen-cocktails/
LOCATION:1799 Kitchen & Cocktails\, 130 2nd Ave N\, Franklin\, TN\, 37064
CATEGORIES:Eat & Drink,Holidays
ATTACH;FMTTYPE=image/png:https://harpethhotel.com/wp-content/uploads/Screenshot-2024-11-19-134035.png
END:VEVENT
BEGIN:VEVENT
DTSTART;TZID=America/New_York:20241129T170000
DTEND;TZID=America/New_York:20241130T000000
DTSTAMP:20260420T173426
CREATED:20241119T232818Z
LAST-MODIFIED:20241119T232818Z
UID:9878-1732899600-1732924800@harpethhotel.com
SUMMARY:Christmas Pop-Up Bar
DESCRIPTION:World’s Best Cup of Coffee is Franklin Tennessee’s first and only Holiday Pop-Up Bar. \nCelebrate your favorite Tennessee Musicians and Christmas memories with one-of-a-kind cocktails in a fully immersive Christmas experience. \nThink you’ve seen everything? Look again\, see if you can find your favorite Artists in the decorations. \nSeating is first come\, first serve basis. \n21+ after 9pm.
URL:https://harpethhotel.com/happenings/christmas-pop-up-bar-37/
LOCATION:McGavock’s\, 130 2nd Ave N\, Franklin\, TN\, 37064
CATEGORIES:Eat & Drink,Holidays
ATTACH;FMTTYPE=image/png:https://harpethhotel.com/wp-content/uploads/WBCC-6.png
END:VEVENT
BEGIN:VEVENT
DTSTART;TZID=America/New_York:20241129T190000
DTEND;TZID=America/New_York:20241129T220000
DTSTAMP:20260420T173426
CREATED:20241101T152131Z
LAST-MODIFIED:20241101T152131Z
UID:9828-1732906800-1732917600@harpethhotel.com
SUMMARY:Live in the Lounge feat. Amanda McCarthy
DESCRIPTION:Live music in 1799 Lounge\, featuring Amanda McCarthy- Guitar & Vocals.
URL:https://harpethhotel.com/happenings/live-in-the-lounge-feat-amanda-mccarthy-8/
LOCATION:1799 Bar\, 130 2nd Ave N\, Franklin\, TN\, 37064
CATEGORIES:Eat & Drink,Music
ATTACH;FMTTYPE=image/png:https://harpethhotel.com/wp-content/uploads/Guitar-Music-24.png
END:VEVENT
BEGIN:VEVENT
DTSTART;TZID=America/New_York:20241130T100000
DTEND;TZID=America/New_York:20241130T140000
DTSTAMP:20260420T173426
CREATED:20241108T190925Z
LAST-MODIFIED:20241108T190925Z
UID:9841-1732960800-1732975200@harpethhotel.com
SUMMARY:Santa Brunch
DESCRIPTION:Enjoy an exclusive North Pole inspired brunch menu while Santa makes his way around the restaurant and making sure he has all of the last-minute requests for those on the nice list. \nFeeling Naughty? The Elves At 1799 have crafted some spirited drinks for those who didn’t make the list. \nDon’t forget your camera to capture the moment! \nBrunch opens at 10:00am\, Santa arrives at 11:00am.
URL:https://harpethhotel.com/happenings/santa-brunch-14/
LOCATION:1799 Kitchen & Cocktails\, 130 2nd Ave N\, Franklin\, TN\, 37064
CATEGORIES:Eat & Drink,Holidays
ATTACH;FMTTYPE=image/jpeg:https://harpethhotel.com/wp-content/uploads/SantaBrunchV2-2024.jpg
END:VEVENT
BEGIN:VEVENT
DTSTART;TZID=America/New_York:20241130T170000
DTEND;TZID=America/New_York:20241201T000000
DTSTAMP:20260420T173426
CREATED:20241119T232925Z
LAST-MODIFIED:20241119T232925Z
UID:9880-1732986000-1733011200@harpethhotel.com
SUMMARY:Christmas Pop-Up Bar
DESCRIPTION:World’s Best Cup of Coffee is Franklin Tennessee’s first and only Holiday Pop-Up Bar. \nCelebrate your favorite Tennessee Musicians and Christmas memories with one-of-a-kind cocktails in a fully immersive Christmas experience. \nThink you’ve seen everything? Look again\, see if you can find your favorite Artists in the decorations. \nSeating is first come\, first serve basis. \n21+ after 9pm.
URL:https://harpethhotel.com/happenings/christmas-pop-up-bar-38/
LOCATION:McGavock’s\, 130 2nd Ave N\, Franklin\, TN\, 37064
CATEGORIES:Eat & Drink,Holidays
ATTACH;FMTTYPE=image/png:https://harpethhotel.com/wp-content/uploads/WBCC-6.png
END:VEVENT
BEGIN:VEVENT
DTSTART;TZID=America/New_York:20241130T190000
DTEND;TZID=America/New_York:20241130T220000
DTSTAMP:20260420T173426
CREATED:20241101T152325Z
LAST-MODIFIED:20241101T152325Z
UID:9830-1732993200-1733004000@harpethhotel.com
SUMMARY:Live in the Lounge feat. Drew Whitehead
DESCRIPTION:Live Music in 1799 Lounge\, featuring Drew Whitehead – Guitar & Vocals.
URL:https://harpethhotel.com/happenings/live-in-the-lounge-feat-drew-whitehead-10/
LOCATION:1799 Bar\, 130 2nd Ave N\, Franklin\, TN\, 37064
CATEGORIES:Eat & Drink,Music
ATTACH;FMTTYPE=image/png:https://harpethhotel.com/wp-content/uploads/Guitar-Music-16.png
END:VEVENT
END:VCALENDAR