BEGIN:VCALENDAR
VERSION:2.0
PRODID:-//The Harpeth Hotel - ECPv6.15.20//NONSGML v1.0//EN
CALSCALE:GREGORIAN
METHOD:PUBLISH
X-WR-CALNAME:The Harpeth Hotel
X-ORIGINAL-URL:https://harpethhotel.com
X-WR-CALDESC:Events for The Harpeth Hotel
REFRESH-INTERVAL;VALUE=DURATION:PT1H
X-Robots-Tag:noindex
X-PUBLISHED-TTL:PT1H
BEGIN:VTIMEZONE
TZID:America/New_York
BEGIN:DAYLIGHT
TZOFFSETFROM:-0500
TZOFFSETTO:-0400
TZNAME:EDT
DTSTART:20240310T070000
END:DAYLIGHT
BEGIN:STANDARD
TZOFFSETFROM:-0400
TZOFFSETTO:-0500
TZNAME:EST
DTSTART:20241103T060000
END:STANDARD
BEGIN:DAYLIGHT
TZOFFSETFROM:-0500
TZOFFSETTO:-0400
TZNAME:EDT
DTSTART:20250309T070000
END:DAYLIGHT
BEGIN:STANDARD
TZOFFSETFROM:-0400
TZOFFSETTO:-0500
TZNAME:EST
DTSTART:20251102T060000
END:STANDARD
BEGIN:DAYLIGHT
TZOFFSETFROM:-0500
TZOFFSETTO:-0400
TZNAME:EDT
DTSTART:20260308T070000
END:DAYLIGHT
BEGIN:STANDARD
TZOFFSETFROM:-0400
TZOFFSETTO:-0500
TZNAME:EST
DTSTART:20261101T060000
END:STANDARD
END:VTIMEZONE
BEGIN:VEVENT
DTSTART;TZID=America/New_York:20250601T160000
DTEND;TZID=America/New_York:20250601T190000
DTSTAMP:20260420T072746
CREATED:20250530T210203Z
LAST-MODIFIED:20250530T210203Z
UID:10498-1748793600-1748804400@harpethhotel.com
SUMMARY:Live in The Lounge feat. Jim Hayden
DESCRIPTION:Live Music in 1799 Lounge\, featuring Jim Hayden- Keyboard & Vocals.
URL:https://harpethhotel.com/happenings/live-in-the-lounge-feat-jim-hayden-119/
LOCATION:1799 Bar\, 130 2nd Ave N\, Franklin\, TN\, 37064
CATEGORIES:Eat & Drink,Music
END:VEVENT
BEGIN:VEVENT
DTSTART;TZID=America/New_York:20250604T180000
DTEND;TZID=America/New_York:20250604T210000
DTSTAMP:20260420T072746
CREATED:20250602T183310Z
LAST-MODIFIED:20250602T183310Z
UID:10527-1749060000-1749070800@harpethhotel.com
SUMMARY:Whiskey Wednesday feat. Troy Doherty
DESCRIPTION:Live Music in 1799 Lounge.
URL:https://harpethhotel.com/happenings/whiskey-wednesday-feat-troy-doherty-25/
LOCATION:1799 Bar\, 130 2nd Ave N\, Franklin\, TN\, 37064
CATEGORIES:Eat & Drink,Music
ATTACH;FMTTYPE=image/png:https://harpethhotel.com/wp-content/uploads/Whiskey-Wednesday.png
END:VEVENT
BEGIN:VEVENT
DTSTART;TZID=America/New_York:20250606T190000
DTEND;TZID=America/New_York:20250606T220000
DTSTAMP:20260420T072747
CREATED:20250530T210655Z
LAST-MODIFIED:20250530T210655Z
UID:10508-1749236400-1749247200@harpethhotel.com
SUMMARY:Live in the Lounge feat. Chuck Johnson
DESCRIPTION:Live Music in 1799 Lounge\, featuring Chuck Johnson – Guitar & Vocals.
URL:https://harpethhotel.com/happenings/live-in-the-lounge-feat-chuck-johnson-2/
LOCATION:1799 Bar\, 130 2nd Ave N\, Franklin\, TN\, 37064
CATEGORIES:Eat & Drink,Music
ATTACH;FMTTYPE=image/png:https://harpethhotel.com/wp-content/uploads/Guitar-Music-copy-30.png
END:VEVENT
BEGIN:VEVENT
DTSTART;TZID=America/New_York:20250607T190000
DTEND;TZID=America/New_York:20250607T220000
DTSTAMP:20260420T072747
CREATED:20250530T210915Z
LAST-MODIFIED:20250530T210915Z
UID:10510-1749322800-1749333600@harpethhotel.com
SUMMARY:Live in the Lounge feat. Melissa Duval
DESCRIPTION:Live Music in 1799 Lounge featuring Melissa Duval- Guitar & Vocals
URL:https://harpethhotel.com/happenings/live-in-the-lounge-feat-melissa-duval-9/
LOCATION:1799 Bar\, 130 2nd Ave N\, Franklin\, TN\, 37064
CATEGORIES:Eat & Drink,Music
ATTACH;FMTTYPE=image/png:https://harpethhotel.com/wp-content/uploads/Guitar-Music-copy-22.png
END:VEVENT
BEGIN:VEVENT
DTSTART;TZID=America/New_York:20250608T160000
DTEND;TZID=America/New_York:20250608T190000
DTSTAMP:20260420T072747
CREATED:20250530T210235Z
LAST-MODIFIED:20250530T210235Z
UID:10500-1749398400-1749409200@harpethhotel.com
SUMMARY:Live in The Lounge feat. Jim Hayden
DESCRIPTION:Live Music in 1799 Lounge\, featuring Jim Hayden- Keyboard & Vocals.
URL:https://harpethhotel.com/happenings/live-in-the-lounge-feat-jim-hayden-120/
LOCATION:1799 Bar\, 130 2nd Ave N\, Franklin\, TN\, 37064
CATEGORIES:Eat & Drink,Music
END:VEVENT
BEGIN:VEVENT
DTSTART;TZID=America/New_York:20250611T180000
DTEND;TZID=America/New_York:20250611T210000
DTSTAMP:20260420T072747
CREATED:20250602T183450Z
LAST-MODIFIED:20250602T183450Z
UID:10529-1749664800-1749675600@harpethhotel.com
SUMMARY:Whiskey Wednesday feat. Troy Doherty
DESCRIPTION:Live Music in 1799 Lounge.
URL:https://harpethhotel.com/happenings/whiskey-wednesday-feat-troy-doherty-26/
LOCATION:1799 Bar\, 130 2nd Ave N\, Franklin\, TN\, 37064
CATEGORIES:Eat & Drink,Music
ATTACH;FMTTYPE=image/png:https://harpethhotel.com/wp-content/uploads/Whiskey-Wednesday.png
END:VEVENT
BEGIN:VEVENT
DTSTART;TZID=America/New_York:20250613T190000
DTEND;TZID=America/New_York:20250613T220000
DTSTAMP:20260420T072747
CREATED:20250530T211300Z
LAST-MODIFIED:20250530T211412Z
UID:10512-1749841200-1749852000@harpethhotel.com
SUMMARY:Live in the Lounge feat. Rayla Ray
DESCRIPTION:Live Music in 1799 Lounge featuring Rayla Ray- Guitar & Vocals
URL:https://harpethhotel.com/happenings/live-in-the-lounge-feat-rayla-ray/
LOCATION:1799 Bar\, 130 2nd Ave N\, Franklin\, TN\, 37064
CATEGORIES:Eat & Drink,Music
ATTACH;FMTTYPE=image/png:https://harpethhotel.com/wp-content/uploads/Guitar-Music-copy-22.png
END:VEVENT
BEGIN:VEVENT
DTSTART;TZID=America/New_York:20250614T190000
DTEND;TZID=America/New_York:20250614T220000
DTSTAMP:20260420T072747
CREATED:20250530T211529Z
LAST-MODIFIED:20250530T211529Z
UID:10514-1749927600-1749938400@harpethhotel.com
SUMMARY:Live in the Lounge feat. Nicole Renee
DESCRIPTION:Live Music in 1799 Lounge featuring Nicole Renee- Guitar & Vocals
URL:https://harpethhotel.com/happenings/live-in-the-lounge-feat-nicole-renee/
LOCATION:1799 Bar\, 130 2nd Ave N\, Franklin\, TN\, 37064
CATEGORIES:Eat & Drink,Music
ATTACH;FMTTYPE=image/png:https://harpethhotel.com/wp-content/uploads/Guitar-Music-copy-34.png
END:VEVENT
BEGIN:VEVENT
DTSTART;TZID=America/New_York:20250615T160000
DTEND;TZID=America/New_York:20250615T190000
DTSTAMP:20260420T072747
CREATED:20250530T210328Z
LAST-MODIFIED:20250530T210328Z
UID:10502-1750003200-1750014000@harpethhotel.com
SUMMARY:Live in The Lounge feat. Jim Hayden
DESCRIPTION:Live Music in 1799 Lounge\, featuring Jim Hayden- Keyboard & Vocals.
URL:https://harpethhotel.com/happenings/live-in-the-lounge-feat-jim-hayden-121/
LOCATION:1799 Bar\, 130 2nd Ave N\, Franklin\, TN\, 37064
CATEGORIES:Eat & Drink,Music
END:VEVENT
BEGIN:VEVENT
DTSTART;TZID=America/New_York:20250618T180000
DTEND;TZID=America/New_York:20250618T210000
DTSTAMP:20260420T072747
CREATED:20250602T183552Z
LAST-MODIFIED:20250602T183552Z
UID:10531-1750269600-1750280400@harpethhotel.com
SUMMARY:Whiskey Wednesday feat. Troy Doherty
DESCRIPTION:Live Music in 1799 Lounge.
URL:https://harpethhotel.com/happenings/whiskey-wednesday-feat-troy-doherty-27/
LOCATION:1799 Bar\, 130 2nd Ave N\, Franklin\, TN\, 37064
CATEGORIES:Eat & Drink,Music
ATTACH;FMTTYPE=image/png:https://harpethhotel.com/wp-content/uploads/Whiskey-Wednesday.png
END:VEVENT
BEGIN:VEVENT
DTSTART;TZID=America/New_York:20250620T190000
DTEND;TZID=America/New_York:20250620T220000
DTSTAMP:20260420T072747
CREATED:20250530T211723Z
LAST-MODIFIED:20250530T211723Z
UID:10518-1750446000-1750456800@harpethhotel.com
SUMMARY:Live in the Lounge feat. Amanda McCarthy
DESCRIPTION:Live music in 1799 Lounge\, featuring Amanda McCarthy- Guitar & Vocals.
URL:https://harpethhotel.com/happenings/live-in-the-lounge-feat-amanda-mccarthy-13/
LOCATION:1799 Bar\, 130 2nd Ave N\, Franklin\, TN\, 37064
CATEGORIES:Eat & Drink,Music
ATTACH;FMTTYPE=image/png:https://harpethhotel.com/wp-content/uploads/Guitar-Music-24.png
END:VEVENT
BEGIN:VEVENT
DTSTART;TZID=America/New_York:20250621T190000
DTEND;TZID=America/New_York:20250621T220000
DTSTAMP:20260420T072747
CREATED:20250530T211927Z
LAST-MODIFIED:20250530T211927Z
UID:10520-1750532400-1750543200@harpethhotel.com
SUMMARY:Live in the Lounge feat. Melissa Duval
DESCRIPTION:Live Music in 1799 Lounge featuring Melissa Duval- Guitar & Vocals
URL:https://harpethhotel.com/happenings/live-in-the-lounge-feat-melissa-duval-10/
LOCATION:1799 Bar\, 130 2nd Ave N\, Franklin\, TN\, 37064
CATEGORIES:Eat & Drink,Music
ATTACH;FMTTYPE=image/png:https://harpethhotel.com/wp-content/uploads/Guitar-Music-copy-22.png
END:VEVENT
BEGIN:VEVENT
DTSTART;TZID=America/New_York:20250622T160000
DTEND;TZID=America/New_York:20250622T190000
DTSTAMP:20260420T072747
CREATED:20250530T210409Z
LAST-MODIFIED:20250530T210409Z
UID:10504-1750608000-1750618800@harpethhotel.com
SUMMARY:Live in The Lounge feat. Jim Hayden
DESCRIPTION:Live Music in 1799 Lounge\, featuring Jim Hayden- Keyboard & Vocals.
URL:https://harpethhotel.com/happenings/live-in-the-lounge-feat-jim-hayden-122/
LOCATION:1799 Bar\, 130 2nd Ave N\, Franklin\, TN\, 37064
CATEGORIES:Eat & Drink,Music
END:VEVENT
BEGIN:VEVENT
DTSTART;TZID=America/New_York:20250625T180000
DTEND;TZID=America/New_York:20250625T210000
DTSTAMP:20260420T072747
CREATED:20250602T183709Z
LAST-MODIFIED:20250602T183709Z
UID:10533-1750874400-1750885200@harpethhotel.com
SUMMARY:Whiskey Wednesday feat. Troy Doherty
DESCRIPTION:Live Music in 1799 Lounge.
URL:https://harpethhotel.com/happenings/whiskey-wednesday-feat-troy-doherty-28/
LOCATION:1799 Bar\, 130 2nd Ave N\, Franklin\, TN\, 37064
CATEGORIES:Eat & Drink,Music
ATTACH;FMTTYPE=image/png:https://harpethhotel.com/wp-content/uploads/Whiskey-Wednesday.png
END:VEVENT
BEGIN:VEVENT
DTSTART;TZID=America/New_York:20250627T180000
DTEND;TZID=America/New_York:20250627T210000
DTSTAMP:20260420T072747
CREATED:20250530T212814Z
LAST-MODIFIED:20250530T212814Z
UID:10525-1751047200-1751058000@harpethhotel.com
SUMMARY:Live in The Lounge feat. Steven Gary
DESCRIPTION:Live Music in 1799 Lounge\, featuring Steven Gary- Guitar & Vocals.
URL:https://harpethhotel.com/happenings/live-in-the-lounge-feat-steven-gary-4/
LOCATION:1799 Bar\, 130 2nd Ave N\, Franklin\, TN\, 37064
CATEGORIES:Eat & Drink,Music
ATTACH;FMTTYPE=image/png:https://harpethhotel.com/wp-content/uploads/Guitar-Music-38.png
END:VEVENT
BEGIN:VEVENT
DTSTART;TZID=America/New_York:20250628T190000
DTEND;TZID=America/New_York:20250628T220000
DTSTAMP:20260420T072747
CREATED:20250530T212608Z
LAST-MODIFIED:20250530T212608Z
UID:10523-1751137200-1751148000@harpethhotel.com
SUMMARY:Live in The Lounge feat. Brain Ashley Jones
DESCRIPTION:Live Music in 1799 Lounge featuring Brian Ashley Jones- Guitar & Vocals
URL:https://harpethhotel.com/happenings/live-in-the-lounge-feat-brain-ashley-jones-12/
LOCATION:1799 Bar\, 130 2nd Ave N\, Franklin\, TN\, 37064
CATEGORIES:Eat & Drink,Music
ATTACH;FMTTYPE=image/png:https://harpethhotel.com/wp-content/uploads/Guitar-Music-26.png
END:VEVENT
BEGIN:VEVENT
DTSTART;TZID=America/New_York:20250629T150000
DTEND;TZID=America/New_York:20250629T170000
DTSTAMP:20260420T072747
CREATED:20250603T194358Z
LAST-MODIFIED:20250603T194358Z
UID:10535-1751209200-1751216400@harpethhotel.com
SUMMARY:The Art of BREW'n & BBQ'n - a Drink. Eat. Learn. at The Harpeth Hotel Event
DESCRIPTION:Join Chef Thomas Tuggle from 1799 and Von Wotring from Curio brewing company for The Harpeth’s 2nd annual Brew’n and BBQ’n event! \nChef Thomas will go through everything it means to BBQ. He will talk about different types of smokers\, smoking materials\, and tips of optimal smoking. You will learn about the difference between dry and wet smoking\, types of bines and aging meats. He will also discuss the meats used in 1799 and how to source the best cuts and the drinks that pair best with them. \nVon from Curio Brewing will discuss the different styles of beer\, how beer is made and the process that he follows at his Franklin brewery. \nAs Chef Thomas and Von discuss the different processes\, you will be able to eat some of chef’s amazing BBQ dishes and drink different selections of Curio’s beer. At the end of the event\, you will get to take home a Bottle of House Made Barbeque sauce\, a Bottle of 1799 BBQ Spice Rub and a 32oz Growler of your favorite Curio beer! \n  \nMENU: \nSmoked Ribs with a dry rub and whisky BBQ sauce \nCast Iron Cornbread prepared on the smoker \nChipotle Barbeque Baked Beans \nSmall Smoked Ice Cream Sundae \nSelection of Beers from Curio Brewing Company \nTAKE HOME: \nA bottle of House Made Barbeque Sauce \n1799 BBQ Spice Rub \n32oz Growler of your favorite Curio Beer \n  \nWHAT YOU WILL LEARN: \nBasics of Brewing: \nThe brewing process\, ingredients and tasting styles of beer \nIntroduction to Barbequing \nTypes of Smokers and what they’re best used for \nHow to start your fires – Fluids\, Heat Gun\, Starters \nDifferent Kinds of fuel: Wood\, Charcoal\, Pellets \nDiscussion on the difference between Cold Smoking and Hot Smoking \nBrines: Wet vs. Dry \nMeats: Sourcing & Aging \nGrilling \nZoning your grill \nPairing Drinks with Grilled Food \nHow to determine doneness of smoked meats \nWHAT TO EXPECT: \nThe experience will be in a group setting with approximately 40 other people. \nAn engaging afternoon with the Chefs at 1799 who will dive deep into the processes of grilling and smoking. \nYou will be standing\, Cooking\, Eating and Drinking all class. \nYou will be tasting and engaging with alcohol and must be at least 21 year of age with Valid ID. \nThe Class will last approximately 2 hours. \nYou will work with others in and share workstations and equipment. \nOur recipes are developed using traditional and modern cooking techniques and all ingredients may not be listed in the menu. If you have any food allergies\, please give us a call before booking. Adjustments to recipes cannot be made during the class.
URL:https://harpethhotel.com/happenings/the-art-of-brewn-bbqn-a-drink-eat-learn-at-the-harpeth-hotel-event/
LOCATION:The Courtyard\, 130 2nd Ave N\, Franklin\, TN\, 370664\, United States
CATEGORIES:Activities,Eat & Drink
ATTACH;FMTTYPE=image/png:https://harpethhotel.com/wp-content/uploads/BBQn-2025.png
END:VEVENT
BEGIN:VEVENT
DTSTART;TZID=America/New_York:20250629T160000
DTEND;TZID=America/New_York:20250629T190000
DTSTAMP:20260420T072747
CREATED:20250530T210542Z
LAST-MODIFIED:20250530T210542Z
UID:10506-1751212800-1751223600@harpethhotel.com
SUMMARY:Live in The Lounge feat. Jim Hayden
DESCRIPTION:Live Music in 1799 Lounge\, featuring Jim Hayden- Keyboard & Vocals.
URL:https://harpethhotel.com/happenings/live-in-the-lounge-feat-jim-hayden-123/
LOCATION:1799 Bar\, 130 2nd Ave N\, Franklin\, TN\, 37064
CATEGORIES:Eat & Drink,Music
END:VEVENT
END:VCALENDAR