BEGIN:VCALENDAR
VERSION:2.0
PRODID:-//The Harpeth Hotel - ECPv6.15.20//NONSGML v1.0//EN
CALSCALE:GREGORIAN
METHOD:PUBLISH
X-WR-CALNAME:The Harpeth Hotel
X-ORIGINAL-URL:https://harpethhotel.com
X-WR-CALDESC:Events for The Harpeth Hotel
REFRESH-INTERVAL;VALUE=DURATION:PT1H
X-Robots-Tag:noindex
X-PUBLISHED-TTL:PT1H
BEGIN:VTIMEZONE
TZID:America/New_York
BEGIN:DAYLIGHT
TZOFFSETFROM:-0500
TZOFFSETTO:-0400
TZNAME:EDT
DTSTART:20240310T070000
END:DAYLIGHT
BEGIN:STANDARD
TZOFFSETFROM:-0400
TZOFFSETTO:-0500
TZNAME:EST
DTSTART:20241103T060000
END:STANDARD
BEGIN:DAYLIGHT
TZOFFSETFROM:-0500
TZOFFSETTO:-0400
TZNAME:EDT
DTSTART:20250309T070000
END:DAYLIGHT
BEGIN:STANDARD
TZOFFSETFROM:-0400
TZOFFSETTO:-0500
TZNAME:EST
DTSTART:20251102T060000
END:STANDARD
BEGIN:DAYLIGHT
TZOFFSETFROM:-0500
TZOFFSETTO:-0400
TZNAME:EDT
DTSTART:20260308T070000
END:DAYLIGHT
BEGIN:STANDARD
TZOFFSETFROM:-0400
TZOFFSETTO:-0500
TZNAME:EST
DTSTART:20261101T060000
END:STANDARD
END:VTIMEZONE
BEGIN:VEVENT
DTSTART;TZID=America/New_York:20250702T180000
DTEND;TZID=America/New_York:20250702T210000
DTSTAMP:20260420T055122
CREATED:20250630T200941Z
LAST-MODIFIED:20250630T200941Z
UID:10554-1751479200-1751490000@harpethhotel.com
SUMMARY:Whiskey Wednesday feat. Troy Doherty
DESCRIPTION:Live Music in 1799 Lounge.
URL:https://harpethhotel.com/happenings/whiskey-wednesday-feat-troy-doherty-29/
LOCATION:1799 Bar\, 130 2nd Ave N\, Franklin\, TN\, 37064
CATEGORIES:Eat & Drink,Music
ATTACH;FMTTYPE=image/png:https://harpethhotel.com/wp-content/uploads/Whiskey-Wednesday.png
END:VEVENT
BEGIN:VEVENT
DTSTART;TZID=America/New_York:20250704T190000
DTEND;TZID=America/New_York:20250704T220000
DTSTAMP:20260420T055122
CREATED:20250630T200105Z
LAST-MODIFIED:20250630T200135Z
UID:10548-1751655600-1751666400@harpethhotel.com
SUMMARY:Live in the Lounge feat. Rayla Ray
DESCRIPTION:Live Music in 1799 Lounge featuring Rayla Ray- Guitar & Vocals
URL:https://harpethhotel.com/happenings/live-in-the-lounge-feat-rayla-ray-2/
LOCATION:1799 Bar\, 130 2nd Ave N\, Franklin\, TN\, 37064
CATEGORIES:Eat & Drink,Music
ATTACH;FMTTYPE=image/png:https://harpethhotel.com/wp-content/uploads/Guitar-Music-copy-33.png
END:VEVENT
BEGIN:VEVENT
DTSTART;TZID=America/New_York:20250705T190000
DTEND;TZID=America/New_York:20250705T220000
DTSTAMP:20260420T055122
CREATED:20250630T200813Z
LAST-MODIFIED:20250630T200813Z
UID:10552-1751742000-1751752800@harpethhotel.com
SUMMARY:Live in the Lounge feat. Chuck Johnson
DESCRIPTION:Live Music in 1799 Lounge\, featuring Chuck Johnson – Guitar & Vocals.
URL:https://harpethhotel.com/happenings/live-in-the-lounge-feat-chuck-johnson-3/
LOCATION:1799 Bar\, 130 2nd Ave N\, Franklin\, TN\, 37064
CATEGORIES:Eat & Drink,Music
ATTACH;FMTTYPE=image/png:https://harpethhotel.com/wp-content/uploads/Guitar-Music-copy-30.png
END:VEVENT
BEGIN:VEVENT
DTSTART;TZID=America/New_York:20250706T160000
DTEND;TZID=America/New_York:20250706T190000
DTSTAMP:20260420T055122
CREATED:20250630T200321Z
LAST-MODIFIED:20250630T200321Z
UID:10550-1751817600-1751828400@harpethhotel.com
SUMMARY:Live in The Lounge feat. Jim Hayden
DESCRIPTION:Live Music in 1799 Lounge\, featuring Jim Hayden- Keyboard & Vocals.
URL:https://harpethhotel.com/happenings/live-in-the-lounge-feat-jim-hayden-124/
LOCATION:1799 Bar\, 130 2nd Ave N\, Franklin\, TN\, 37064
CATEGORIES:Eat & Drink,Music
END:VEVENT
BEGIN:VEVENT
DTSTART;TZID=America/New_York:20250709T180000
DTEND;TZID=America/New_York:20250709T210000
DTSTAMP:20260420T055122
CREATED:20250630T201039Z
LAST-MODIFIED:20250630T201039Z
UID:10556-1752084000-1752094800@harpethhotel.com
SUMMARY:Whiskey Wednesday feat. Troy Doherty
DESCRIPTION:Live Music in 1799 Lounge.
URL:https://harpethhotel.com/happenings/whiskey-wednesday-feat-troy-doherty-30/
LOCATION:1799 Bar\, 130 2nd Ave N\, Franklin\, TN\, 37064
CATEGORIES:Eat & Drink,Music
ATTACH;FMTTYPE=image/png:https://harpethhotel.com/wp-content/uploads/Whiskey-Wednesday.png
END:VEVENT
BEGIN:VEVENT
DTSTART;TZID=America/New_York:20250711T190000
DTEND;TZID=America/New_York:20250711T220000
DTSTAMP:20260420T055122
CREATED:20250630T201146Z
LAST-MODIFIED:20250630T201146Z
UID:10558-1752260400-1752271200@harpethhotel.com
SUMMARY:Live in the Lounge feat. Amanda McCarthy
DESCRIPTION:Live music in 1799 Lounge\, featuring Amanda McCarthy- Guitar & Vocals.
URL:https://harpethhotel.com/happenings/live-in-the-lounge-feat-amanda-mccarthy-14/
LOCATION:1799 Bar\, 130 2nd Ave N\, Franklin\, TN\, 37064
CATEGORIES:Eat & Drink,Music
ATTACH;FMTTYPE=image/png:https://harpethhotel.com/wp-content/uploads/Guitar-Music-24.png
END:VEVENT
BEGIN:VEVENT
DTSTART;TZID=America/New_York:20250712T190000
DTEND;TZID=America/New_York:20250712T220000
DTSTAMP:20260420T055122
CREATED:20250630T201728Z
LAST-MODIFIED:20250630T201728Z
UID:10562-1752346800-1752357600@harpethhotel.com
SUMMARY:Live in the Lounge feat. Jacob Needham
DESCRIPTION:Live Music in 1799 Lounge\, featuring Jacob Needham – Guitar & Vocals.
URL:https://harpethhotel.com/happenings/live-in-the-lounge-feat-jacob-needham/
LOCATION:1799 Bar\, 130 2nd Ave N\, Franklin\, TN\, 37064
CATEGORIES:Eat & Drink,Music
ATTACH;FMTTYPE=image/png:https://harpethhotel.com/wp-content/uploads/Guitar-Music-copy-35.png
END:VEVENT
BEGIN:VEVENT
DTSTART;TZID=America/New_York:20250713T160000
DTEND;TZID=America/New_York:20250713T190000
DTSTAMP:20260420T055122
CREATED:20250630T201833Z
LAST-MODIFIED:20250630T201833Z
UID:10565-1752422400-1752433200@harpethhotel.com
SUMMARY:Live in The Lounge feat. Jim Hayden
DESCRIPTION:Live Music in 1799 Lounge\, featuring Jim Hayden- Keyboard & Vocals.
URL:https://harpethhotel.com/happenings/live-in-the-lounge-feat-jim-hayden-125/
LOCATION:1799 Bar\, 130 2nd Ave N\, Franklin\, TN\, 37064
CATEGORIES:Eat & Drink,Music
END:VEVENT
BEGIN:VEVENT
DTSTART;TZID=America/New_York:20250716T180000
DTEND;TZID=America/New_York:20250716T210000
DTSTAMP:20260420T055122
CREATED:20250630T201946Z
LAST-MODIFIED:20250630T201946Z
UID:10567-1752688800-1752699600@harpethhotel.com
SUMMARY:Whiskey Wednesday feat. Troy Doherty
DESCRIPTION:Live Music in 1799 Lounge.
URL:https://harpethhotel.com/happenings/whiskey-wednesday-feat-troy-doherty-31/
LOCATION:1799 Bar\, 130 2nd Ave N\, Franklin\, TN\, 37064
CATEGORIES:Eat & Drink,Music
ATTACH;FMTTYPE=image/png:https://harpethhotel.com/wp-content/uploads/Whiskey-Wednesday.png
END:VEVENT
BEGIN:VEVENT
DTSTART;TZID=America/New_York:20250718T190000
DTEND;TZID=America/New_York:20250718T220000
DTSTAMP:20260420T055122
CREATED:20250630T201331Z
LAST-MODIFIED:20250630T201331Z
UID:10560-1752865200-1752876000@harpethhotel.com
SUMMARY:Live in the Lounge feat. Carl Grey
DESCRIPTION:Live Music in 1799 Lounge\, featuring Carl Grey – Guitar & Vocals.
URL:https://harpethhotel.com/happenings/live-in-the-lounge-feat-carl-grey-2/
LOCATION:1799 Bar\, 130 2nd Ave N\, Franklin\, TN\, 37064
CATEGORIES:Eat & Drink,Music
ATTACH;FMTTYPE=image/png:https://harpethhotel.com/wp-content/uploads/Guitar-Music-copy-32.png
END:VEVENT
BEGIN:VEVENT
DTSTART;TZID=America/New_York:20250719T190000
DTEND;TZID=America/New_York:20250719T220000
DTSTAMP:20260420T055122
CREATED:20250630T203922Z
LAST-MODIFIED:20250630T203922Z
UID:10569-1752951600-1752962400@harpethhotel.com
SUMMARY:Live in The Lounge feat. Isaac Ferguson Dillard
DESCRIPTION:Live Music in 1799 Lounge featuring Isaac Ferguson Dillard – Vocals
URL:https://harpethhotel.com/happenings/live-in-the-lounge-feat-isaac-ferguson-dillard-15/
LOCATION:1799 Bar\, 130 2nd Ave N\, Franklin\, TN\, 37064
CATEGORIES:Eat & Drink,Music
ATTACH;FMTTYPE=image/png:https://harpethhotel.com/wp-content/uploads/Guitar-Music-29.png
END:VEVENT
BEGIN:VEVENT
DTSTART;TZID=America/New_York:20250720T160000
DTEND;TZID=America/New_York:20250720T190000
DTSTAMP:20260420T055122
CREATED:20250630T204014Z
LAST-MODIFIED:20250630T204014Z
UID:10570-1753027200-1753038000@harpethhotel.com
SUMMARY:Live in The Lounge feat. Jim Hayden
DESCRIPTION:Live Music in 1799 Lounge\, featuring Jim Hayden- Keyboard & Vocals.
URL:https://harpethhotel.com/happenings/live-in-the-lounge-feat-jim-hayden-126/
LOCATION:1799 Bar\, 130 2nd Ave N\, Franklin\, TN\, 37064
CATEGORIES:Eat & Drink,Music
END:VEVENT
BEGIN:VEVENT
DTSTART;TZID=America/New_York:20250723T180000
DTEND;TZID=America/New_York:20250723T210000
DTSTAMP:20260420T055122
CREATED:20250630T210547Z
LAST-MODIFIED:20250630T210547Z
UID:10573-1753293600-1753304400@harpethhotel.com
SUMMARY:Whiskey Wednesday feat. Troy Doherty
DESCRIPTION:Live Music in 1799 Lounge.
URL:https://harpethhotel.com/happenings/whiskey-wednesday-feat-troy-doherty-32/
LOCATION:1799 Bar\, 130 2nd Ave N\, Franklin\, TN\, 37064
CATEGORIES:Eat & Drink,Music
ATTACH;FMTTYPE=image/png:https://harpethhotel.com/wp-content/uploads/Whiskey-Wednesday.png
END:VEVENT
BEGIN:VEVENT
DTSTART;TZID=America/New_York:20250725T190000
DTEND;TZID=America/New_York:20250725T220000
DTSTAMP:20260420T055122
CREATED:20250630T210822Z
LAST-MODIFIED:20250630T210822Z
UID:10575-1753470000-1753480800@harpethhotel.com
SUMMARY:Live in the Lounge feat. Melissa Duval
DESCRIPTION:Live Music in 1799 Lounge featuring Melissa Duval- Guitar & Vocals
URL:https://harpethhotel.com/happenings/live-in-the-lounge-feat-melissa-duval-11/
LOCATION:1799 Bar\, 130 2nd Ave N\, Franklin\, TN\, 37064
CATEGORIES:Eat & Drink,Music
ATTACH;FMTTYPE=image/png:https://harpethhotel.com/wp-content/uploads/Guitar-Music-copy-22.png
END:VEVENT
BEGIN:VEVENT
DTSTART;TZID=America/New_York:20250726T190000
DTEND;TZID=America/New_York:20250726T220000
DTSTAMP:20260420T055122
CREATED:20250630T211049Z
LAST-MODIFIED:20250630T211049Z
UID:10577-1753556400-1753567200@harpethhotel.com
SUMMARY:Live in The Lounge feat. South Margin
DESCRIPTION:Live Music in 1799 Lounge featuring South Margin- Guitar & Vocals
URL:https://harpethhotel.com/happenings/live-in-the-lounge-feat-south-margin-11/
LOCATION:1799 Bar\, 130 2nd Ave N\, Franklin\, TN\, 37064
CATEGORIES:Eat & Drink,Music
ATTACH;FMTTYPE=image/png:https://harpethhotel.com/wp-content/uploads/Guitar-Music-copy-21.png
END:VEVENT
BEGIN:VEVENT
DTSTART;TZID=America/New_York:20250727T160000
DTEND;TZID=America/New_York:20250727T190000
DTSTAMP:20260420T055122
CREATED:20250630T211215Z
LAST-MODIFIED:20250630T211215Z
UID:10579-1753632000-1753642800@harpethhotel.com
SUMMARY:Live in The Lounge feat. Jim Hayden
DESCRIPTION:Live Music in 1799 Lounge\, featuring Jim Hayden- Keyboard & Vocals.
URL:https://harpethhotel.com/happenings/live-in-the-lounge-feat-jim-hayden-127/
LOCATION:1799 Bar\, 130 2nd Ave N\, Franklin\, TN\, 37064
CATEGORIES:Eat & Drink,Music
END:VEVENT
BEGIN:VEVENT
DTSTART;TZID=America/New_York:20250730T180000
DTEND;TZID=America/New_York:20250730T210000
DTSTAMP:20260420T055122
CREATED:20250630T211509Z
LAST-MODIFIED:20250630T211509Z
UID:10581-1753898400-1753909200@harpethhotel.com
SUMMARY:Whiskey Wednesday feat. Troy Doherty
DESCRIPTION:Live Music in 1799 Lounge.
URL:https://harpethhotel.com/happenings/whiskey-wednesday-feat-troy-doherty-33/
LOCATION:1799 Bar\, 130 2nd Ave N\, Franklin\, TN\, 37064
CATEGORIES:Eat & Drink,Music
ATTACH;FMTTYPE=image/png:https://harpethhotel.com/wp-content/uploads/Whiskey-Wednesday.png
END:VEVENT
END:VCALENDAR