BEGIN:VCALENDAR
VERSION:2.0
PRODID:-//The Harpeth Hotel - ECPv6.15.20//NONSGML v1.0//EN
CALSCALE:GREGORIAN
METHOD:PUBLISH
X-WR-CALNAME:The Harpeth Hotel
X-ORIGINAL-URL:https://harpethhotel.com
X-WR-CALDESC:Events for The Harpeth Hotel
REFRESH-INTERVAL;VALUE=DURATION:PT1H
X-Robots-Tag:noindex
X-PUBLISHED-TTL:PT1H
BEGIN:VTIMEZONE
TZID:America/New_York
BEGIN:DAYLIGHT
TZOFFSETFROM:-0500
TZOFFSETTO:-0400
TZNAME:EDT
DTSTART:20250309T070000
END:DAYLIGHT
BEGIN:STANDARD
TZOFFSETFROM:-0400
TZOFFSETTO:-0500
TZNAME:EST
DTSTART:20251102T060000
END:STANDARD
BEGIN:DAYLIGHT
TZOFFSETFROM:-0500
TZOFFSETTO:-0400
TZNAME:EDT
DTSTART:20260308T070000
END:DAYLIGHT
BEGIN:STANDARD
TZOFFSETFROM:-0400
TZOFFSETTO:-0500
TZNAME:EST
DTSTART:20261101T060000
END:STANDARD
BEGIN:DAYLIGHT
TZOFFSETFROM:-0500
TZOFFSETTO:-0400
TZNAME:EDT
DTSTART:20270314T070000
END:DAYLIGHT
BEGIN:STANDARD
TZOFFSETFROM:-0400
TZOFFSETTO:-0500
TZNAME:EST
DTSTART:20271107T060000
END:STANDARD
END:VTIMEZONE
BEGIN:VEVENT
DTSTART;TZID=America/New_York:20260301T150000
DTEND;TZID=America/New_York:20260301T170000
DTSTAMP:20260421T073135
CREATED:20260303T153832Z
LAST-MODIFIED:20260303T153832Z
UID:11180-1772377200-1772384400@harpethhotel.com
SUMMARY:Happy Hour
DESCRIPTION:Join us for the best Happy Hour in Franklin! Served every Sunday-Thursday from 3pm-5pm. \nDraft Beer | 6\nWine By the Glass | 9\nCocktail Specials | 9\nBarrel Aged Old Fashioned | 20\nThe Harpeth’s Blend\, an Exclusive Expression by Leiper’s Fork Distillery\, Barrel Aged In-House\, Demerara\, Angostura & Orange \nDiscounted Bar Bites
URL:https://harpethhotel.com/happenings/happy-hour-mar-1/
LOCATION:1799 Bar\, 130 2nd Ave N\, Franklin\, TN\, 37064
ATTACH;FMTTYPE=image/avif:https://harpethhotel.com/wp-content/uploads/happy-hour.avif
END:VEVENT
BEGIN:VEVENT
DTSTART;TZID=America/New_York:20260301T160000
DTEND;TZID=America/New_York:20260301T190000
DTSTAMP:20260421T073135
CREATED:20260227T192443Z
LAST-MODIFIED:20260227T194047Z
UID:11036-1772380800-1772391600@harpethhotel.com
SUMMARY:Live in the Lounge feat. Jim Hayden
DESCRIPTION:Join us for live music in the 1799 Lounge\, featuring Jim Hayden on keyboard and vocals. \nAdmission is free.
URL:https://harpethhotel.com/happenings/live-in-the-lounge-feat-jim-hayden-mar-1/
LOCATION:1799 Lounge\, 130 2nd Ave N\, Franklin\, TN\, 37064
ATTACH;FMTTYPE=image/webp:https://harpethhotel.com/wp-content/uploads/live-in-the-lounge-jim-hayden-1799-kitchen-bar-room-franklin-tn.webp
END:VEVENT
BEGIN:VEVENT
DTSTART;TZID=America/New_York:20260302T150000
DTEND;TZID=America/New_York:20260302T170000
DTSTAMP:20260421T073135
CREATED:20260303T153957Z
LAST-MODIFIED:20260303T153957Z
UID:11182-1772463600-1772470800@harpethhotel.com
SUMMARY:Happy Hour
DESCRIPTION:Join us for the best Happy Hour in Franklin! Served every Sunday-Thursday from 3pm-5pm. \nDraft Beer | 6\nWine By the Glass | 9\nCocktail Specials | 9\nBarrel Aged Old Fashioned | 20\nThe Harpeth’s Blend\, an Exclusive Expression by Leiper’s Fork Distillery\, Barrel Aged In-House\, Demerara\, Angostura & Orange \nDiscounted Bar Bites
URL:https://harpethhotel.com/happenings/happy-hour-mar-2/
LOCATION:1799 Bar\, 130 2nd Ave N\, Franklin\, TN\, 37064
ATTACH;FMTTYPE=image/avif:https://harpethhotel.com/wp-content/uploads/happy-hour.avif
END:VEVENT
BEGIN:VEVENT
DTSTART;TZID=America/New_York:20260303T150000
DTEND;TZID=America/New_York:20260303T170000
DTSTAMP:20260421T073135
CREATED:20260210T205345Z
LAST-MODIFIED:20260303T153112Z
UID:11027-1772550000-1772557200@harpethhotel.com
SUMMARY:Happy Hour
DESCRIPTION:Join us for the best Happy Hour in Franklin! Served every Sunday-Thursday from 3pm-5pm. \nDraft Beer | 6\nWine By the Glass | 9\nCocktail Specials | 9\nBarrel Aged Old Fashioned | 20\nThe Harpeth’s Blend\, an Exclusive Expression by Leiper’s Fork Distillery\, Barrel Aged In-House\, Demerara\, Angostura & Orange \nDiscounted Bar Bites
URL:https://harpethhotel.com/happenings/happy-hour-mar-3/
LOCATION:1799 Bar\, 130 2nd Ave N\, Franklin\, TN\, 37064
ATTACH;FMTTYPE=image/avif:https://harpethhotel.com/wp-content/uploads/happy-hour.avif
END:VEVENT
BEGIN:VEVENT
DTSTART;TZID=America/New_York:20260304T150000
DTEND;TZID=America/New_York:20260304T170000
DTSTAMP:20260421T073135
CREATED:20260303T153611Z
LAST-MODIFIED:20260303T153611Z
UID:11176-1772636400-1772643600@harpethhotel.com
SUMMARY:Happy Hour
DESCRIPTION:Join us for the best Happy Hour in Franklin! Served every Sunday-Thursday from 3pm-5pm. \nDraft Beer | 6\nWine By the Glass | 9\nCocktail Specials | 9\nBarrel Aged Old Fashioned | 20\nThe Harpeth’s Blend\, an Exclusive Expression by Leiper’s Fork Distillery\, Barrel Aged In-House\, Demerara\, Angostura & Orange \nDiscounted Bar Bites
URL:https://harpethhotel.com/happenings/happy-hour-mar-4/
LOCATION:1799 Bar\, 130 2nd Ave N\, Franklin\, TN\, 37064
ATTACH;FMTTYPE=image/avif:https://harpethhotel.com/wp-content/uploads/happy-hour.avif
END:VEVENT
BEGIN:VEVENT
DTSTART;TZID=America/New_York:20260304T180000
DTEND;TZID=America/New_York:20260304T220000
DTSTAMP:20260421T073135
CREATED:20260208T163712Z
LAST-MODIFIED:20260303T152209Z
UID:10946-1772647200-1772661600@harpethhotel.com
SUMMARY:Whiskey Wednesday feat. Live Music
DESCRIPTION:Join us every Wednesday from 6pm to close for a celebration of all things whiskey. Featuring live music (6-9pm) and specials on whiskey flights\, our famous Barrel Aged Old Fashioned\, and more! \nBurger & Bourbon | 30\nEnjoy Our Incredible Wagyu Burger and a Pour of One of Our Featured Whiskeys \nBarrel Aged Old Fashioned | 20\nThe Harpeth’s Blend\, an Exclusive Expression by Leiper’s Fork Disillery\, Barrel Aged In-House\, Demerara\, Angostura & Orange \nDiscounted Whiskey Flights
URL:https://harpethhotel.com/happenings/whiskey-wednesday-mar-4/
LOCATION:1799 Lounge\, 130 2nd Ave N\, Franklin\, TN\, 37064
ATTACH;FMTTYPE=image/avif:https://harpethhotel.com/wp-content/uploads/whiskey-wednesday.avif
END:VEVENT
BEGIN:VEVENT
DTSTART;TZID=America/New_York:20260305T150000
DTEND;TZID=America/New_York:20260305T170000
DTSTAMP:20260421T073135
CREATED:20260303T153718Z
LAST-MODIFIED:20260303T153718Z
UID:11178-1772722800-1772730000@harpethhotel.com
SUMMARY:Happy Hour
DESCRIPTION:Join us for the best Happy Hour in Franklin! Served every Sunday-Thursday from 3pm-5pm. \nDraft Beer | 6\nWine By the Glass | 9\nCocktail Specials | 9\nBarrel Aged Old Fashioned | 20\nThe Harpeth’s Blend\, an Exclusive Expression by Leiper’s Fork Distillery\, Barrel Aged In-House\, Demerara\, Angostura & Orange \nDiscounted Bar Bites
URL:https://harpethhotel.com/happenings/happy-hour-mar-5/
LOCATION:1799 Bar\, 130 2nd Ave N\, Franklin\, TN\, 37064
ATTACH;FMTTYPE=image/avif:https://harpethhotel.com/wp-content/uploads/happy-hour.avif
END:VEVENT
BEGIN:VEVENT
DTSTART;TZID=America/New_York:20260306T190000
DTEND;TZID=America/New_York:20260306T220000
DTSTAMP:20260421T073135
CREATED:20260227T203227Z
LAST-MODIFIED:20260227T203227Z
UID:11058-1772823600-1772834400@harpethhotel.com
SUMMARY:Live in the Lounge feat. South Margin
DESCRIPTION:Gather around for live music in the 1799 Lounge\, featuring father/daughter duo South Margin. \nAdmission is free.
URL:https://harpethhotel.com/happenings/live-in-the-lounge-feat-south-margin-mar-6/
LOCATION:1799 Lounge\, 130 2nd Ave N\, Franklin\, TN\, 37064
ATTACH;FMTTYPE=image/webp:https://harpethhotel.com/wp-content/uploads/live-in-the-lounge-south-margin-1799-kitchen-bar-room-franklin-tn.webp
END:VEVENT
BEGIN:VEVENT
DTSTART;TZID=America/New_York:20260307T190000
DTEND;TZID=America/New_York:20260307T220000
DTSTAMP:20260421T073135
CREATED:20260227T211819Z
LAST-MODIFIED:20260227T211819Z
UID:11077-1772910000-1772920800@harpethhotel.com
SUMMARY:Live in the Lounge feat. Mary Lou Lackey
DESCRIPTION:Gather around for live music in the 1799 Lounge\, featuring singer-songwriter Mary Lou Lackey. \nAdmission is free.
URL:https://harpethhotel.com/happenings/live-in-the-lounge-feat-mary-lou-lackey-mar-7/
LOCATION:1799 Lounge\, 130 2nd Ave N\, Franklin\, TN\, 37064
ATTACH;FMTTYPE=image/webp:https://harpethhotel.com/wp-content/uploads/live-in-the-lounge-mary-lou-lackey-1799-kitchen-bar-room-franklin-tn.webp
END:VEVENT
BEGIN:VEVENT
DTSTART;TZID=America/New_York:20260308T150000
DTEND;TZID=America/New_York:20260308T170000
DTSTAMP:20260421T073135
CREATED:20260303T154213Z
LAST-MODIFIED:20260303T154213Z
UID:11184-1772982000-1772989200@harpethhotel.com
SUMMARY:Happy Hour
DESCRIPTION:Join us for the best Happy Hour in Franklin! Served every Sunday-Thursday from 3pm-5pm. \nDraft Beer | 6\nWine By the Glass | 9\nCocktail Specials | 9\nBarrel Aged Old Fashioned | 20\nThe Harpeth’s Blend\, an Exclusive Expression by Leiper’s Fork Distillery\, Barrel Aged In-House\, Demerara\, Angostura & Orange \nDiscounted Bar Bites
URL:https://harpethhotel.com/happenings/happy-hour-mar-8/
LOCATION:1799 Bar\, 130 2nd Ave N\, Franklin\, TN\, 37064
ATTACH;FMTTYPE=image/avif:https://harpethhotel.com/wp-content/uploads/happy-hour.avif
END:VEVENT
BEGIN:VEVENT
DTSTART;TZID=America/New_York:20260308T160000
DTEND;TZID=America/New_York:20260308T190000
DTSTAMP:20260421T073135
CREATED:20260227T192608Z
LAST-MODIFIED:20260227T193050Z
UID:11043-1772985600-1772996400@harpethhotel.com
SUMMARY:Live in the Lounge feat. Jim Hayden
DESCRIPTION:Join us for live music in the 1799 Lounge\, featuring Jim Hayden on keyboard and vocals. \nAdmission is free.
URL:https://harpethhotel.com/happenings/live-in-the-lounge-feat-jim-hayden-mar-8/
LOCATION:1799 Lounge\, 130 2nd Ave N\, Franklin\, TN\, 37064
ATTACH;FMTTYPE=image/webp:https://harpethhotel.com/wp-content/uploads/live-in-the-lounge-jim-hayden-1799-kitchen-bar-room-franklin-tn.webp
END:VEVENT
BEGIN:VEVENT
DTSTART;TZID=America/New_York:20260309T150000
DTEND;TZID=America/New_York:20260309T170000
DTSTAMP:20260421T073135
CREATED:20260303T154431Z
LAST-MODIFIED:20260303T154431Z
UID:11188-1773068400-1773075600@harpethhotel.com
SUMMARY:Happy Hour
DESCRIPTION:Join us for the best Happy Hour in Franklin! Served every Sunday-Thursday from 3pm-5pm. \nDraft Beer | 6\nWine By the Glass | 9\nCocktail Specials | 9\nBarrel Aged Old Fashioned | 20\nThe Harpeth’s Blend\, an Exclusive Expression by Leiper’s Fork Distillery\, Barrel Aged In-House\, Demerara\, Angostura & Orange \nDiscounted Bar Bites
URL:https://harpethhotel.com/happenings/happy-hour-mar-9/
LOCATION:1799 Bar\, 130 2nd Ave N\, Franklin\, TN\, 37064
ATTACH;FMTTYPE=image/avif:https://harpethhotel.com/wp-content/uploads/happy-hour.avif
END:VEVENT
BEGIN:VEVENT
DTSTART;TZID=America/New_York:20260309T150000
DTEND;TZID=America/New_York:20260309T220000
DTSTAMP:20260421T073135
CREATED:20260306T155811Z
LAST-MODIFIED:20260306T155811Z
UID:11293-1773068400-1773093600@harpethhotel.com
SUMMARY:Pizza & Pours
DESCRIPTION:Gather with us every Monday from 3 pm to 10 pm for Pizza & Pours featuring 50% off pizzas plus draft beer and wine specials. \n50% Off Pizzas\n\nSpicy Pepperoni | 14.50\nMargherita | 13\n4 Cheese | 12\nBBQ Chicken | 14.50\n\nDraft Beer | 6\nWine By the Glass | 9
URL:https://harpethhotel.com/happenings/pizza-and-pours-mar-9/
LOCATION:1799 Lounge and Courtyard\, 130 2nd Ave N\, Franklin\, TN\, 37064
ATTACH;FMTTYPE=image/webp:https://harpethhotel.com/wp-content/uploads/pizza-and-pours.webp
END:VEVENT
BEGIN:VEVENT
DTSTART;TZID=America/New_York:20260310T150000
DTEND;TZID=America/New_York:20260310T170000
DTSTAMP:20260421T073135
CREATED:20260303T154540Z
LAST-MODIFIED:20260303T154540Z
UID:11190-1773154800-1773162000@harpethhotel.com
SUMMARY:Happy Hour
DESCRIPTION:Join us for the best Happy Hour in Franklin! Served every Sunday-Thursday from 3pm-5pm. \nDraft Beer | 6\nWine By the Glass | 9\nCocktail Specials | 9\nBarrel Aged Old Fashioned | 20\nThe Harpeth’s Blend\, an Exclusive Expression by Leiper’s Fork Distillery\, Barrel Aged In-House\, Demerara\, Angostura & Orange \nDiscounted Bar Bites
URL:https://harpethhotel.com/happenings/happy-hour-mar-10/
LOCATION:1799 Bar\, 130 2nd Ave N\, Franklin\, TN\, 37064
ATTACH;FMTTYPE=image/avif:https://harpethhotel.com/wp-content/uploads/happy-hour.avif
END:VEVENT
BEGIN:VEVENT
DTSTART;TZID=America/New_York:20260311T150000
DTEND;TZID=America/New_York:20260311T170000
DTSTAMP:20260421T073135
CREATED:20260303T154630Z
LAST-MODIFIED:20260303T154630Z
UID:11192-1773241200-1773248400@harpethhotel.com
SUMMARY:Happy Hour
DESCRIPTION:Join us for the best Happy Hour in Franklin! Served every Sunday-Thursday from 3pm-5pm. \nDraft Beer | 6\nWine By the Glass | 9\nCocktail Specials | 9\nBarrel Aged Old Fashioned | 20\nThe Harpeth’s Blend\, an Exclusive Expression by Leiper’s Fork Distillery\, Barrel Aged In-House\, Demerara\, Angostura & Orange \nDiscounted Bar Bites
URL:https://harpethhotel.com/happenings/happy-hour-mar-11/
LOCATION:1799 Bar\, 130 2nd Ave N\, Franklin\, TN\, 37064
ATTACH;FMTTYPE=image/avif:https://harpethhotel.com/wp-content/uploads/happy-hour.avif
END:VEVENT
BEGIN:VEVENT
DTSTART;TZID=America/New_York:20260311T180000
DTEND;TZID=America/New_York:20260311T220000
DTSTAMP:20260421T073135
CREATED:20260227T204905Z
LAST-MODIFIED:20260303T163202Z
UID:11070-1773252000-1773266400@harpethhotel.com
SUMMARY:Whiskey Wednesday feat. Live Music
DESCRIPTION:Join us every Wednesday from 6pm to close for a celebration of all things whiskey. Featuring live music (6-9pm) and specials on whiskey flights\, our famous Barrel Aged Old Fashioned\, and more! \nBurger & Bourbon | 30\nEnjoy Our Incredible Wagyu Burger and a Pour of One of Our Featured Whiskeys \nBarrel Aged Old Fashioned | 20\nThe Harpeth’s Blend\, an Exclusive Expression by Leiper’s Fork Disillery\, Barrel Aged In-House\, Demerara\, Angostura & Orange \nDiscounted Whiskey Flights
URL:https://harpethhotel.com/happenings/whiskey-wednesday-feat-live-music-mar-11/
LOCATION:1799 Lounge\, 130 2nd Ave N\, Franklin\, TN\, 37064
ATTACH;FMTTYPE=image/avif:https://harpethhotel.com/wp-content/uploads/whiskey-wednesday.avif
END:VEVENT
BEGIN:VEVENT
DTSTART;TZID=America/New_York:20260312T150000
DTEND;TZID=America/New_York:20260312T170000
DTSTAMP:20260421T073135
CREATED:20260303T154719Z
LAST-MODIFIED:20260303T154719Z
UID:11194-1773327600-1773334800@harpethhotel.com
SUMMARY:Happy Hour
DESCRIPTION:Join us for the best Happy Hour in Franklin! Served every Sunday-Thursday from 3pm-5pm. \nDraft Beer | 6\nWine By the Glass | 9\nCocktail Specials | 9\nBarrel Aged Old Fashioned | 20\nThe Harpeth’s Blend\, an Exclusive Expression by Leiper’s Fork Distillery\, Barrel Aged In-House\, Demerara\, Angostura & Orange \nDiscounted Bar Bites
URL:https://harpethhotel.com/happenings/happy-hour-mar-12/
LOCATION:1799 Bar\, 130 2nd Ave N\, Franklin\, TN\, 37064
ATTACH;FMTTYPE=image/avif:https://harpethhotel.com/wp-content/uploads/happy-hour.avif
END:VEVENT
BEGIN:VEVENT
DTSTART;TZID=America/New_York:20260313T190000
DTEND;TZID=America/New_York:20260313T220000
DTSTAMP:20260421T073135
CREATED:20260227T213134Z
LAST-MODIFIED:20260309T200910Z
UID:11080-1773428400-1773439200@harpethhotel.com
SUMMARY:Live in the Lounge feat. Amber Lea Burch
DESCRIPTION:Gather around for live music in the 1799 Lounge\, featuring singer-songwriter Amber Lea Burch. \nAdmission is free.
URL:https://harpethhotel.com/happenings/live-in-the-lounge-feat-amber-lea-burch-mar-13/
LOCATION:1799 Lounge\, 130 2nd Ave N\, Franklin\, TN\, 37064
ATTACH;FMTTYPE=image/webp:https://harpethhotel.com/wp-content/uploads/live-in-the-lounge-amber-lee-burch-1799-kitchen-bar-room-franklin-tn.webp
END:VEVENT
BEGIN:VEVENT
DTSTART;TZID=America/New_York:20260314T160000
DTEND;TZID=America/New_York:20260314T190000
DTSTAMP:20260421T073135
CREATED:20260205T204941Z
LAST-MODIFIED:20260227T222534Z
UID:10903-1773504000-1773514800@harpethhotel.com
SUMMARY:Live in the Lounge feat. Jillian Shively
DESCRIPTION:Join us for live music in the 1799 Lounge\, featuring Jillian Shively on keyboard and vocals. \nAdmission is free.
URL:https://harpethhotel.com/happenings/live-in-the-lounge-feat-jillian-shively-mar-14/
LOCATION:1799 Lounge\, 130 2nd Ave N\, Franklin\, TN\, 37064
ATTACH;FMTTYPE=image/webp:https://harpethhotel.com/wp-content/uploads/live-in-the-lounge-jillian-shively-1799-kitchen-bar-room-franklin-tn.webp
END:VEVENT
BEGIN:VEVENT
DTSTART;TZID=America/New_York:20260314T160000
DTEND;TZID=America/New_York:20260314T200000
DTSTAMP:20260421T073135
CREATED:20260312T180312Z
LAST-MODIFIED:20260312T180442Z
UID:11337-1773504000-1773518400@harpethhotel.com
SUMMARY:Harpeth's Ice Cream Social
DESCRIPTION:Celebrate Spring Break at The Harpeth with FREE ice cream\, live music\, pizza\, cocktails\, lawn games\, and more!
URL:https://harpethhotel.com/happenings/harpeths-ice-cream-social/
LOCATION:The Harpeth Hotel\, 130 2nd Ave N\, Franklin\, TN\, 37064
ATTACH;FMTTYPE=image/webp:https://harpethhotel.com/wp-content/uploads/harpeth-ice-cream-social.webp
END:VEVENT
BEGIN:VEVENT
DTSTART;TZID=America/New_York:20260314T160000
DTEND;TZID=America/New_York:20260314T200000
DTSTAMP:20260421T073135
CREATED:20260312T182215Z
LAST-MODIFIED:20260312T182321Z
UID:11340-1773504000-1773518400@harpethhotel.com
SUMMARY:Spring Nights Patio Lights
DESCRIPTION:Our Spring Nights Patio Lights event brings us live music from Mary Lou Lackey and a special grilled burger menu featuring: \n• The Big Burger\n• Bacon Cheeseburger\n• 130 Veggie Burger \nEach burger comes with 2 sides included. \nTeachers and their families receive a 50% discount on all food menu items! Don’t forget to stay for FREE ice cream at the Harpeth Ice Cream Social.
URL:https://harpethhotel.com/happenings/spring-nights-patio-lights/
LOCATION:McGavock’s\, 130 2nd Ave N\, Franklin\, TN\, 37064
ATTACH;FMTTYPE=image/webp:https://harpethhotel.com/wp-content/uploads/spring-nights-patio-lights.webp
END:VEVENT
BEGIN:VEVENT
DTSTART;TZID=America/New_York:20260314T190000
DTEND;TZID=America/New_York:20260314T220000
DTSTAMP:20260421T073135
CREATED:20250430T182732Z
LAST-MODIFIED:20260227T224128Z
UID:10436-1773514800-1773525600@harpethhotel.com
SUMMARY:Live in the Lounge feat. Lauren Freebird
DESCRIPTION:Gather around for live music in the 1799 Lounge\, featuring singer-songwriter Lauren Freebird. \nAdmission is free.
URL:https://harpethhotel.com/happenings/live-in-the-lounge-feat-lauren-freebird-mar-14/
LOCATION:1799 Lounge\, 130 2nd Ave N\, Franklin\, TN\, 37064
ATTACH;FMTTYPE=image/webp:https://harpethhotel.com/wp-content/uploads/live-in-the-lounge-lauren-freebird-1799-kitchen-bar-room-franklin-tn.webp
END:VEVENT
BEGIN:VEVENT
DTSTART;TZID=America/New_York:20260315T150000
DTEND;TZID=America/New_York:20260315T170000
DTSTAMP:20260421T073135
CREATED:20260303T162646Z
LAST-MODIFIED:20260303T162646Z
UID:11196-1773586800-1773594000@harpethhotel.com
SUMMARY:Happy Hour
DESCRIPTION:Join us for the best Happy Hour in Franklin! Served every Sunday-Thursday from 3pm-5pm. \nDraft Beer | 6\nWine By the Glass | 9\nCocktail Specials | 9\nBarrel Aged Old Fashioned | 20\nThe Harpeth’s Blend\, an Exclusive Expression by Leiper’s Fork Distillery\, Barrel Aged In-House\, Demerara\, Angostura & Orange \nDiscounted Bar Bites
URL:https://harpethhotel.com/happenings/happy-hour-mar-15/
LOCATION:1799 Bar\, 130 2nd Ave N\, Franklin\, TN\, 37064
ATTACH;FMTTYPE=image/avif:https://harpethhotel.com/wp-content/uploads/happy-hour.avif
END:VEVENT
BEGIN:VEVENT
DTSTART;TZID=America/New_York:20260315T160000
DTEND;TZID=America/New_York:20260315T190000
DTSTAMP:20260421T073135
CREATED:20260227T192707Z
LAST-MODIFIED:20260227T194233Z
UID:11045-1773590400-1773601200@harpethhotel.com
SUMMARY:Live in the Lounge feat. Jim Hayden
DESCRIPTION:Join us for live music in the 1799 Lounge\, featuring Jim Hayden on keyboard and vocals. \nAdmission is free.
URL:https://harpethhotel.com/happenings/live-in-the-lounge-feat-jim-hayden-mar-15/
LOCATION:1799 Lounge\, 130 2nd Ave N\, Franklin\, TN\, 37064
ATTACH;FMTTYPE=image/webp:https://harpethhotel.com/wp-content/uploads/live-in-the-lounge-jim-hayden-1799-kitchen-bar-room-franklin-tn.webp
END:VEVENT
BEGIN:VEVENT
DTSTART;TZID=America/New_York:20260316T150000
DTEND;TZID=America/New_York:20260316T170000
DTSTAMP:20260421T073135
CREATED:20260303T162815Z
LAST-MODIFIED:20260303T162815Z
UID:11201-1773673200-1773680400@harpethhotel.com
SUMMARY:Happy Hour
DESCRIPTION:Join us for the best Happy Hour in Franklin! Served every Sunday-Thursday from 3pm-5pm. \nDraft Beer | 6\nWine By the Glass | 9\nCocktail Specials | 9\nBarrel Aged Old Fashioned | 20\nThe Harpeth’s Blend\, an Exclusive Expression by Leiper’s Fork Distillery\, Barrel Aged In-House\, Demerara\, Angostura & Orange \nDiscounted Bar Bites
URL:https://harpethhotel.com/happenings/happy-hour-mar-16/
LOCATION:1799 Bar\, 130 2nd Ave N\, Franklin\, TN\, 37064
ATTACH;FMTTYPE=image/avif:https://harpethhotel.com/wp-content/uploads/happy-hour.avif
END:VEVENT
BEGIN:VEVENT
DTSTART;TZID=America/New_York:20260316T150000
DTEND;TZID=America/New_York:20260316T220000
DTSTAMP:20260421T073135
CREATED:20260306T160135Z
LAST-MODIFIED:20260306T160135Z
UID:11297-1773673200-1773698400@harpethhotel.com
SUMMARY:Pizza & Pours
DESCRIPTION:Gather with us every Monday from 3 pm to 10 pm for Pizza & Pours featuring 50% off pizzas plus draft beer and wine specials. \n50% Off Pizzas\n\nSpicy Pepperoni | 14.50\nMargherita | 13\n4 Cheese | 12\nBBQ Chicken | 14.50\n\nDraft Beer | 6\nWine By the Glass | 9
URL:https://harpethhotel.com/happenings/pizza-pours-mar-16/
LOCATION:1799 Lounge and Courtyard\, 130 2nd Ave N\, Franklin\, TN\, 37064
ATTACH;FMTTYPE=image/webp:https://harpethhotel.com/wp-content/uploads/pizza-and-pours.webp
END:VEVENT
BEGIN:VEVENT
DTSTART;TZID=America/New_York:20260317T150000
DTEND;TZID=America/New_York:20260317T170000
DTSTAMP:20260421T073135
CREATED:20260303T162852Z
LAST-MODIFIED:20260303T162852Z
UID:11200-1773759600-1773766800@harpethhotel.com
SUMMARY:Happy Hour
DESCRIPTION:Join us for the best Happy Hour in Franklin! Served every Sunday-Thursday from 3pm-5pm. \nDraft Beer | 6\nWine By the Glass | 9\nCocktail Specials | 9\nBarrel Aged Old Fashioned | 20\nThe Harpeth’s Blend\, an Exclusive Expression by Leiper’s Fork Distillery\, Barrel Aged In-House\, Demerara\, Angostura & Orange \nDiscounted Bar Bites
URL:https://harpethhotel.com/happenings/happy-hour-mar-17/
LOCATION:1799 Bar\, 130 2nd Ave N\, Franklin\, TN\, 37064
ATTACH;FMTTYPE=image/avif:https://harpethhotel.com/wp-content/uploads/happy-hour.avif
END:VEVENT
BEGIN:VEVENT
DTSTART;TZID=America/New_York:20260318T150000
DTEND;TZID=America/New_York:20260318T170000
DTSTAMP:20260421T073135
CREATED:20260303T162925Z
LAST-MODIFIED:20260303T162944Z
UID:11199-1773846000-1773853200@harpethhotel.com
SUMMARY:Happy Hour
DESCRIPTION:Join us for the best Happy Hour in Franklin! Served every Sunday-Thursday from 3pm-5pm. \nDraft Beer | 6\nWine By the Glass | 9\nCocktail Specials | 9\nBarrel Aged Old Fashioned | 20\nThe Harpeth’s Blend\, an Exclusive Expression by Leiper’s Fork Distillery\, Barrel Aged In-House\, Demerara\, Angostura & Orange \nDiscounted Bar Bites
URL:https://harpethhotel.com/happenings/happy-hour-mar-18/
LOCATION:1799 Bar\, 130 2nd Ave N\, Franklin\, TN\, 37064
ATTACH;FMTTYPE=image/avif:https://harpethhotel.com/wp-content/uploads/happy-hour.avif
END:VEVENT
BEGIN:VEVENT
DTSTART;TZID=America/New_York:20260318T180000
DTEND;TZID=America/New_York:20260318T220000
DTSTAMP:20260421T073135
CREATED:20260227T205302Z
LAST-MODIFIED:20260303T163509Z
UID:11072-1773856800-1773871200@harpethhotel.com
SUMMARY:Whiskey Wednesday feat. Live Music
DESCRIPTION:Join us every Wednesday from 6pm to close for a celebration of all things whiskey. Featuring live music (6-9pm) and specials on whiskey flights\, our famous Barrel Aged Old Fashioned\, and more! \nBurger & Bourbon | 30\nEnjoy Our Incredible Wagyu Burger and a Pour of One of Our Featured Whiskeys \nBarrel Aged Old Fashioned | 20\nThe Harpeth’s Blend\, an Exclusive Expression by Leiper’s Fork Disillery\, Barrel Aged In-House\, Demerara\, Angostura & Orange \nDiscounted Whiskey Flights
URL:https://harpethhotel.com/happenings/whiskey-wednesday-feat-live-music-18/
LOCATION:1799 Lounge\, 130 2nd Ave N\, Franklin\, TN\, 37064
ATTACH;FMTTYPE=image/avif:https://harpethhotel.com/wp-content/uploads/whiskey-wednesday.avif
END:VEVENT
BEGIN:VEVENT
DTSTART;TZID=America/New_York:20260319T150000
DTEND;TZID=America/New_York:20260319T170000
DTSTAMP:20260421T073135
CREATED:20260303T163027Z
LAST-MODIFIED:20260303T163027Z
UID:11198-1773932400-1773939600@harpethhotel.com
SUMMARY:Happy Hour
DESCRIPTION:Join us for the best Happy Hour in Franklin! Served every Sunday-Thursday from 3pm-5pm. \nDraft Beer | 6\nWine By the Glass | 9\nCocktail Specials | 9\nBarrel Aged Old Fashioned | 20\nThe Harpeth’s Blend\, an Exclusive Expression by Leiper’s Fork Distillery\, Barrel Aged In-House\, Demerara\, Angostura & Orange \nDiscounted Bar Bites
URL:https://harpethhotel.com/happenings/happy-hour-mar-19/
LOCATION:1799 Bar\, 130 2nd Ave N\, Franklin\, TN\, 37064
ATTACH;FMTTYPE=image/avif:https://harpethhotel.com/wp-content/uploads/happy-hour.avif
END:VEVENT
END:VCALENDAR