BEGIN:VCALENDAR
VERSION:2.0
PRODID:-//The Harpeth Hotel - ECPv6.15.20//NONSGML v1.0//EN
CALSCALE:GREGORIAN
METHOD:PUBLISH
X-WR-CALNAME:The Harpeth Hotel
X-ORIGINAL-URL:https://harpethhotel.com
X-WR-CALDESC:Events for The Harpeth Hotel
REFRESH-INTERVAL;VALUE=DURATION:PT1H
X-Robots-Tag:noindex
X-PUBLISHED-TTL:PT1H
BEGIN:VTIMEZONE
TZID:America/New_York
BEGIN:DAYLIGHT
TZOFFSETFROM:-0500
TZOFFSETTO:-0400
TZNAME:EDT
DTSTART:20250309T070000
END:DAYLIGHT
BEGIN:STANDARD
TZOFFSETFROM:-0400
TZOFFSETTO:-0500
TZNAME:EST
DTSTART:20251102T060000
END:STANDARD
BEGIN:DAYLIGHT
TZOFFSETFROM:-0500
TZOFFSETTO:-0400
TZNAME:EDT
DTSTART:20260308T070000
END:DAYLIGHT
BEGIN:STANDARD
TZOFFSETFROM:-0400
TZOFFSETTO:-0500
TZNAME:EST
DTSTART:20261101T060000
END:STANDARD
BEGIN:DAYLIGHT
TZOFFSETFROM:-0500
TZOFFSETTO:-0400
TZNAME:EDT
DTSTART:20270314T070000
END:DAYLIGHT
BEGIN:STANDARD
TZOFFSETFROM:-0400
TZOFFSETTO:-0500
TZNAME:EST
DTSTART:20271107T060000
END:STANDARD
END:VTIMEZONE
BEGIN:VEVENT
DTSTART;TZID=America/New_York:20260506T180000
DTEND;TZID=America/New_York:20260506T220000
DTSTAMP:20260421T090545
CREATED:20260409T033658Z
LAST-MODIFIED:20260409T033658Z
UID:11455-1778090400-1778104800@harpethhotel.com
SUMMARY:Whiskey Wednesday feat. Allie Lamb
DESCRIPTION:Join us every Wednesday from 6 pm to close for a celebration of all things whiskey. Featuring live music (6-9 pm) and specials on whiskey flights\, our famous Barrel Aged Old Fashioned\, and more! \nBurger & Bourbon | 30\nEnjoy Our Incredible Wagyu Burger and a Pour of One of Our Featured Whiskeys \nBarrel Aged Old Fashioned | 20\nThe Harpeth’s Blend\, an Exclusive Expression by Leiper’s Fork Disillery\, Barrel Aged In-House\, Demerara\, Angostura & Orange \nDiscounted Whiskey Flights
URL:https://harpethhotel.com/happenings/whiskey-wednesday-feat-allie-lamb-may-6/
LOCATION:1799 Lounge\, 130 2nd Ave N\, Franklin\, TN\, 37064
ATTACH;FMTTYPE=image/avif:https://harpethhotel.com/wp-content/uploads/whiskey-wednesday.avif
END:VEVENT
END:VCALENDAR